BEGIN:VCALENDAR
VERSION:2.0
PRODID:-//wp-events-plugin.com//7.2.3.1//EN
BEGIN:VEVENT
UID:1228@photorokaj.com
DTSTART;TZID=Europe/Zagreb:20260511T200000
DTEND;TZID=Europe/Zagreb:20260511T234500
DTSTAMP:20260121T063416Z
URL:https://photorokaj.com/events/americki-hip-hop-dvojac-atmosphere-stize
 -u-vintage-industrial-bar-11-svibnja-2026/
SUMMARY:Američki hip-hop dvojac Atmosphere stiže u Vintage Industrial Ba
 r 11. svibnja 2026.
DESCRIPTION:Američki hip-hop dvojac Atmosphere\, jedan od najdugovječnij
 ih sastava nezavisne hip-hop scene\, u sklopu svoje europske turneje stiž
 e i u Zagreb. Koncert će se održati 11. svibnja 2026. godine u Vintage 
 Industrial Baru\, gdje će publika imati priliku doživjeti jedinstvenu en
 ergiju po kojoj je ovaj kultni duo poznat.\n\nAtmosphere dolaze u okviru t
 urneje “Phere and Loathing – The Unamerican Tour 2026”\, a na pozor
 nici će im se pridružiti i posebni gosti Sage Francis te ZooDeVille\,
  koji će nastupiti kao predgrupa i zagrijati atmosferu prije glavnog nast
 upa. Ulaznice za zagrebački koncert u prodaju kreću 23. siječnja u 10
  sati\, a mogu se nabaviti putem sustava Entrio iu Dirty Old Shopu.\n\
 nViše od dva desetljeća Atmosphere uspješno održava iznimno visoku raz
 inu kreativnosti i produkcije\, s impresivnim brojem studijskih albuma\, E
 P-ova i raznih sporednih projekata. Tijekom tog razdoblja izgradili su sna
 žno i prepoznatljivo glazbeno nasljeđe\, stavljajući u središte svog s
 tvaralaštva iskrenost i emotivnu ranjivost. Unatoč stalnom razvoju i eks
 perimentiranju\, nikada ne gube ono po čemu su prepoznatljivi – autenti
 čnost i duboku povezanost s publikom.\n\nSlug (Sean Daley) istaknuo se k
 ao vrhunski pripovjedač i tekstopisac\, čije pjesme često nalikuju osob
 nim ispovijedima i životnim pričama. U svom radu redovito odaje počast 
 reperima i autorima koji su ga inspirirali\, stvarajući most između osob
 nog iskustva i univerzalnih tema. S druge strane\, Ant (Anthony Davis) g
 lazbeni je arhitekt iza prepoznatljivog zvuka Atmospherea – njegov produ
 kcijski stil crpi inspiraciju iz soula\, funka\, rocka i reggaea\, uz sna
 žan utjecaj pionira hip-hop kulture i DJ-inga. Svakim novim izdanjem Atmo
 sphere slušateljima nudi novo glazbeno putovanje koje prati generacije kr
 oz različite faze života.Poseban gost večeri\, Sage Francis\, smatra s
 e jednim od najboljih autora novije rap generacije. Na glazbenu scenu prob
 io se početkom 2000-ih\, surađivao s brojnim istaknutim imenima\, a ujed
 no je i osnivač te vlasnik vlastite izdavačke kuće. Atmosphere na turne
 ji prati glazbenik i snimatelj ZooDeVille.Koncert organizira Dostava zvu
 ka.
ATTACH;FMTTYPE=image/jpeg:https://photorokaj.com/wp-content/uploads/2026/0
 1/89c9e298-c4a5-e35d-de0d-1e68b58f3f7a.jpg
LOCATION:Vintage Industrial Bar\, Savska cesta 160\, Zagreb\, Croatia\, Zag
 reb\, Hrvatska\, 10000\, Hrvatska
X-APPLE-STRUCTURED-LOCATION;VALUE=URI;X-ADDRESS=Savska cesta 160\, Zagreb\,
  Croatia\, Zagreb\, Hrvatska\, 10000\, Hrvatska;X-APPLE-RADIUS=100;X-TITLE
 =Vintage Industrial Bar:geo:0,0
END:VEVENT
BEGIN:VTIMEZONE
TZID:Europe/Zagreb
X-LIC-LOCATION:Europe/Zagreb
BEGIN:DAYLIGHT
DTSTART:20260329T030000
TZOFFSETFROM:+0100
TZOFFSETTO:+0200
TZNAME:CEST
END:DAYLIGHT
END:VTIMEZONE
END:VCALENDAR