BEGIN:VCALENDAR
VERSION:2.0
PRODID:-//wp-events-plugin.com//7.2.3.1//EN
BEGIN:VEVENT
UID:82@photorokaj.com
DTSTART:20250319T180000Z
DTEND:20250319T210000Z
DTSTAMP:20250317T213126Z
URL:https://photorokaj.com/events/art-pop-senzacija-sylvie-kreusch-sredino
 m-ozujka-premijernou-vintageu/
SUMMARY:Art pop senzacija Sylvie Kreusch sredinom ožujka premijernou Vinta
 geu!
DESCRIPTION:https://photorokaj.com/indie-festa-ovu-srijedu-u-vintageu-stizu
 -sylvie-kreusch-i-elias/\n\nJedno od najzapaženijih i najuzbudljivijih im
 ena na europskoj indie sceni\, belgijska kantautorica Sylvie Kreusch\, pre
 mijerno dolazi u Zagreb! Mjesto održavanje ove izuzetne svečanosti je Vi
 ntage Industrial Bar\, a datum je 19. ožujka (srijeda) pa ga blagovremeno
  valja zapisati u pametne mobitele ili crne notese. Ograničeni kontingent
  early bird ulaznica po cijeni od 18 eura dostupan je 31. listopada preko 
 Hangtime ticketinga i u Dirty Old Shopu\, a nakon toga slijedi pretprodajn
 a cijena od 21 euro. Na dan će koštati 24 eura.\n\nInovativna glazba i u
 pečatljivi vizuali Sylvie Kreusch već su privukli pažnju u svjetovima g
 lazbe\, filma i mode. Poznata po svojoj snažnoj\, ekspresivnoj lirici i i
 stančanom osjećaju za kombiniranje eksperimentalnih i pop zvukova\, Kreu
 sch nastavlja očaravati sve veći i veći broj ljudi.\nU posljednjih dese
 t godina\, Sylvie je skrenula pozornost javnosti svirajući u Belgiji s ar
 t rock sastavima Soldier’s Heart i Warhaus\, solo projektom Maartena Dev
 olderea iz benda Balthazar. Nakon što je objavila svoj prvi EP “BADA BI
 NG! BADA BOOM”\, njezina umjetnička vizija potpuno je procvala 2021. go
 dine s objavom njenog hvaljenog albuma “Montbray”.\n\nNa njemu istraž
 uje slomljeno srce s napetošću i dramom špijunskog trilera. Reći da je
  ova belgijska umjetnica sklona dramatizaciji bilo bi\, onako\, blago reč
 eno. Gdje god da se pojavi\, Sylvie ostavlja dojam plamena koji ne prestaj
 e gorjeti. Tijekom promocije spomenutog albuma kretala se pozornicom kao t
 ajanstvena crvenokosa figura\, gotovo poput filmskog lika koji je iznenada
  pronašao put u stvarni svijet.\n\nNo\, nekada davno\, bila je djevojka k
 oja je sanjarila na bakinom tavanu\, očarana kolekcijom starih stripova. 
 Te šarene i fantastične priče bile su njezina ulaznica u čarobni svije
 t\, daleko od svakodnevnih briga. Svaka stranica budi u njoj osjećaj ču
 đenja\, beskrajnih mogućnosti i uzbuđenja. Upravo te intenzivne emocije
  oblikuju nadolazeći album “Comic Trip” koji će svjetlo dana ugledat
 i 8. studenog.\n\nVrijedi istaknuti da je Sylvie surađivala s brandovima 
 kao što su Prada\, Victoria’s Secret i BMW radeći glazbu za njihove pr
 omotivne kampanje. U svakom slučaju radi se o kantautorici čiji rad svak
 ako treba ispoštovati\, a samim time i pohoditi Vintage Industrial Bar 19
 . ožujka.\nhttps://www.sylviekreusch.com/\nhttps://www.facebook.com/sylvi
 ekreusch\nhttps://www.youtube.com/watch?v=h388IMquh6I\nhttps://www.instagr
 am.com/sylviekreusch/\nhttps://open.spotify.com/artist/11T0XSkxSB5KUPTe8P8
 BOl\n\nFb event: https://www.facebook.com/events/882946986690522
ATTACH;FMTTYPE=image/jpeg:https://photorokaj.com/wp-content/uploads/2024/1
 0/a9668ec4-96db-4c37-97d1-94540854b990.webp
LOCATION:Vintage Industrial Bar\, Savska cesta 160\, Zagreb\, Croatia\, Zag
 reb\, Hrvatska\, 10000\, Hrvatska
X-APPLE-STRUCTURED-LOCATION;VALUE=URI;X-ADDRESS=Savska cesta 160\, Zagreb\,
  Croatia\, Zagreb\, Hrvatska\, 10000\, Hrvatska;X-APPLE-RADIUS=100;X-TITLE
 =Vintage Industrial Bar:geo:0,0
END:VEVENT
END:VCALENDAR