BEGIN:VCALENDAR
VERSION:2.0
PRODID:-//wp-events-plugin.com//7.2.3.1//EN
BEGIN:VEVENT
UID:1124@photorokaj.com
DTSTART;TZID=Europe/Zagreb:20260808T200000
DTEND;TZID=Europe/Zagreb:20260808T230000
DTSTAMP:20251125T164421Z
URL:https://photorokaj.com/events/australska-pub-rocknroll-cetvorka-amyl-a
 nd-the-sniffers-premijerno-u-hrvatskoj/
SUMMARY:Australska pub rock’n’roll četvorka Amyl and the Sniffers prem
 ijerno u Hrvatskoj
DESCRIPTION:\n\nŠRC Šalata\, Zagreb // subota\, 8. kolovoza 2026.\n\n \n\
 nZagreb\, 24. studenog 2025. - Amyl and the Sniffers\, australska pub punk
  rock’n’roll četvorka\, premijerno dolazi u naše krajeve na zagreba
 čki stadion Šalata u subotu 8. kolovoza 2026.\n\n \n\nPo mnogima najatra
 ktivniji i najuzbudljiviji live rock band današnjice upravo otvara za AC/
 DC po stadionima na velikoj australskoj turneji\, a u Europu se vraćaju s
 redinom ljeta iduće godinje na kratku turneju po festivalima uz poneki sa
 mostalni nastup. Zagrebački koncert bit će prilika premjerno čuti brz\,
  glasan i energijom nabijen nastup benda koji osvaja svijet svojim bučnim
  i zabavnim rock zvukom.\n\n \n\nAmyl and the Sniffers - "U Should Not Be 
 Doing That"\n\n \n\nhttps://www.youtube.com/watch?v=jCxgUPFVFkA\n \n\n\n\n
 Amyl and the Sniffers jedna su od najuspješnijih australskih glazbenih pr
 iča\, a kaotični garažni rock band koji je brusio zanat u pubovima Melb
 ournea novi su miljenici glazbene scene. Bend čine pjevačica Amy Taylor\
 , gitarist Dec Martens\, basist Gus Romer i bubnjar Bryce Wilson. Ono što
  je počelo 2016. u kući u Melbourneu\, kada su u samo 12 sati napisali\,
  snimili i objavili svoj prvi EP\, preraslo je u novu globalnu senzaciju. 
 Vole ih legendarni rock bendovi\, njihovu glazbu uspoređuju s onom Iggy P
 opa ili Stoogesa\, a bend svojim live nastupima nabijenima sirovom energij
 om i direktnim stihovima kojima ukazuju na određene situacije munjevitom 
 brzinom osvajaju globalnu scenu.\n\n \n\nAmyl and The Sniffers - Live at S
 idney Myer Music Bowl 2025\n\n \n\nhttps://www.youtube.com/watch?v=S1sUGXK
 AUvw\n \n\n&nbsp\;\n\n \n\nUz hvaljeni istoimeni debi koji je osvojio nagr
 adu za najbolji rock album te pohvale medija poput Pitchforka i NME-a\, us
 lijedilo je izdanje “Comfort To Me” sa singlovima poput "Guided by Ang
 els" ili “Security”. Bend je za to vrijeme postigao izvanredan uspjeh.
  Horde fanova prate ih po svijetu na rasprodani turnejama\, dvoranama po E
 uropi\, sjevernoj Americi\, nastupima od Meksika\, preko Indije do Japana.
  Od manjih klupskih nastupa do velikih pozornica\, bend je redovita pojava
  i na festivalima kao što su Primavera\, Glastonbury\, Coachella\, Green 
 Man\, nastupajući uz imena poput  Green Day ili Foo Fighters.\n\n \n\nNo
 vi album “Cartoon Darkness” priča o klimatskoj krizi\, ratovima i umj
 etnoj inteligenciji\, dotičući se i politike\, i činjenici da\, kako ka
 žu\, djeci se daju informacije na žličicu\, a svi se pasivno šopamo st
 varima koje nam odvraćaju pažnju i ne daju sreću. Na nedavnim ARIA nagr
 adama na domaćem terenu su dominirali s osvojenim nagradama za onu poput 
 albuma godine i najboljeg rock albuma. The Guardian ih naziva najuzbudljiv
 iji rock’n’roll bendom zadnjih godina\, New Yorker kaže da publiku os
 tavljaju bez teksta\, a Pitchfork da su jednostavno sirova\, nepolirana ro
 ck zabava.\n\n \n\nAmyl and the Sniffers - “Guided by Angels”\n\n \n\n
 https://www.youtube.com/watch?v=Z--D1flPLnk&amp\;list=RDZ--D1flPLnk&amp\;s
 tart_radio=1\n \n\nU gotovo desetljeće otkada su izniknuli iz pub rock sc
 ene Melbournea\, Amyl and the Sniffers ostali su svoji\, usavršili balans
  moćne\, glasne glazbe i zaigranosti te postali jedan od najprepoznatljiv
 ijih mladih rock bendova na svijetu. Njihov brz\, glasan i zabavan rock or
 it će se Šalatom idućeg ljeta.\n\n \n\nUlaznice za zagrebački koncert 
 u prodaju idu u petak\, 28. studenog\, u 10:00 sati kroz sustav CoreEvent\
 , a fizičke ulaznice će biti dostupne u Dirty Old Shopu\, Rockmarku i Da
 llas Music Shopu u Rijeci. Cijena ulaznica bit će 37 eura.\n\n \n\nKako j
 e bilo u Luxembourgu mogli ste pročitat kod nas !\n\n \n\nhttps://photoro
 kaj.com/amyl-and-the-sniffers/\n \n\n&nbsp\;\n\n 
ATTACH;FMTTYPE=image/jpeg:https://photorokaj.com/wp-content/uploads/2025/1
 1/e_0HzDtg-scaled.jpeg
LOCATION:ŠRC Šalata\, Schlosserove Stube 2\, Zagreb\, Hrvatska\, 100000\,
  Hrvatska
X-APPLE-STRUCTURED-LOCATION;VALUE=URI;X-ADDRESS=Schlosserove Stube 2\, Zagr
 eb\, Hrvatska\, 100000\, Hrvatska;X-APPLE-RADIUS=100;X-TITLE=ŠRC Šalata:
 geo:0,0
END:VEVENT
BEGIN:VTIMEZONE
TZID:Europe/Zagreb
X-LIC-LOCATION:Europe/Zagreb
BEGIN:DAYLIGHT
DTSTART:20260329T030000
TZOFFSETFROM:+0100
TZOFFSETTO:+0200
TZNAME:CEST
END:DAYLIGHT
END:VTIMEZONE
END:VCALENDAR