BEGIN:VCALENDAR
VERSION:2.0
PRODID:-//wp-events-plugin.com//7.2.3.1//EN
BEGIN:VEVENT
UID:1363@photorokaj.com
DTSTART;TZID=Europe/Zagreb:20261017T200000
DTEND;TZID=Europe/Zagreb:20261017T230000
DTSTAMP:20260404T141035Z
URL:https://photorokaj.com/events/bajaga-instruktori-u-koprivnici/
SUMMARY:BAJAGA & INSTRUKTORI u Koprivnici
DESCRIPTION:Bajaga i Instruktori spremaju veliki koncert u Koprivnici!\n\nB
 ajaga i Instruktori stižu 17. listopada 2026. u Športsku dvoranu Srednje
  škole Koprivnica\, gdje će publici prirediti večer posvećenu pjesmama
  koje su obilježile generacije diljem regije.\n\nPriča o bendu u formi k
 akvu danas poznajemo započinje 1984. godine\, objavom albuma Pozitivna ge
 ografija\, izdanja koje je ubrzo steklo kultni status i postavilo temelje 
 njihove karijere. Prepoznatljiv spoj toplih melodija\, pamtljivih refrena 
 i sugestivnih tekstova brzo je osvojio publiku\, učvrstivši njihov statu
 s jednog od najvažnijih pop-rock sastava na prostoru bivše Jugoslavije.\
 n\nU godinama koje su uslijedile nizali su se ključni albumi - Sa druge s
 trane jastuka\, Jahači magle\, Prodavnica tajni\, Muzika na struju\, Od b
 ižuterije do ćilibara\, Zmaj od Noćaja i Daljina\, dim i prašina. Iz t
 ih izdanja proizašli su brojni bezvremenski hitovi koji i danas imaju pos
 ebno mjesto na koncertnim set-listama.\n\n„Tišina“\n\nGodine 2024. i 
 2025. protekle su u znaku velikog jubileja - 40 godina od objave prvog alb
 uma i početaka koncertnih aktivnosti. Obljetnicu su označili brojnim kon
 certima u Hrvatskoj\, ali i cijeloj regiji\, iz kojih možemo izdvojiti on
 aj u zagrebačkoj Areni 2024. te dvije rasprodane Tvornice\, čime su doda
 tno potvrdili trajni utjecaj koji imaju na regionalnoj glazbenoj sceni. Ti
 jekom karijere primili su brojna priznanja i nagrade struke i publike\, a 
 njihov autorski opus redovito se uvrštava među najvažnije u povijesti d
 omaćeg rocka.\n\nBend ne ostaje imun niti na suvremene glazbene trendove.
  Krajem prošle godine\, Bajaga  je ostvario suradnju s Devitom na pjesmi
  „Astronaut“\, koja na originalan način spaja rock i urbani zvuk\, pr
 ivlačeći novu publiku bez odricanja od autentičnog izraza\, a do danas 
 ima gotovo 4 milijuna pregleda.\n\nKoprivnička publika 17. listopada mož
 e očekivati presjek karijere ispunjen hitovima poput „Zažmuri“\, „
 Kad hodaš“\, „Tišina“\, „Plavi safir“\, „Moji drugovi“ i j
 oš mnoge druge\, koje su desetljećima nezaobilazan dio koncertnog repert
 oara.\n\n„Astronaut“\n\nSvoje ulaznice osiguraj na vrijeme! Ulaz u dvo
 ranu bit će od 20 h\, a početak koncerta se očekuje u 21h.\n\nUlaznice 
 za koncert dostupne su putem Entrio sustava po cijeni od : eraly bird – 
 25 eura\, regular 30 eura te na dan koncerta po cijeni od 35 eura.\n\nLink
  na ulaznice : https://www.entrio.hr/event/bajaga-instruktori-live-31367
ATTACH;FMTTYPE=image/jpeg:https://photorokaj.com/wp-content/uploads/2026/0
 4/bajaga-17_10_26-ig-square_res.jpg
LOCATION:Srednja škola Koprivnica\, KOprivnica\, Koprivnica\, Hrvatska\, H
 rvatska
X-APPLE-STRUCTURED-LOCATION;VALUE=URI;X-ADDRESS=KOprivnica\, Koprivnica\, H
 rvatska\, Hrvatska;X-APPLE-RADIUS=100;X-TITLE=Srednja škola Koprivnica:ge
 o:0,0
END:VEVENT
BEGIN:VTIMEZONE
TZID:Europe/Zagreb
X-LIC-LOCATION:Europe/Zagreb
BEGIN:DAYLIGHT
DTSTART:20260329T030000
TZOFFSETFROM:+0100
TZOFFSETTO:+0200
TZNAME:CEST
END:DAYLIGHT
END:VTIMEZONE
END:VCALENDAR