BEGIN:VCALENDAR
VERSION:2.0
PRODID:-//wp-events-plugin.com//7.2.3.1//EN
BEGIN:VEVENT
UID:1226@photorokaj.com
DTSTART;TZID=Europe/Zagreb:20260626T170000
DTEND;TZID=Europe/Zagreb:20260626T234500
DTSTAMP:20260121T062539Z
URL:https://photorokaj.com/events/black-eyed-peas-dolaze-na-lollipop/
SUMMARY:Black Eyed Peas dolaze na Lollipop
DESCRIPTION:\n\nOvog lipnja pripremite se za pravi spektakl jer Lollipop na
  jezero Bundek dovodi globalne pop ikone i dobitnike brojnih Grammy nagrad
 a. Black Eyed Peas stižu u Zagreb s energijom koja je definirala generaci
 je.\n\n \n\nPo prvi put u Zagrebu legende koje stoje iza hitova I Gotta Fe
 eling\, Pump It\, My Humps i Shut Up preuzimaju grad. Ove pjesme obilježi
 le su naše najbolje izlaske a sada ih imamo priliku čuti uživo na otvor
 enom.\n\n \n\nOrganizatori pripremaju potpuni Lollipop doživljaj koji ukl
 jučuje ljetnu energiju\, interaktivne zone i brojna iznenađenja. Očekuj
 e se publika koja će bez zadrške pjevati svaki stih od početka do kraja
 .\n\n \n\nKoncert će se održati u petak 26. lipnja s početkom u 17 sati
  na zagrebačkom Bundeku. Ulaznice su dostupne putem sustava Entrio a za r
 ezervacije stolova i dodatne upite moguće je kontaktirati organizatore pu
 tem službene e-mail adrese ili društvenih mreža.\n\n \n\nOvo je noć u 
 kojoj ćemo zajedno plesati i pjevati stoga osigurajte svoje mjesto na vri
 jeme.\n\n
ATTACH;FMTTYPE=image/jpeg:https://photorokaj.com/wp-content/uploads/2026/0
 1/29022_marketing_banner_1522x682_1768827471.png
END:VEVENT
BEGIN:VTIMEZONE
TZID:Europe/Zagreb
X-LIC-LOCATION:Europe/Zagreb
BEGIN:DAYLIGHT
DTSTART:20260329T030000
TZOFFSETFROM:+0100
TZOFFSETTO:+0200
TZNAME:CEST
END:DAYLIGHT
END:VTIMEZONE
END:VCALENDAR