BEGIN:VCALENDAR
VERSION:2.0
PRODID:-//wp-events-plugin.com//7.2.3.1//EN
BEGIN:VEVENT
UID:492@photorokaj.com
DTSTART;TZID=Europe/Zagreb:20250322T210000
DTEND;TZID=Europe/Zagreb:20250322T230000
DTSTAMP:20250316T142131Z
URL:https://photorokaj.com/events/bujo-x-yung-bude-mystery-dungeon-3-u-sax
 -u/
SUMMARY:BUJO x YUNG BUDE: MYSTERY DUNGEON 3 U SAX-U
DESCRIPTION:\n\nChillamo na maksić\, 22.3. u Saxu!\n\n \n\npretprodaja 9
 €\nna dan koncerta 13€\n\n \n\nonline: @core_event\nfizičke ulaznice:
 \n@dirtyoldshop\n@dritobar\n\n \n\n16+\n\n
ATTACH;FMTTYPE=image/jpeg:https://photorokaj.com/wp-content/uploads/2025/0
 3/482326352_1200291542102084_7193120030410294245_n.jpg
LOCATION:SAX! - KLUB HRVATSKIH GLAZBENIKA\, Palmotićeva 22/2\, Zagreb\, Hr
 vatska\, 10000\, Hrvatska
X-APPLE-STRUCTURED-LOCATION;VALUE=URI;X-ADDRESS=Palmotićeva 22/2\, Zagreb\
 , Hrvatska\, 10000\, Hrvatska;X-APPLE-RADIUS=100;X-TITLE=SAX! - KLUB HRVAT
 SKIH GLAZBENIKA:geo:0,0
END:VEVENT
BEGIN:VTIMEZONE
TZID:Europe/Zagreb
X-LIC-LOCATION:Europe/Zagreb
BEGIN:STANDARD
DTSTART:20241027T020000
TZOFFSETFROM:+0200
TZOFFSETTO:+0100
TZNAME:CET
END:STANDARD
END:VTIMEZONE
END:VCALENDAR