BEGIN:VCALENDAR
VERSION:2.0
PRODID:-//wp-events-plugin.com//7.2.3.1//EN
BEGIN:VEVENT
UID:1357@photorokaj.com
DTSTART;TZID=Europe/Zagreb:20260704T200000
DTEND;TZID=Europe/Zagreb:20260704T230000
DTSTAMP:20260403T071608Z
URL:https://photorokaj.com/events/dead-bob-iliti-ex-nomeansno-u-novom-poho
 du/
SUMMARY:Dead Bob\, iliti ex NoMeansNo\, u novom pohodu!
DESCRIPTION:Primarius craft pivovara\n04.07.2026. 20:00h 15/18/22€\n\nJoh
 n Wright nije samo bubnjar. On je legenda podzemne scene\, kanadski kreati
 vni tornado koji više od četiri desetljeća oblikuje zvuk punk rocka. Ro
 đen 23. veljače 1962. u Victoria\, British Columbia\, Wright je najpozna
 tiji kao bubnjar\, klavijaturist i vokal kultnog progresivnog punk benda N
 oMeansNo\, grupe koja je redefinirala žanr i utjecala na generacije glazb
 enika širom svijeta.\n\nNoMeansNo\, formiran 1979. godine s njegovim brat
 om Robom\, bio je simbol sirove energije i nekonvencionalnog pristupa glaz
 bi. Punk je ovdje spojen s jazzom\, progresivom i eksperimentalnim aranžm
 anima. Iako nikada nije bio mainstream\, bend je stekao posvećenu publiku
  i ostavio trajnu ostavštinu u underground rocku.\n\nNakon što je NoMean
 sNo završio svoj dugogodišnji put\, Wright nastavlja neumorno. U 2023. g
 odini pokreće Dead Bob\, projekt koji kanalizira njegovu sirovu energiju\
 , iskrenost i neukrotivi ritam. Life Like\, debitantski album Dead Boba\, 
 nastao je u suradnji s dugogodišnjim prijateljima i suradnicima\, uključ
 ujući Byron Slacka\, Kristy Lee Audette\, Ford Piera i druge\, uz dvije p
 jesme napisane s bratom Robom\, spoj korijena i modernog žara.\n\nOvog lj
 eta Dead Bob ide na svoju drugu europsku turneju\, a ovo je prilika da se 
 ljeto začini krajnje neobičnim koncertom u prostoru koji se polako afirm
 ira kao oaza za sve koji traže drugačiji zvuk.\n\nNjegovo bubnjarsko umi
 jeće navodilo se kao inspiracija za nekoliko istaknutih udarača\, uklju
 čujući Davea Grohla iz Nirvane i Foo Fighters\, Tre Coola iz Green Daya 
 i Tima Solyana iz Victims Family.\n\nWright je dodatno naglašavao bubnjar
 sku izvedbu u live nastupima tako što bubnjarsku garnituru nije postavlja
 o uobičajeno prema stražnjem dijelu pozornice\, nego bliže prednjem dij
 elu\, kako bi publika mogla vidjeti bubnjara iz bočnog kuta.\n\nDead Bob 
 nije za slušanje tiho. To je manifestacija kreativne energije koja udara 
 direktno u srce\, sirov ritam koji se ne kontrolira i gitare koje režu ti
 šinu. Wrightova tehnika bubnjanja spaja jazz\, punk i rock u eksplozivnu 
 cjelinu\, dok njegova sposobnost da kroz više instrumenata gradi zvuk či
 ni Dead Bob iskustvom koje se ne zaboravlja.\n\nČekaju vas izvedbe autors
 kih hitova\, pa red NoMeansNo i Hanson Brothers te svega u čemu je ovaj r
 adoholičar pronašao smisao. Nije ga dugo bilo u Zagrebu\, pa pozdravimo 
 njegov povratak u projektu koji sačinjavaju glazbenici iz ključnih bendo
 va punk i hardcore scene poput D.O.A.\, Invasives i drugih.\n\nAko traži
 š sigurnost i poznato\, ovdje je nema. Ako tražiš energiju\, iskrenost 
 i kaos\, Dead Bob je tu da udari!\n\n&nbsp\;\n\n▬▬▬\n\n&nbsp\;\n\n&n
 bsp\;\n\nFacebook event: https://fb.me/e/6lcDbmd8a\n\nUlaznice: https://bi
 t.ly/4v3nBCF\n\n&nbsp\;\n\nPišite nam na manifest.crnila@gmail.com ukolik
 o želite press akreditacije!\n\n&nbsp\;\n\nOrganizacija:\n \n\nhttps://ww
 w.facebook.com/manifest.crnila\n\nhttps://www.instagram.com/crnilo_booking
 \n\nhttps://www.tiktok.com/crnilo.booking\n\nPrimarus:\nhttps://www.facebo
 ok.com/primariuscraftbrewery/\n\n&nbsp\;\n\n
ATTACH;FMTTYPE=image/jpeg:https://photorokaj.com/wp-content/uploads/2026/0
 4/Plakat.jpg
LOCATION:PRIMARIUS CRAFT PIVOVARA\, Slavonska Avenija 3b\, Zagreb\, Hrvatsk
 a\, 10000\, Hrvatska
X-APPLE-STRUCTURED-LOCATION;VALUE=URI;X-ADDRESS=Slavonska Avenija 3b\, Zagr
 eb\, Hrvatska\, 10000\, Hrvatska;X-APPLE-RADIUS=100;X-TITLE=PRIMARIUS CRAF
 T PIVOVARA:geo:0,0
END:VEVENT
BEGIN:VTIMEZONE
TZID:Europe/Zagreb
X-LIC-LOCATION:Europe/Zagreb
BEGIN:DAYLIGHT
DTSTART:20260329T030000
TZOFFSETFROM:+0100
TZOFFSETTO:+0200
TZNAME:CEST
END:DAYLIGHT
END:VTIMEZONE
END:VCALENDAR