BEGIN:VCALENDAR
VERSION:2.0
PRODID:-//wp-events-plugin.com//7.2.3.1//EN
BEGIN:VEVENT
UID:592@photorokaj.com
DTSTART;TZID=Europe/Zagreb:20250503T220000
DTEND;TZID=Europe/Zagreb:20250503T235900
DTSTAMP:20250429T191553Z
URL:https://photorokaj.com/events/dj-battles-w-iskrrq-kamelot/
SUMMARY:DJ Battles w/ Iskrrq & Kamelot
DESCRIPTION:\n\nSubota\, 3.5.2025./ 22:00\n\n \n\nPrvo izdanje DJ battlesa
  u organizaciji Prirode i društva očekuje nas u subotu\, 3. 5.\, u klu
 bu DVA OSAM!\n\n \n\nDJ-evi Kamelot i Iskrrq će vas prije same borbe 
 zagrijati s malo energetične elektronike i techna\, nakon čega slijedi g
 lavno događanje večeri.\n\n \n\nDJ battleove otvaraju SPORTFOCU$ i OP
 4T\, nakon kojih će se battleati dva DJ-a iznenađenja\, o čemu više us
 koro!\n\n \n\nNaravno party nikad nije gotov\, za zatvaranje će vas razbu
 diti ZYTC.\n\n \n\n• • • • • \n\n \n\nCijena ulaznice:\n\n \n\
 n  • 6\,00 € u pretprodaji\n  • 8\,00 € na ulazu u klub\n  
 • 5\,00 € za studente\, uz predočenje X-ice\, na ulazu u klub\n\n \n
 \nOsim putem interneta\, ulaznice se mogu kupiti u dućanu ploča PDV\, n
 a prvom katu Pločnika\, u Međimurskoj ulici 21 u Zagrebu.\n\n
ATTACH;FMTTYPE=image/jpeg:https://photorokaj.com/wp-content/uploads/2025/0
 4/281059e7-e6ae-4653-a2ec-e1d91fc0a15f_1200_1200_WIDTH.webp
LOCATION:DVA OSAM\, Jabukovac 28\, Zagreb\, Hrvatska\, 10000\, Hrvatska
X-APPLE-STRUCTURED-LOCATION;VALUE=URI;X-ADDRESS=Jabukovac 28\, Zagreb\, Hrv
 atska\, 10000\, Hrvatska;X-APPLE-RADIUS=100;X-TITLE=DVA OSAM:geo:0,0
END:VEVENT
BEGIN:VTIMEZONE
TZID:Europe/Zagreb
X-LIC-LOCATION:Europe/Zagreb
BEGIN:DAYLIGHT
DTSTART:20250330T030000
TZOFFSETFROM:+0100
TZOFFSETTO:+0200
TZNAME:CEST
END:DAYLIGHT
END:VTIMEZONE
END:VCALENDAR