BEGIN:VCALENDAR
VERSION:2.0
PRODID:-//wp-events-plugin.com//7.2.3.1//EN
BEGIN:VEVENT
UID:604@photorokaj.com
DTSTART;TZID=Europe/Zagreb:20250516T200000
DTEND;TZID=Europe/Zagreb:20250516T230000
DTSTAMP:20250505T193347Z
URL:https://photorokaj.com/events/drugi-nacin-u-melinu/
SUMMARY:Drugi Način u Melinu
DESCRIPTION:16.5.2025./ Drugi Način u Melinu/ Kožarska ulica 19/ ulaz 20h
 / koncert 21h/ ulaz 10e\nMELIN PRESENTS! DRUGI NAČIN U MELINU!!!\n16.5.20
 25. u goste dolazi nam legendarni zagrebački sastav Drugi Način osnovan 
 izdanjem 1og albuma još 1975.. Synfo-rock obilježio je početni zvuk ovo
 g benda a zabilježili su se kao jedan od najuspješnijih progresivnih roc
 k bendova tog vremena.\nDrugi način – (PGP RTB\, 1975.)\nPonovno na put
 u – (Suzy\, 1982.)\nDrugi način – (Croatia Records\, LP 1992.\, CD 19
 94.)\n(2 on 1) Drugi način: Drugi način (1975) + Nepočin: Svijet po koj
 em gazim (1977.) (PGP RTS/Tapped Pictures\, 1999.)\nZgubidan – (Menart\,
  2016.)
ATTACH;FMTTYPE=image/jpeg:https://photorokaj.com/wp-content/uploads/2025/0
 5/image-12.png
LOCATION:MELIN\, Kožarska ulica 19\, Zagreb\, Hrvatska\, 10000\, Hrvatska
X-APPLE-STRUCTURED-LOCATION;VALUE=URI;X-ADDRESS=Kožarska ulica 19\, Zagreb
 \, Hrvatska\, 10000\, Hrvatska;X-APPLE-RADIUS=100;X-TITLE=MELIN:geo:0,0
END:VEVENT
BEGIN:VTIMEZONE
TZID:Europe/Zagreb
X-LIC-LOCATION:Europe/Zagreb
BEGIN:DAYLIGHT
DTSTART:20250330T030000
TZOFFSETFROM:+0100
TZOFFSETTO:+0200
TZNAME:CEST
END:DAYLIGHT
END:VTIMEZONE
END:VCALENDAR