BEGIN:VCALENDAR
VERSION:2.0
PRODID:-//wp-events-plugin.com//7.2.3.1//EN
BEGIN:VEVENT
UID:1331@photorokaj.com
DTSTART;TZID=Europe/Zagreb:20261024T200000
DTEND;TZID=Europe/Zagreb:20261024T234500
DTSTAMP:20260320T064311Z
URL:https://photorokaj.com/events/fink-objavljuje-novi-album-i-dolazi-u-za
 greb-klub-mocvara/
SUMMARY:Fink objavljuje novi album i dolazi u Zagreb klub Močvara
DESCRIPTION:Zagreb // subota\, 24. listopada 2026.\n\n&nbsp\;\n\nZagreb\, 1
 6. ožujka 2026. – Sjajni engleski pjevač\, tekstopisac\, gitarist i pr
 oducent Fink dolazi s bendom u zagrebačku Močvaru u subotu\, 24. listopa
 da 2026.\n\nNastup se događa u sklopu turneje i objave novog albuma “Th
 e City Is Coming to Erase It All”\, a deveti album bit će objavljen u l
 ipnju ove godine. Stvarajući intimnu atmosferu uz soul vokale\, emotivni 
 nastup\, kombinaciju folka\, bluesa i rocka\, ali i utjecaj elektroničke 
 glazbe\, Fink donosi jedinstveno koncertno iskustvo u Zagreb.\n\n&nbsp\;\n
 \nFink - “Looking Too Closely”\n\nRazvijajući svoj zvuk\, Fink postaj
 e poznat po emotivno dinamičnim pjesmama\, a vještina produkcije i pisan
 ja stihova dovela ga je do suradnji s imenima poput Johna Legenda\, Banks\
 , Bonobo kao i Amy Winehouse. Njegov nepogrešivi glas i sjajna glazba mog
 u se čuti u soundtrackovima filmova i serija poput “Selma”\, “12 ye
 ars A Slave” ili “Better Call Saul”. Remiksirali su ga imena poput C
 olina Stetsona i Ricarda Villalobosa\, sam producira glazbu ili surađuje 
 s producentima glazbenika poput U2 ili Killersa\, a karijera mu traje goto
 vo tri desetljeća.\n\nFink - “This Is The Thing”\n\n&nbsp\;\n\nFink j
 e počeo kao downtempo/trip-hop projekt DJ-a i glazbenika Fina Greenalla k
 oji je od 90-ih izdavao za Ninja Tune etiketu\, za koju je 2000. izbacio s
 jajan debi “Fresh Produce”. No radovi koje je potpisivao kao Fink pola
 gano su prerasli akustični\, blues i folk smjer kao i puni autorski bend 
 koji uz njega čine Tim Thornton na bubnjevima i Guy Whittaker na basu. Sj
 ajan debi “Biscuits For Breakfast” iz 2006. naslijedio je “Sort Of R
 evolution”\, kao i “Perfect Darkness” iz 2011. kojeg je producirao B
 illy Bush\, poznat po radu s Beckom i grupom Garbage. Nakon toga je došao
  poziv za nastup s Royal Concertgebouw Orchestra u Amsterdamu\, što je ob
 javljeno i kao live album.\n\nFink - "Memorise Your Senses"\n\nFink je jo
 š jednom zacementirao svoje ime među glazbenim velikanima 2014. s albumo
 m “Hard Believer” s kojeg je skinut singl “Looking Too Closely” ka
 o i blues uratkom “Fink’s Sunday Night Blues Club\, Vol. 1”. Neprest
 ano diskografski aktivan Fink objavljuje albume “Resurgam”\, “Bloom 
 Innocent”\, kao i “Beauty In Your Wake” koji je bio prvi objavljen i
 zvan velike glazbene kuće\, a završio je na vrhovima UK ljestvica albuma
 .\n\nNovi album “The City Is Coming to Erase It All” istražuje album 
 kao formu\, cjelinu koja je priča od početka do kraja slušanja\, a bit 
 će objavljen 5. lipnja 2026. Prvi uvid u nadolazeći materijal je singl 
 “Memorise Your Senses”.\n\nKroz godine djelovanja i turneje po cijelom
  svijetu\, od Kine preko Australije do Indije\, Fink je stvorio globalnu f
 an bazu\, dok po Europi i na domaćem terenu redovito nastupa kao headline
 r na kultnim mjestima. U Zagreb dolazi u sklopu turneje povodom objave nov
 og albuma.\n\n \n\nUlaznice su u po cijeni od 25 eura u prodaju kreću u 
 petak\, 20. ožujka u 11:00\, a dostupne će biti u sustavu Core Event\, t
 e u Dirty Old Shopu i Rockmarku.
ATTACH;FMTTYPE=image/jpeg:https://photorokaj.com/wp-content/uploads/2026/0
 3/HJ0eYERC.jpeg
LOCATION:Klub Močvara\, Trnjanska struga 34\,\, Zagreb\, Hrvatska\, 10000\
 , Hrvatska
X-APPLE-STRUCTURED-LOCATION;VALUE=URI;X-ADDRESS=Trnjanska struga 34\,\, Zag
 reb\, Hrvatska\, 10000\, Hrvatska;X-APPLE-RADIUS=100;X-TITLE=Klub Močvara
 :geo:0,0
END:VEVENT
BEGIN:VTIMEZONE
TZID:Europe/Zagreb
X-LIC-LOCATION:Europe/Zagreb
BEGIN:DAYLIGHT
DTSTART:20260329T030000
TZOFFSETFROM:+0100
TZOFFSETTO:+0200
TZNAME:CEST
END:DAYLIGHT
END:VTIMEZONE
END:VCALENDAR