BEGIN:VCALENDAR
VERSION:2.0
PRODID:-//wp-events-plugin.com//7.2.3.1//EN
BEGIN:VEVENT
UID:1278@photorokaj.com
DTSTART;TZID=Europe/Zagreb:20260423T200000
DTEND;TZID=Europe/Zagreb:20260423T230000
DTSTAMP:20260216T214745Z
URL:https://photorokaj.com/events/grave-digger-times-of-war-30-years-anniv
 ersary-set/
SUMMARY:GRAVE DIGGER - Times of War 30 years anniversary set
DESCRIPTION:\n\n@ boogaloo\n\n \n\nU četvrtak 23.04. na ekskluzivni koncer
 t u Hard Place trebali su stići legendarni GRAVE DIGGER u sklopu turneje 
 "Tunes of war" 30th anniversary. Kako su sve ulaznice rasprodane u rekordn
 om roku (više od dva mjeseca prije koncerta) odlučeno je da se koncert p
 remjesti u veći prostor kako bi svi fanovi ovog sjajnog metal banda mogli
  pogledati ovaj metal spektakl. Tako će se koncert održati u klubu Booga
 loo. Sve ulaznice kupljene za Hard Place važe za Boogaloo\, a pridodane s
 u i tri predgrupe kako bi koncert bio još spektakulariniji - Power Surge\
 , Silly Crew of Drunken Kids i Crystallion.\n\n \n\nUlaznice su po cijeni 
 od 30 €\, a na dan koncerta 35 €.\n\n
ATTACH;FMTTYPE=image/jpeg:https://photorokaj.com/wp-content/uploads/2026/0
 2/98069950-4cee-1aa1-0c62-382702dcfef1.jpg
LOCATION:Boogaloo\, Ulica grada Vukovara 68\, Zagreb\, Hrvatska\, 10000\, H
 rvatska
X-APPLE-STRUCTURED-LOCATION;VALUE=URI;X-ADDRESS=Ulica grada Vukovara 68\, Z
 agreb\, Hrvatska\, 10000\, Hrvatska;X-APPLE-RADIUS=100;X-TITLE=Boogaloo:ge
 o:0,0
END:VEVENT
BEGIN:VTIMEZONE
TZID:Europe/Zagreb
X-LIC-LOCATION:Europe/Zagreb
BEGIN:DAYLIGHT
DTSTART:20260329T030000
TZOFFSETFROM:+0100
TZOFFSETTO:+0200
TZNAME:CEST
END:DAYLIGHT
END:VTIMEZONE
END:VCALENDAR