BEGIN:VCALENDAR
VERSION:2.0
PRODID:-//wp-events-plugin.com//7.2.3.1//EN
BEGIN:VEVENT
UID:1368@photorokaj.com
DTSTART;TZID=Europe/Zagreb:20260522T020000
DTEND;TZID=Europe/Zagreb:20260522T230000
DTSTAMP:20260404T142023Z
URL:https://photorokaj.com/events/grupa-mrfy-zajedno-s-dramom-i-rotormotor
 om-stize-u-zagrebacku-mocvaru/
SUMMARY:Grupa MRFY zajedno s Dramom i RotorMotorom stiže u zagrebačku Mo
 čvaru
DESCRIPTION:Zagreb\, 25. ožujka 2026. – MRFY\, jedan od najuspješnijih 
 slovenskih bendova posljednjih sezona\, stiže u zagrebački klub Močvara
  u petak\, 22. svibnja u društvu beogradskih Dram te slovenskog dua Rotor
 Motor.\n\n \n\nMRFY – „Ljubav“\n\n&nbsp\;\n\nMRFY su indie rock/pop
  fenomen iz Slovenije. Godine 2018. bend je objavio svoj debitantski album
  “Story” s hitom Umru zate”\, uz rasprodani koncert u Kinu Šiška
  u Ljubljani.\nU proljeće 2021. na radijske valove stiže iznimno popular
 ni singl “Zaljubila”. Nakon ljetne turneje po slovenskim pozornicama\
 , zahvalili su svojoj vjernoj bazi fanova pjesmom generacije “Prjatučk
 i” koji je njihov najuspješniji singl do sada\, s više od 850.000 pre
 gleda na YouTubeu.\n\nU proljeće 2022. objavili su treći singl “Angel
 i”\, koji je najavio njihov drugi album “Use”\, premijerno predstav
 ljen na dvjema rasprodanim večerima u Ljubljani. Godina je završila s jo
 š dva ogromna singla: “San Francisco” i “Tobogan”\, te glazben
 im nagradama za izvođača\, album i pjesmu godine u Sloveniji.\n\nMRFU su
  bili nominirani za regionalnu nagradu Milan Mladenović 2023. i ponovno 2
 024. sa singlom u suradnji s Laibachom “Poskočna” te nastupili pred 
 3000 fanova u Media Centru Ljubljana.\n\nGodina 2024. počela je singlom 
 “Future Idols” za Virgin Records Serbia\, zatim singlom “palipali
 ”\, a nastavila se hitovima “Tonemo” i “Helo”. Nakon što su 
 bili headlineri najvećih slovenskih festivala 2023. i 2024.\, u kasnoj 20
 24. su zajedno s Joker Outom svirali u Skopju\, Zagrebu i Beogradu te nast
 upili na Eurosonicu 2025. Treći\, trenutno aktualni\, album “Helo”
  objavljen je u ožujku 2025.\n\n&nbsp\;\n\nGrupa je nedavno objavila sin
 gl "Ljubav"\, njihovu prvu pjesmu na hrvatskom jeziku skinutu s aktualnog 
 albuma „Helo“. „Ljubav“ je pojačan vrlo ambicioznim spotom sniml
 jenim u jednom kadru\, a režirao ga je Andraž Drobnič\, koji djeluje po
 d umjetničkim imenom Karlo Kirri.\n\n&nbsp\;\n\nDram – “Nije sve kao 
 što izgleda”\n\n&nbsp\;\n\nDram\, rock bend iz Beograda\, debitirao je 
 na sceni s albumom Nećemo promijeniti svet u prosincu 2019. godine. Spo
 j nastao iz flerta moćnih gitarskih sekvenci\, vodenih retro sint fraza i
  tri dječačka vokala koji leže preko bombastičnih bas i bubanj dionica
  izdvaja dram kao jednu od najzanimljivijih novih mladih grupa u Srbiji. B
 end je svirao uživo na festivalima kao što su Exit\, Arsenal Fest\, B
 elgrade Beer Fest\, Zagreb Beer Fest\, Beat na Moru te kao predgrupa M
 omčilu Bajagiću Bajagi na njegovom najvećem koncertu u Beogradu 2024. 
 godine.Za singl Daj mi sve bend je u rujnu 2020. osvojio prestižnu nagr
 adu Milan Mladenović\, koju dodjeljuje Zadužbina Milana Mladenovića\, 
 za djelo izuzetne umjetničke vrijednosti. U rujnu 2022. godine bend izdaj
 e drugi studijski album pod nazivom Previše svega\, kolekciju od 11 najp
 atetičnijih\, anksiozno-nezrelih i plesno-depresivnih pop pjesama o draž
 ima i strahovima mladosti\, dok su početkom veljače realizirali svoje tr
 eće izdanje\, albm “Oštro”.\n\n&nbsp\;\n\nRotorMotor je elektroničk
 i glazbeni duo koji djeluje između Maribora i Ljubljane. Njihovi DJ setov
 i su energična fuzija euro trancea\, UKG-a i hard house hitova\, često z
 ačinjena neočekivanim remiksevima vaših omiljenih hitova. Međutim\, nj
 ihova bit ne leži u žanru\, već u intenzivnoj energiji koju unose u sva
 ki nastup. Ono što RotorMotor izdvaja od ostalih je njihova duboka poveza
 nost s publikom. Uživate u njihovoj blizini\, jer uvijek potiču osjećaj
  kolektivnog iskustva na svakom događaju. Luka je uvijek s lijeve strane 
 miksera\, Nejc s desne\, i zajedno stvaraju besprijekornu sinergiju iza DJ
  pulta. Redovito su gosti na festivalima poput Butika i Velveta\, a uč
 vrstili su svoju prepoznatljivost i na međunarodnim pozornicama\, nastupa
 jući na poznatim mjestima poput Mondo Diska u Madridu\, La Jave i L’
 Internationala u Parizu\, Pratersaune i Das Werka u Beču\, Cluba 19
 88u Rennesu\, Šafka u Bratislavi i Kluba Nemo u Rijeci. Međutim\, njihov
 e najupečatljivije večeri su na njihovim vlastitim događajima u legenda
 rnim ljubljanskim klubovima K4 i Gala Hala.\n\n \n\nEarly bird ulaznic
 e po cijeni od 10 Eura u prodaji su u sustavu Entrio. Kad se prodaju cijen
 a se diže na 12 Eura\, dok će za ulaz na dan koncerta trebati izdvojiti 
 16 Eura.\n\n \n\n&nbsp\;
ATTACH;FMTTYPE=image/jpeg:https://photorokaj.com/wp-content/uploads/2026/0
 4/MRFY-02_ByJanPirnat-scaled.jpg
LOCATION:Klub Močvara\, Trnjanska struga 34\,\, Zagreb\, Hrvatska\, 10000\
 , Hrvatska
X-APPLE-STRUCTURED-LOCATION;VALUE=URI;X-ADDRESS=Trnjanska struga 34\,\, Zag
 reb\, Hrvatska\, 10000\, Hrvatska;X-APPLE-RADIUS=100;X-TITLE=Klub Močvara
 :geo:0,0
END:VEVENT
BEGIN:VTIMEZONE
TZID:Europe/Zagreb
X-LIC-LOCATION:Europe/Zagreb
BEGIN:DAYLIGHT
DTSTART:20260329T030000
TZOFFSETFROM:+0100
TZOFFSETTO:+0200
TZNAME:CEST
END:DAYLIGHT
END:VTIMEZONE
END:VCALENDAR