BEGIN:VCALENDAR
VERSION:2.0
PRODID:-//wp-events-plugin.com//7.2.3.1//EN
BEGIN:VEVENT
UID:1355@photorokaj.com
DTSTART;TZID=Europe/Zagreb:20260808T200000
DTEND;TZID=Europe/Zagreb:20260808T230000
DTSTAMP:20260403T070930Z
URL:https://photorokaj.com/events/hip-hop-festival-vraca-se-u-sibenik-na-m
 artinsku-2/
SUMMARY:Hip-hop festival vraća se u Šibenik na Martinsku:
DESCRIPTION:Preach The RIČ otkrio datume\n\nPreach The RIČ Festival naja
 vljuje svoje četvrto izdanje koje će se održati 7. i 8. kolovoza 2026.
  na Martinskoj u Šibeniku. Događanje koje je postalo prava hip-hop oaz
 a i omiljeno okupljalište scene iz cijele zemlje i ovog će ljeta na obal
 e Martinske dovesti najvibrantniji presjek domaćeg (a i šire) hip-hopa.\
 n\nŠibenik je poznat po svojoj bogatoj povijesti hip-hop kulture koja se 
 u tom gradu njeguje desetljećima. Njegovanje te tradicije želja je koja 
 postoji od samog začetka Preach The RIČ Festivala. A već četvrtu godi
 nu zaredom PTR uspješno ostvaruje i svoju središnju ideju – razvoj i p
 odršku domaćoj sceni\, kao i njeno povezivanje s umjetnicima iz cijele r
 egije i šire.\n\n&nbsp\;\n\nBlind ulaznice u prodaji\n\n\nPreach The RIČ
  uskoro će najaviti i prva imena\, a do tada u ponudi su najpovoljnije 
 “Blind” ulaznice po cijeni od 45 eura preko sustava Stereoticket. Kup
 njom festivalske ulaznice\, svi posjetitelji dobivaju i mogućnost besplat
 nog kampiranja na Martinskoj.\n\n
ATTACH;FMTTYPE=image/jpeg:https://photorokaj.com/wp-content/uploads/2026/0
 4/FB-EVENET-FESTIVAL.png
LOCATION:Martinska\, Martinska\, Šibenik\, Hrvatska
X-APPLE-STRUCTURED-LOCATION;VALUE=URI;X-ADDRESS=Martinska\, Šibenik\, Hrva
 tska;X-APPLE-RADIUS=100;X-TITLE=Martinska:geo:0,0
END:VEVENT
BEGIN:VTIMEZONE
TZID:Europe/Zagreb
X-LIC-LOCATION:Europe/Zagreb
BEGIN:DAYLIGHT
DTSTART:20260329T030000
TZOFFSETFROM:+0100
TZOFFSETTO:+0200
TZNAME:CEST
END:DAYLIGHT
END:VTIMEZONE
END:VCALENDAR