BEGIN:VCALENDAR
VERSION:2.0
PRODID:-//wp-events-plugin.com//7.2.3.1//EN
BEGIN:VEVENT
UID:1360@photorokaj.com
DTSTART;TZID=Europe/Zagreb:20260903T200000
DTEND;TZID=Europe/Zagreb:20260903T230000
DTSTAMP:20260404T113648Z
URL:https://photorokaj.com/events/hollywood-vampires-prvi-put-u-hrvatskoj-
 rock-spektakl-u-pulskoj-areni/
SUMMARY:HOLLYWOOD VAMPIRES PRVI PUT U HRVATSKOJ – ROCK SPEKTAKL U PULSKOJ
  ARENI
DESCRIPTION:ALICE COOPER\, JOE PERRY\, JOHNNY DEPP I TOMMY HENRIKSEN\nSTIŽ
 U U PULSKU ARENU 3. RUJNA 2026. GODINE\n\n\n\nPRETPRODAJA ULAZNICA KREĆE 
 U SRIJEDU\, 1. TRAVNJA\n\nGENERALNA PRODAJA OD ČETVRTKA\, 2. TRAVNJA\, U 
 SUSTAVU EVENTIMA!\n\n \n\nPula\, 31. ožujka 2026. – Jedan od najintrig
 antnijih rock projekata današnjice\, Hollywood Vampires\, vraća se na sv
 jetske pozornice nakon tri godine pauze. Alice Cooper\, Joe Perry\, Johnny
  Depp i Tommy Henriksen ponovno će zasvirati zajedno\, a nakon brojnih eu
 ropskih gradova koje će posjetiti u sklopu ljetne turneje\, ova slavna č
 etvorka po prvi put stiže i u Hrvatsku! Veliki rock spektakl održat će 
 se 3. rujna 2026. godine u pulskoj Areni\, a posjetitelje očekuje nezabor
 avna večer puna prave sirove energije\, legendarnih hitova i autentične 
 rock’n’roll atmosfere. Ulaznice su u pretprodaji u srijedu\, 1. travnj
 a od 10 sati i to putem službene stranice izvođača dok će generalna pr
 odaja započeti u četvrtak\, 2. travnja u 10 sati u sustava Eventima.\n\n
 &nbsp\;\n\nHollywood Vampires nisu samo bend – oni su ideja\, ostavštin
 a i energija jedne ere u kojoj su umjetnost\, kaos i sloboda išli ruku po
 d ruku. Ova američka supergrupa koju čine legendarni rocker Vincent Damo
 n Furnier poznatiji pod imenom Alice Cooper\, Joe Perry\, glavni gitarist 
 i tekstopisac hard rock sastava Aerosmith i jedan od najpoznatijih svjetsk
 ih glumaca Johnny Depp\, nastala je 2012. godine kao hommage slavnoj ekipi
  umjetnika iz 70-ih koja je živjela brzo\, glasno i bez kompromisa\, orig
 inalnim “Hollywood Vampiresima”. Debitantski album objavljuju 2015. go
 dine kada im se pridružuje i četvrti član\, gitarist Tommy Henriksen. A
 lbum je okupio impresivnu listu gostiju poput Paula McCartneya\, Davea Gro
 hla\, Slasha\, Briana Johnsona\, Joea Walsha kao i pokojnog Christophera L
 eeja\, a njihov nastup na 58. izdanju nagrade Grammy\, gdje su odali poča
 st Lemmyju Kilmisteru izvedbom “Ace of Spades”\, ostao je upisan kao j
 edan od najupečatljivijih trenutaka suvremenog rocka.\n\n&nbsp\;\n\nEurop
 ska turneja započinje 12. kolovoza u Londonu\, a prije Pule nastupit će 
 i u Cardiffu\, Glasgowu\, Manchesteru\, Birminghamu\, Halifaxu\, Nurnbergu
 \, Parizu\, Koelnu\, Hamburgu\, Milanu\, kao i brojnim drugim gradovima. N
 jihovi su koncerti sirovi\, nepredvidivi i nabijeni emocijom\, upravo onak
 vi kakav rock treba biti.\n\n&nbsp\;\n\nViše informacija o rasporedu turn
 eje i datumima te prodaji ulaznica može se pronaći na njihovoj službeno
 j stranici\, Spotifyju kao i na društvenim mrežama Instagram\, Facebook 
 i X.  Ulaznice za pulski koncert moći će se kupiti u srijedu\, 1. travn
 ja od 10 sati\, u pretprodaji na službenoj stranici izvođača\, dok će 
 službena prodaja započeti u četvrtak\, 2. travnja u 10 sati\, na svim p
 rodajnima mjestima Eventima kao i putem online sustava www.eventim.hr.\n\n
 &nbsp\;\n\nOsim standardnih ulaznica\, najveći obožavatelji ovog rock sa
 stava\, moći će odabrati jedan od tri posebna VIP paketa – VIP 1 WHOLE
  LOTTA LOVE” FIRST TO THE BARRICADE\, koji uključuje najbolja stajaća 
 mjesta\, potpisane memorabilije benda i brojne druge pogodnosti\, VIP 2 
 “MR. SPIDER” SUPERFAN STANDING VIP PACKAGE\, koji omogućuje rani ulaz
 ak u Arenu\, stajaća mjesta\, memorabilije benda I VIP 3 “MR. SPIDER”
  SUPERFAN SEATING VIP PACKAGE\, koji uključuje i najbolja sjedeća mjesta
  u Areni\, brzi ulaz te posebne memorabilije benda.
ATTACH;FMTTYPE=image/jpeg:https://photorokaj.com/wp-content/uploads/2026/0
 4/HV_2026_1920x1080_UPDATED.webp
LOCATION:Arena Pula\, Flavijevska ulica\, Pula\, 52100\, Hrvatska
X-APPLE-STRUCTURED-LOCATION;VALUE=URI;X-ADDRESS=Flavijevska ulica\, Pula\, 
 52100\, Hrvatska;X-APPLE-RADIUS=100;X-TITLE=Arena Pula:geo:0,0
END:VEVENT
BEGIN:VTIMEZONE
TZID:Europe/Zagreb
X-LIC-LOCATION:Europe/Zagreb
BEGIN:DAYLIGHT
DTSTART:20260329T030000
TZOFFSETFROM:+0100
TZOFFSETTO:+0200
TZNAME:CEST
END:DAYLIGHT
END:VTIMEZONE
END:VCALENDAR