BEGIN:VCALENDAR
VERSION:2.0
PRODID:-//wp-events-plugin.com//7.2.3.1//EN
BEGIN:VEVENT
UID:1245@photorokaj.com
DTSTART;TZID=Europe/Zagreb:20260912T200000
DTEND;TZID=Europe/Zagreb:20260912T230000
DTSTAMP:20260129T170232Z
URL:https://photorokaj.com/events/idem-na-stadionu-salata/
SUMMARY:IDEM na stadionu Šalata!
DESCRIPTION:\n\nZagreb\, 28. siječnja 2026. – Posljednji veliki zagreba
 čki koncert ljeta je poznat. Na stadion Šalata u subotu 12. rujna stiže
  IDEM!\n\n\n\n\n\nIDEM – „Potopi ovaj brod“\n\n\n\n\n\nhttps://www.y
 outube.com/watch?v=Xz0zItwtP6s&amp\;list=RDXz0zItwtP6s&amp\;start_radio=1\
 n\n\n\n\nNakon što je bez problema prošle godine rasprodao Tvornicu kult
 ure i Boogaloo dan za danom sljedeća logična stepenica za jednog od najt
 raženijih indie izvođača naše regije je\, dakako\, stadion Šalata. U 
 svega tri godine\, od ideje koja je stvorena da prije svega živi na pozor
 nicama poput one u KSET-u ili Attacku IDEM se bez ikakvog problema\, u dva
  jednostavna koraka\, probio do STADIONA.\n\n\n\n\n\nNe postoji niti jedan
  izvođač naše nezavisne scene kojem je to uspjelo.\n\n\n\n\n\n\n\n\n\nM
 ada je već osjetio kako je nastupati na ovom omiljenom gradskom koncertno
 m prostoru kad je nastupio kao gost Baby Lasagni\, Antun Aleksa će sa svo
 jim bendom u rujnu ove godine po prvi put na Šalati odsvirati samostalan 
 koncert. Tamo su ga dovela dva bedroom indie diy post pop punk smeće drag
 ulja – „POYY“ iz 2023. i „CIAO“ iz 2024.\, a upravo je nakon ovo
 g drugog jedan domaći medij prognozirao: „Možemo se kladiti da će IDE
 M nakon “CIAO” napuniti Šalatu\, ili dvije“.\n\n\n\n\n\nZasad se kr
 eće s jednom.\n\n\n\n\n\nNa krilima sjajnog debija „POYY“ i singlova 
 kao što su „Žujice“\, „ŠtetaŠtetaŠteta“ i „Nikad ne ne idem
  van“ IDEM je postao najuzbudljiviji novi nezavisni izvođač ovih prost
 ora. Album mu je donio tri Rock&amp\;OFF nagrade\, Porinovo priznanje za n
 ajboljeg novog izvođača te velik broj svirki po Hrvatskoj i regiji. Puno
  se očekivalo od nasljednika\, albuma „CIAO“ objavljenog 11. studenog
  2024. koji je na kraju završio u vrhu apsolutno svih godišnjih top list
 a albuma.\n\n\n\n\n\nKao i debi „POYY“\, „CIAO“ je zajedničko izd
 anje labela Mudri Brk i Jeboton.\n\n\n\n\n\nIDEM – „Slušat pank“\n\
 n\n\n\n\nhttps://www.youtube.com/watch?v=tPMsNyHypeE\n\n\n\n\nUlaznice za 
 slušanje panka na Šalati u prodaju kreću u petak\, 30 siječnja u 10:00
  u sustavu Entrio\, dok će se hard copy ulaznice moći kupiti samo u zagr
 ebačkom Dirty Old Shopu. Prva cijena im iznosi 20 eura.\n\n&nbsp\;\n\n\n\
 n\n\n\n
ATTACH;FMTTYPE=image/jpeg:https://photorokaj.com/wp-content/uploads/2026/0
 1/IDEM-salata-fbevent-scaled.jpg
LOCATION:ŠRC Šalata\, Schlosserove Stube 2\, Zagreb\, Hrvatska\, 100000\,
  Hrvatska
X-APPLE-STRUCTURED-LOCATION;VALUE=URI;X-ADDRESS=Schlosserove Stube 2\, Zagr
 eb\, Hrvatska\, 100000\, Hrvatska;X-APPLE-RADIUS=100;X-TITLE=ŠRC Šalata:
 geo:0,0
END:VEVENT
BEGIN:VTIMEZONE
TZID:Europe/Zagreb
X-LIC-LOCATION:Europe/Zagreb
BEGIN:DAYLIGHT
DTSTART:20260329T030000
TZOFFSETFROM:+0100
TZOFFSETTO:+0200
TZNAME:CEST
END:DAYLIGHT
END:VTIMEZONE
END:VCALENDAR