BEGIN:VCALENDAR
VERSION:2.0
PRODID:-//wp-events-plugin.com//7.2.3.1//EN
BEGIN:VEVENT
UID:1347@photorokaj.com
DTSTART;TZID=Europe/Zagreb:20260924T200000
DTEND;TZID=Europe/Zagreb:20260924T230000
DTSTAMP:20260331T161551Z
URL:https://photorokaj.com/events/industrial-metal-legende-fear-factory-do
 laze-u-zagreb/
SUMMARY:Industrial metal legende Fear Factory dolaze u Zagreb!
DESCRIPTION:Boogaloo\, Zagreb // četvrtak\, 24. rujna 2026.\n\nZagreb\, 24
 . ožujka 2026. – Industrial metal legende Fear Factory vraćaju se u Za
 greb nakon dugih 14 godina\, a velika turneja dovodi ih u klub Boogaloo u 
 četvrtak 24. rujna 2026.\n\n&nbsp\;\n\nFear Factory službeno su najavili
  svoj povratak na europske pozornice s turnejom „Cybernetic Domination T
 our“\, a pojačani s čak tri predgrupe u Boogaloo početkom jeseni dono
 se maratonsku metal feštu. Od istočne Europe\, preko Skandinavije\, sred
 nje Europe\, pa sve do Velike Britanije i Irske\, Fear Factory će tisuća
 ma obožavatelja diljem kontinenta donijeti svoju nepogrešivu mješavinu 
 glazbene preciznosti i gitarskih riffova.\n\n&nbsp\;\n\nFear Factory - “
 Disruptor”\n\n&nbsp\;\n\nViše od tri desetljeća\, Fear Factory slovi z
 a jedan od najutjecajnijih bendova u metal glazbi. Kao pioniri industrial 
 metala\, bend je redefinirao žanr besprijekornim spajanjem ekstremnog met
 ala s elektroničkim elementima\, istražujući teme tehnologije\, umjetne
  inteligencije i budućnosti čovječanstva. Njihovi nastupi uživo nabije
 ni su energijom\, te poznati po glazbenoj preciznosti kao i impresivnoj at
 mosferi.\n\nOno što je počelo 1991. godine debijem “Soul of a New Mach
 ine” preraslo je u jedan od najvećih metal bendova\, a nasljednici “D
 emanufacture”\, “Obsolete”\, kao i “Digimortal” prometnuli su ih
  u velikane gitarističkog zvuka. “Archetype” ih vraća alternativnom 
 industrial metal zvuku\, a albumi “Transgression”\, “Mechanize” i 
 “Industrialized” su potvrdili njihov doprinos glazbi\, te ih još jedn
 om odveli na svjetske turneje. Uslijedio je “Genexus”\, konceptualni a
 lbum na kojem pjevaju o temam rata ili klimatskih promjena\, kao i “Aggr
 ession Continuum” koji je uvršten na liste najboljih rock metal albuma 
 godine.\n\n&nbsp\;\n\nFear Factory - “Replica”\n\n&nbsp\;\n\nOd samih 
 početaka nastupali su s imenima poput Biohazard\, Sepultura\, Cannibal Co
 rpse\, Slipknot ili Metallica. Istovremeno je njihov inovativan pristup mi
 ješanju industrial ili death metal žanrova utjecao na iduću generaciju 
 glazbenika i stavio jedinstveni pečat na žanr metal glazbe. Glazba benda
  korištena je u Playstation igricama\, filmovima poput “Mortal Kombat
 ”\, “Saw” ili “Resident Evil”\, a albumi im redovito završavaju
  na Billboardovim ljestvicama najboljih izdanja. Uz sve promjene u sastavu
  benda tijekom godina\, Fear Factory ostaje sinonim za glazbenike koji su 
 se razvijali sa žanrom\, te nepovratno oblikovali industrial metal zvuk.\
 n\n&nbsp\;\n\nVečer će upotpuniti čak tri predgrupe i to japanski metal
 core bend Crystal Lake\, poljski blackened death metal veterani Hate te me
 lodični gothic alternativni bend The Nocturnal Affair. Svi će se pridru
 žiti nastupu industrial metal legendi Fear Factory koji donose pravu soni
 čnu eksploziju uživo u zagrebački Boogaloo.\n\n&nbsp\;\n\nFear Factory 
 - “Edgecrusher”\n\n&nbsp\;\n\nUlaznice su u prodaji od petka\, 27. ož
 ujka\, od 11:00 sati po cijeni od 30 eura\, a dostupne su u sustavu Core E
 vent\, te u Dirty Old Shopu i Rockmarku.\n\n&nbsp\;\n\n\n\n&nbsp\;\n\n 
ATTACH;FMTTYPE=image/jpeg:https://photorokaj.com/wp-content/uploads/2026/0
 3/FEAR-FACTORY-2.jpg
LOCATION:Boogaloo\, Ulica grada Vukovara 68\, Zagreb\, Hrvatska\, 10000\, H
 rvatska
X-APPLE-STRUCTURED-LOCATION;VALUE=URI;X-ADDRESS=Ulica grada Vukovara 68\, Z
 agreb\, Hrvatska\, 10000\, Hrvatska;X-APPLE-RADIUS=100;X-TITLE=Boogaloo:ge
 o:0,0
END:VEVENT
BEGIN:VTIMEZONE
TZID:Europe/Zagreb
X-LIC-LOCATION:Europe/Zagreb
BEGIN:DAYLIGHT
DTSTART:20260329T030000
TZOFFSETFROM:+0100
TZOFFSETTO:+0200
TZNAME:CEST
END:DAYLIGHT
END:VTIMEZONE
END:VCALENDAR