BEGIN:VCALENDAR
VERSION:2.0
PRODID:-//wp-events-plugin.com//7.2.3.1//EN
BEGIN:VEVENT
UID:602@photorokaj.com
DTSTART;TZID=Europe/Zagreb:20250509T200000
DTEND;TZID=Europe/Zagreb:20250509T230000
DTSTAMP:20250505T192743Z
URL:https://photorokaj.com/events/ivana-galic-u-zapresicu/
SUMMARY:IVANA GALIĆ U ZAPREŠIĆU
DESCRIPTION:09.05.2025\n\n&nbsp\;\n\nDašak autentičnog izvornog američko
 g žanra te priču o nastanku gospela inspiriran Mahaliom Jackson donosi v
 okalistica sa prestižnom diplomom Royal College of Music u Londonu\, a u 
 pratnji Darko Horvat – gitara\, Patrik Zamuda / Neven Resnik – klavir\
 , Filip Šmit – bubnjevi te Mario Jagec -bas gitara.\n\nUlaz slobodan!
ATTACH;FMTTYPE=image/jpeg:https://photorokaj.com/wp-content/uploads/2025/0
 5/image-14.png
LOCATION:POU ZAPREŠIĆ\, Trg žrtava fašizma 11\, Zaprešić\, 10290\, Hr
 vatska
X-APPLE-STRUCTURED-LOCATION;VALUE=URI;X-ADDRESS=Trg žrtava fašizma 11\, Z
 aprešić\, 10290\, Hrvatska;X-APPLE-RADIUS=100;X-TITLE=POU ZAPREŠIĆ:geo
 :0,0
END:VEVENT
BEGIN:VTIMEZONE
TZID:Europe/Zagreb
X-LIC-LOCATION:Europe/Zagreb
BEGIN:DAYLIGHT
DTSTART:20250330T030000
TZOFFSETFROM:+0100
TZOFFSETTO:+0200
TZNAME:CEST
END:DAYLIGHT
END:VTIMEZONE
END:VCALENDAR