BEGIN:VCALENDAR
VERSION:2.0
PRODID:-//wp-events-plugin.com//7.2.3.1//EN
BEGIN:VEVENT
UID:309@photorokaj.com
DTSTART:20250125T180000Z
DTEND:20250125T203000Z
DTSTAMP:20250121T160714Z
URL:https://photorokaj.com/events/izvrsni-orkestar-iz-budimpeste-i-veliki-
 violinist-s-djelima-mendelssohna-fanny-hensel-i-mahlerovom-petom/
SUMMARY:Izvrsni orkestar iz Budimpešte i veliki violinist s djelima Mendel
 ssohna\, Fanny Hensel i Mahlerovom Petom
DESCRIPTION:\n\nRenaud Capuçon jedan je od najvećih violinista današnjic
 e\, a u Lisinski dolazi 25. siječnja s poznatim Budimpeštanskim festival
 skim orkestrom i maestrom Ivánom Fischerom.\n\n\n\n\n\nTumačit će čuve
 ni Mendelssohnov Violinski koncert u e-molu\, a mađarski umjetnici izvest
  će i popularnu Mahlerovu Petu simfoniju. Treću skladbu na tom koncertu 
 ciklusa Lisinski subotom glazbenici će - otpjevati. To je Morgengruß za 
 mješoviti zbor a capella iz zbirke Gartenlieder\, djelo Fanny Mendelssohn
  Hensel - sestre slavnog skladatelja.\n\n\n\n\n\nBudimpeštanski festivals
 ki orkestar osnovao je maestro Fischer sa Zoltánom Kocsisem 1983. godine.
  U međuvremenu je izrastao u mađarski orkestar s najvećom međunarodnom
  prisutnošću. Njeguje mnoge koncertne cikluse\, često s edukativnim i d
 ruštveno angažiranim programima. Sa svojim šefom dirigentom Ivánom Fis
 cherom snimio je mnoga remek-djela glazbene literature.\n\n\n\n\nIvan Fisc
 her Photo: Marco Borggreve\n\n\n\n\nKoncert za violinu i orkestar u e-molu
  Felixa Mendelssohna-Bartholdyja jedan je od najpoznatijih violinskih konc
 erata uopće. U svoje doba donio je mnoge novosti\, poput nastupa solisti
 čkog instrumenta odmah na početku. Još od praizvedbe 1845. snažno je u
 tjecao na skladatelje romantizma.\n\n\n\n\n\nGlasovita Peta simfonija u ci
 s-molu Gustava Mahlera praizvedena je 1902. godine i također do danas už
 iva veliku popularnost. U novije vrijeme još je poznatija po kultnom Visc
 ontijevu filmu Smrt u Veneciji\, u kojem je ovjekovječen njezin četvrti 
 stavak\, Adagietto.\n\n\n\n\n\nDođite na susret s iznimnim djelima i umje
 tnicima\, a ulaznice potražite na blagajni Dvorane Lisinski ili na lisins
 ki.hr!\n\n\n\n\n
ATTACH;FMTTYPE=image/jpeg:https://photorokaj.com/wp-content/uploads/2025/0
 1/Budapest-Festival-Orchestra-©Akos-Stiller-scaled.jpg
LOCATION:KONCERTNA DVORANA VATROSLAVA LISINSKOG\, Trg Stjepana Radića 4\, 
 ZAGREB\, 10000\, Hrvatska
X-APPLE-STRUCTURED-LOCATION;VALUE=URI;X-ADDRESS=Trg Stjepana Radića 4\, ZA
 GREB\, 10000\, Hrvatska;X-APPLE-RADIUS=100;X-TITLE=KONCERTNA DVORANA VATRO
 SLAVA LISINSKOG:geo:0,0
END:VEVENT
END:VCALENDAR