BEGIN:VCALENDAR
VERSION:2.0
PRODID:-//wp-events-plugin.com//7.2.3.1//EN
BEGIN:VEVENT
UID:308@photorokaj.com
DTSTART:20250610T180000Z
DTEND:20250610T210000Z
DTSTAMP:20250121T160407Z
URL:https://photorokaj.com/events/jerry-cantrell-premijerno-u-hrvatskoj/
SUMMARY:Jerry Cantrell premijerno u Hrvatskoj
DESCRIPTION:\n\nTvornica kulture\, Zagreb // 10. lipnja 2025.\n\n\n\n\n\nZa
 greb\, 21. siječnja 2025. – Jerry Cantrell\, autor\, gitarist i vokalis
 t grupe Alice In Chains\, premijerno dolazi u Hrvatsku i to u zagrebačku 
 Tvornicu kulture u utorak 10. lipnja 2025.\n\n\n\n\n\nJedan od najznačajn
 ijih autora grunge epohe\, i općenito govoreći alternativne scene 90-ih\
 , održat će premijerni samostalni nastup. Praćen sjajnim bendom Cantrel
 l će izvesti pjesme sa svojih solo albuma\, kao i gomilu Alice In Chains 
 klasika koji su obilježili rock glazbu posljednja tri desetljeća.\n\n\n\
 n\n\nJerry Cantrell - “Vilified”\n\n\n\n\n\nCantrell je istovremeno in
 ovator i tradicionalna rock duša čiji su vokali\, melodije i riffovi pre
 poznatljivi brojnim generacijama\, a njegov rad je utjecao na brojne glazb
 enike. Veliki katalog koji broji najbolje od metala\, rocka\, bluesa i Ame
 ricane\, iznova potvrđuje Cantrellov ugled\, bilo kao solo glazbenika ili
  autora\, gitarista i jednog od vokala legendarnih Alice in Chains.\n\n\n\
 n\n\nOd hvaljenog debitantskog albuma “Boggy Depo”\, preko “Degradat
 ion Trip Volumes 1 &amp\; 2” koje je snimao s basistom Robertom Trujillo
 m iz Metallice i bubnjarem Mikeom Bordinom iz Faith No More\, uslijedio je
  izrazito hvaljeni “Brighteen” iz 2021. Posljednji album “I Want Blo
 od” pojašnjava svu težinu i nepokorenost u Cantrellovoj glazbi\, proš
 iruje njegovu paletu zvuka i ne žrtvuje pamtljive melodije. Uz pjesme kao
  što su moćna “Off the Rails”\, atmosferična “Afterglow” ili hi
 pnotična “Throw Me A Line”\, Cantrell na albumu ostaje vjeran iskreno
 sti\, ranjivosti i sukobu\, dok ga Rolling Stone naziva jednim od najbolji
 h gitarista svih vremena.\n\n\n\n\n\nJerry Cantrell - "Afterglow"\n\n\n\n\
 n\nCantrell je radio s imenima kao što su Metallica\, Ozzy Osbourne ili D
 eftones\, surađivao na glazbi za filmove kao što su John Wick i Spiderma
 n\, a kao ikona u svijetu rocka redovito je uvrštavan na popise najboljih
  gitarista svih vremena. Nakon više od 30 milijuna prodanih albuma i 11 n
 ominacija za Grammyja vjerno stvara glazbu zbog koje bi bio ponosan i u ml
 adosti.\n\n\n\n\n\nProdaja ulaznica kreće u petak\, 24. siječnja\, od 11
 :00 sati po cijeni od 33 eura. Ulaznice su dostupne u sustavu Core Event\,
  Dirty Old Shopu\, Rockmarku i Dallas Music Shopu u Rijeci.
ATTACH;FMTTYPE=image/jpeg:https://photorokaj.com/wp-content/uploads/2025/0
 1/LOOK06_00020-scaled.jpg
LOCATION:TVORNICA KULTURE\, Ulica Pavla Šubića 2\, Zagreb\, Hrvatska\, 10
 000\, Hrvatska
X-APPLE-STRUCTURED-LOCATION;VALUE=URI;X-ADDRESS=Ulica Pavla Šubića 2\, Za
 greb\, Hrvatska\, 10000\, Hrvatska;X-APPLE-RADIUS=100;X-TITLE=TVORNICA KUL
 TURE:geo:0,0
END:VEVENT
END:VCALENDAR