BEGIN:VCALENDAR
VERSION:2.0
PRODID:-//wp-events-plugin.com//7.2.3.1//EN
BEGIN:VEVENT
UID:1110@photorokaj.com
DTSTART;TZID=Europe/Zagreb:20260703T200000
DTEND;TZID=Europe/Zagreb:20260703T230000
DTSTAMP:20260221T151745Z
URL:https://photorokaj.com/events/jovanotti-najavio-samostalni-koncert-u-p
 ulskoj-areni-3-srpnja-sljedece-godine/
SUMMARY:Jovanotti najavio samostalni koncert u pulskoj Areni 3. srpnja slje
 deće godine!
DESCRIPTION:\nutjecajnijih talijanskih kantautora i najprepoznatljivijih gl
 azbenih inovatora svoj će dugoočekivani samostalni nastup u Hrvatskoj od
 ržati u sklopu turneje povodom nadolazećeg studijskog albuma čiji je iz
 lazak najavljen za 20. studenoga ove godine. Koncert u čarobnom ambijentu
  pulske Arene idućeg će ljeta ujedno biti i jedini Jovanottijev nastup 
 u regiji što ga čini posebno atraktivnim za publiku iz Hrvatske\, Slove
 nije\, Italije i šireg susjedstva.\n\n\n\nU više od tri desetljeća kari
 jere\, Jovanotti je razvijao vlastiti umjetnički identitet koji nadilazi 
 jasno definirane žanrovske granice - početkom osamdesetih započeo je ta
 ko svoj glazbeni put kao DJ\, no ubrzo postaje autor koji prirodno spaja p
 op\, hip-hop\, funk\, elektroniku\, world music i rock. Taj iskorak potvrd
 ili su i njegovi ključni albumi: Lorenzo 1994 kao prvi pokazatelj šireg 
 pop izričaja\, Buon Sangue (2005.) obilježen novim\, suvremenim zvukom\,
  Ora (2011.) s kojim donosi elektronski zaokret te Lorenzo 2015 CC. kao je
 dno od njegovih najkompletnijih i najzrelijih izdanja.\n\n\n\nUz takvu gla
 zbenu širinu došli su i hitovi - "A te“\, „L’Estate Addosso“\, 
 „Penso Positivo“\, „Ragazza Magica“\, i „Chiaro di Luna“ samo 
 su neke od skladbi koje obilježavaju talijansku pop kulturu\, ali i uživ
 aju status međunarodnih singlova prepoznatih među publikom u čitavoj re
 giji.\n\n\n\nJovanottijev utjecaj vidljiv je u načinu na koji je redefini
 rao talijansku mainstream scenu - otvorio je prostor za slobodnije kombini
 ranje žanrova\, približio globalne trendove lokalnoj publici i postao re
 ferentna točka za nove generacije glazbenika. U zemljama regije\, Jovanot
 ti je izvođač koji prelazi jezične i kulturološke granice\, a njegov s
 poj popa\, elektronike i jakog koncertnog identiteta već desetljećima po
 zitivno odjekuje i izvan granica talijanskog tržišta.\n\n\n\nProdaja ula
 znica za nastup u Areni Pula kreće u ponedjeljak\, 17. studenoga u 12 sat
 i putem sustava Entrio i na svim Entrio prodajnim mjestima po cijenama od 
 49 eura za travnjak\, 69 eura za parter i 79 eura za tribine\, a sve dodat
 ne informacije o ovom zaista posebnom nastupu sljedećeg ljeta bit će dos
 tupne u narednim danima na društvenim mrežama Incognito Agency.\n\n\n\nP
 ravila za osobe s invaliditetom\n\n\n\n\nOsobe sa invaliditetom ostvaruju 
 pravo na besplatnu ulaznicu\, a pratnja plaća punu cijenu ulaznice.\n\n\n
 \nZa preuzimanje besplatnih ulaznica potrebno je javiti se na mail adresu:
  info@entrio.hr zajedno sa pripadajućim dokazom o invaliditetu.\n\n\n\nUk
 oliko se krećete uz pomoć invalidskih kolica\, bit ćete smješteni u pa
 rteru. \n\n\n\n\n Jovanotti announces solo concert at the Arena Pula on 
 July 3rd\, 2026!\n\n\n\nLorenzo Cherubini\, better known as Jovanotti\, is
  coming to the Pula Arena on Friday\, July 3\, 2026! One of the most influ
 ential Italian singer-songwriters and one of the country’s most distinct
 ive musical innovators will present his long-awaited solo performance in C
 roatia as part of the tour accompanying his upcoming studio album\, set fo
 r release on November 20 this year. The concert in the magical setting of 
 Pula Arena will also be Jovanotti’s only show in the region next summer\
 , making it especially attractive to audiences from Croatia\, Slovenia\, I
 taly\, and the wider neighbourhood.\n\n\n\nOver more than three decades of
  his career\, Jovanotti has developed a unique artistic identity that tran
 scends conventional genre boundaries. He began his musical journey in the 
 early eighties as a DJ\, but soon became a songwriter who naturally blends
  pop\, hip-hop\, funk\, electronic music\, world music\, and rock. This ev
 olution is reflected in several key albums: Lorenzo 1994 as the first mark
 er of his wider pop expression\, Buon Sangue (2005) infused with a modern 
 new sound\, Ora (2011) which introduced a strong electronic shift\, and Lo
 renzo 2015 CC.\, one of his most complete and mature releases to date.\n\n
 \n\nSuch musical breadth has brought numerous hits — “A te\,” “L
 ’Estate Addosso\,” “Penso Positivo\,” “Ragazza Magica\,” and 
 “Chiaro di Luna” are just some of the songs that have defined Italian 
 pop culture and gained international recognition across the region.\n\n\n\
 nJovanotti’s influence is evident in the way he has reshaped Italy’s m
 ainstream scene — opening the door to freer genre experimentation\, brin
 ging global trends closer to local audiences\, and becoming a reference po
 int for new generations of artists. Across the region\, he is an artist wh
 o transcends linguistic and cultural boundaries\, while his fusion of pop\
 , electronic\, and a powerful live identity has resonated positively beyon
 d the Italian market for decades.\n\n\n\nTicket sales for the Pula Arena c
 oncert begin on Monday\, November 17 at 12 p.m. via Entrio and at all Entr
 io sales points\, priced at 49 euros for the field\, 69 euros for the part
 erre\, and 79 euros for the stands. All additional information about this 
 truly special performance next summer will be available in the coming days
  on the social media channels of Incognito Agency.\n
ATTACH;FMTTYPE=image/jpeg:https://photorokaj.com/wp-content/uploads/2025/1
 1/28347_marketing_banner_1522x682_1763376341.png
LOCATION:Arena Pula\, Flavijevska ulica\, Pula\, 52100\, Hrvatska
X-APPLE-STRUCTURED-LOCATION;VALUE=URI;X-ADDRESS=Flavijevska ulica\, Pula\, 
 52100\, Hrvatska;X-APPLE-RADIUS=100;X-TITLE=Arena Pula:geo:0,0
END:VEVENT
BEGIN:VTIMEZONE
TZID:Europe/Zagreb
X-LIC-LOCATION:Europe/Zagreb
BEGIN:DAYLIGHT
DTSTART:20260329T030000
TZOFFSETFROM:+0100
TZOFFSETTO:+0200
TZNAME:CEST
END:DAYLIGHT
END:VTIMEZONE
END:VCALENDAR