BEGIN:VCALENDAR
VERSION:2.0
PRODID:-//wp-events-plugin.com//7.2.3.1//EN
BEGIN:VEVENT
UID:1306@photorokaj.com
DTSTART;TZID=Europe/Zagreb:20260723T180000
DTEND;TZID=Europe/Zagreb:20260725T180000
DTSTAMP:20260226T193014Z
URL:https://photorokaj.com/events/jubilarno-15-izdanje-koprivnickog-rockli
 ve-festivala-danas-je-dodatno-pojacano-novi-izvodacima/
SUMMARY:Jubilarno 15. izdanje koprivničkog RockLive Festivala danas je dod
 atno pojačano novi izvođačima!
DESCRIPTION:Na poznatoj lokaciji koprivničkog Kampusa od 23. do 25. srpnja
  na jednom će se mjestu ponovno okupiti ponajbolji predstavnici različit
 ih glazbenih žanrova regije.\n\nOvaj\, praktički jedini glazbeni festiva
 l ovog tipa u kontinentalnoj Hrvatskoj\, donosi neke od izvođača koji su
  u ovih 15 godina publici ostali najviše u sjećanju. Prvotno su najavlje
 ni Mile Kekin\, IDEM\, Mortal Kombat i Debeli Precjednik\, a sada je tu jo
 š nekoliko zanimljivih imena.\n\nPredvodi ih „miljenik nacije”\, BABY
  LASAGNA\, koji nakon Eurovizijskog dijela karijere\, turneje po Europi i 
 nekoliko ostvarenih želja\, poput nastupa na Nova Rock Festivalu po prvi 
 put dolazi na RockLive. I dalje iznimno aktualan na RockLive dolazi praće
 n odlično prihvaćenim singlom End the party i najavom novog albuma.\n\n\
 n\nNa RockLive se vraćaju i BRKOVI\, koji će još jednom festivalskoj pu
 blici ponuditi svoj dobro poznati punk folk wellness kao i mnogo puta do s
 ada. Bend koji ne prestaje s nastupima diljem regije tako će još jednom 
 doći na dobro poznati teren i definitivno održati koncert o kojem će se
  pričati.\n\n\n\nJoš jedni povratnici\, koji potvrđuju snažan gitarist
 ički smjer ovogodišnjeg RockLive Festivala\, zagrebački su punkeri MAŠ
 INKO. Njihove prepoznatljive tri gitare\, himnični refreni i pozitivna vi
 bra garantiraju još jedan dobar provod na RockLive-u.\n\n\n\nA da ne bi b
 ilo zabavno samo tijekom koncerata tu je i dobro poznati after party na ko
 jem ove godine gostuje slovenska Tik Tok senzacija GLISTE! Njihove pjesme 
 brzo su se proširile društvenim mrežama\, a poseban touch cijeloj prič
 i daje njihov tajni identitet\, pa će ovo sigurno biti jedno ludo putovan
 je na RockLive after pozornici.\n\n\n\nNovost ovogodišnjeg festivala\, ko
 jom se slavi 15 godina postojanja\, su i HARD COPY ulaznice\, koje su od d
 anas u limitiranoj seriji dostupne isključivo u KKC Pixel u Koprivnici po
  cijeni od 45 eura. Ulaznice sa sobom nose i poseban RockLive poklon za pr
 vih 50 kupaca\, pa je ovo dobra prilika da obilježite ovogodišnje izdanj
 e jednom zanimljivom memorabilijom.\n\nUlaznice su u redovnoj prodaji i na
  svim Entrio prodajnim mjestima i na Entrio.hr po cijeni od 45 eura za tri
  dana festivala.\n\nDirektan link za festivalske ulaznice: RockLive 15 - U
 LAZNICE\n\nVidimo se u Koprivnici\, na RockLive Festivalu #15!
ATTACH;FMTTYPE=image/jpeg:https://photorokaj.com/wp-content/uploads/2026/0
 2/RL-15-cover.png
LOCATION:Kampus KOPRIVNICA\, Trg dr. Žarka Dolinara 1\, Koprivnica\, Hrvat
 ska\, 48000\, Hrvatska
X-APPLE-STRUCTURED-LOCATION;VALUE=URI;X-ADDRESS=Trg dr. Žarka Dolinara 1\,
  Koprivnica\, Hrvatska\, 48000\, Hrvatska;X-APPLE-RADIUS=100;X-TITLE=Kampu
 s KOPRIVNICA:geo:0,0
END:VEVENT
BEGIN:VTIMEZONE
TZID:Europe/Zagreb
X-LIC-LOCATION:Europe/Zagreb
BEGIN:DAYLIGHT
DTSTART:20260329T030000
TZOFFSETFROM:+0100
TZOFFSETTO:+0200
TZNAME:CEST
END:DAYLIGHT
END:VTIMEZONE
END:VCALENDAR