BEGIN:VCALENDAR
VERSION:2.0
PRODID:-//wp-events-plugin.com//7.2.3.1//EN
BEGIN:VEVENT
UID:1294@photorokaj.com
DTSTART;TZID=Europe/Zagreb:20261113T200000
DTEND;TZID=Europe/Zagreb:20261113T230000
DTSTAMP:20260226T172830Z
URL:https://photorokaj.com/events/kamelot-premijerno-u-hrvatskoj-sredinom-
 studenog-stize-u-boogaloo/
SUMMARY:Kamelot premijerno u Hrvatskoj\, sredinom studenog stiže u Boogalo
 o!
DESCRIPTION:Power metal velikani Kamelot konačno stižu u Hrvatsku! Dugoo
 čekivani premijerni koncert ovih majstora održat će se 13. 11. u Boogal
 oou u sklopu velike svjetske turneje “Dark Asylum”\, a tom prilikom na
  pozornici će im se pridružiti bendovi predvođeni sjajnim ženskim voka
 lima: Exit Eden i Temperance. Ograničeni kontingent early bird ulaznica p
 o cijeni od 34 eura dostupan je preko Hangtime weba do 3. ožujka ili iste
 ka zaliha. Pretprodajna cijena ulaznica je 39 eura\, a na dan koncerta ko
 štat će 44 eura\, ako ih ostane. Fizičke ulaznice bit će uskoro dostup
 ne u Dirty Old Shopu.\n\n&nbsp\;\n\nKamelot je američki symphonic / power
  metal bend osnovan 1987. godine u Floridi\, koji je tijekom karijere izgr
 adio status jednog od najvažnijih imena modernog melodičnog metala.\nOsn
 ivač i spiritus movens benda je gitarist Thomas Youngblood\, a kroz godin
 e su razvili prepoznatljiv spoj power\, progressive i symphonic metal elem
 enata s naglašenom teatralnom atmosferom. Karijeru su započeli kao Camel
 ot na sugestiju Thomasove majke\, ali su se početkom 90-ih preimenovali u
  Kamelot zbog lokalne trgovine pločama s istim imenom. Prvi veliki iskora
 k dogodio se krajem tog desetljeća dolaskom vokalista Roya Khana\, kada b
 end počinje graditi ozbiljnu europsku fan bazu i redefinirati vlastiti zv
 uk.\n\nNjihova glazba balansira između mračnih tema\, epskih refrena i p
 rogresivnih aranžmana\, što ih čini bendom koji jednako dobro funkcioni
 ra pred metal publikom\, ali i širim fanovljem izvan žanra. U aktualnoj 
 postavi\, uz Youngblooda\, tu su još Tommy Karevik (vokal)\, Oliver Palot
 ai (klavijature)\, Sean Tibbetts (bas) i Alex Landenburg (bubnjevi). Iza s
 ebe imaju 13 studijskih albuma\, a u ovoj godini očekuje se i novo izdanj
 e.\n\nFacebook: https://www.facebook.com/kamelotofficial\nInstagram: htt
 ps://www.instagram.com/kamelotofficial\nSpotify: https://open.spotify.com
 /artist/7gTbq5nTZGQIUgjEGXQpOS\nYouTube: https://www.youtube.com/channel/
 UCZ8tFz25t-9RsGCZKhwML0A\n\n&nbsp\;\n\nEXIT EDEN je symphonic metal superg
 rupa nastala 2017. koja spaja metal i prepoznatljive pop melodije u moćan
 \, pomalo filmski zvuk. Bend čine tri istaknute vokalistice — Clémenti
 ne Delauney (Visions of Atlantis\, 1.3. u Močvari!)\, Anna Brunner (Leagu
 e of Distortion) i Marina La Torraca (Battle Beast)\, koje kroz koncept mo
 derne “femme fatale” naglašavaju snagu i samostalnost. Debi album “
 Rhapsodies in Black” donio im je međunarodnu pažnju\, a s drugim album
 om “Femmes Fatales” proširuju identitet autorskim pjesmama\, uključu
 jući singl “Run!” s gostovanjem Marka Hietale (ex Nightwish). Bit će
  im to premijerni nastup u Hrvatskoj.\n\nFacebook: https://www.facebook.c
 om/exitedenmusic\nInstagram: https://www.instagram.com/exitedenmusic\nSpo
 tify: https://open.spotify.com/artist/3h9p6ezLoqYJ0viEfqGE4j\nYouTube: h
 ttps://www.youtube.com/watch?v=AD6VAZFHWLY\n\n&nbsp\;\n\nTemperance je tal
 ijanski symphonic / melodic metal bend osnovan 2013.\nOd početka su gradi
 li prepoznatljiv stil kroz kombinaciju ženskih i muških vokala te nagla
 šene refrene. U svojih sedam dosadašnjih studijskih albuma profilirali s
 u se kao jedno od jačih novih europskih symphonic metal imena\, posebno k
 od publike koja voli bendove tipa Nightwish ili Within Temptation\, ali u 
 ponešto modernijem aranžmanu.\n\nFacebook: https://www.facebook.com/tem
 peranceband\nInstagram: https://www.instagram.com/temperanceofficial\nSpo
 tify: https://open.spotify.com/artist/0WHhPa7TmqQASabtpYsa5J\nYouTube: h
 ttps://www.youtube.com/@temperanceofficial\n\n&nbsp\;\n\nHangtime 15.11. o
 rganizira nastup ovih bendova i u beogradskom Hangaru.\n\n&nbsp\;\n\nFb ev
 ent: https://web.facebook.com/events/1937531143816989
ATTACH;FMTTYPE=image/jpeg:https://photorokaj.com/wp-content/uploads/2026/0
 2/Vizual-3.png
LOCATION:Boogaloo\, Ulica grada Vukovara 68\, Zagreb\, Hrvatska\, 10000\, H
 rvatska
X-APPLE-STRUCTURED-LOCATION;VALUE=URI;X-ADDRESS=Ulica grada Vukovara 68\, Z
 agreb\, Hrvatska\, 10000\, Hrvatska;X-APPLE-RADIUS=100;X-TITLE=Boogaloo:ge
 o:0,0
END:VEVENT
BEGIN:VTIMEZONE
TZID:Europe/Zagreb
X-LIC-LOCATION:Europe/Zagreb
BEGIN:STANDARD
DTSTART:20261025T020000
TZOFFSETFROM:+0200
TZOFFSETTO:+0100
TZNAME:CET
END:STANDARD
END:VTIMEZONE
END:VCALENDAR