BEGIN:VCALENDAR
VERSION:2.0
PRODID:-//wp-events-plugin.com//7.2.3.1//EN
BEGIN:VEVENT
UID:1264@photorokaj.com
DTSTART;TZID=Europe/Zagreb:20260527T200000
DTEND;TZID=Europe/Zagreb:20260527T230000
DTSTAMP:20260205T181101Z
URL:https://photorokaj.com/events/keops-live-in-zagreb/
SUMMARY:Keops Live in Zagreb
DESCRIPTION:\n\n** Early-bird ulaznice dostupne po cijeni od 10 EUR putem s
 ustava Entrio **\n\n \n\nRiječki Keops evoluirao je u dinamičnu silu na 
 međunarodnoj glazbenoj sceni.\n\n \n\nNjihov album\, "Road to Perdition"\
 , objavljen u ožujku 2022. pod okriljem NoCut Entertainmenta\, a označio
  je početak njihovog globalnog djelovanja. Od tada\, Keops oduševljava p
 ubliku diljem Europe. Njihov impresivan životopis uključuje nastupe kao 
 predgrupa bendovima kao što su Overkill\, Therion\, Alestorm i Rage\, a s
 pecijalno ističu otvaranje za legendarnog pjevača Brucea Dickinsona.\nPr
 ošle godine\, bend je doživio značajnu promjenu postavši female fronte
 d band s impresivnom vokalisticom Vanom.\n\n \n\nU Boogaloo Keops promovir
 a novi album - Bitter Story for Humanity.\n\n
ATTACH;FMTTYPE=image/jpeg:https://photorokaj.com/wp-content/uploads/2026/0
 2/627493602_1536921084619441_7694986146690039470_n-1.jpg
LOCATION:Boogaloo\, Ulica grada Vukovara 68\, Zagreb\, Hrvatska\, 10000\, H
 rvatska
X-APPLE-STRUCTURED-LOCATION;VALUE=URI;X-ADDRESS=Ulica grada Vukovara 68\, Z
 agreb\, Hrvatska\, 10000\, Hrvatska;X-APPLE-RADIUS=100;X-TITLE=Boogaloo:ge
 o:0,0
END:VEVENT
BEGIN:VTIMEZONE
TZID:Europe/Zagreb
X-LIC-LOCATION:Europe/Zagreb
BEGIN:DAYLIGHT
DTSTART:20260329T030000
TZOFFSETFROM:+0100
TZOFFSETTO:+0200
TZNAME:CEST
END:DAYLIGHT
END:VTIMEZONE
END:VCALENDAR