BEGIN:VCALENDAR
VERSION:2.0
PRODID:-//wp-events-plugin.com//7.2.3.1//EN
BEGIN:VEVENT
UID:236@photorokaj.com
DTSTART:20250328T180000Z
DTEND:20250328T210000Z
DTSTAMP:20250321T054954Z
URL:https://photorokaj.com/events/kojoti-u-tvornici-obiljezavaju-30-godina
 -kultnog-debi-albuma/
SUMMARY:Kojoti u Tvornici obilježavaju 30 godina kultnog debi albuma
DESCRIPTION:\nPetak\, 28. ožujka 2025. // Tvornica kulture - Zagreb\n\n\n\
 nZagreb\, 27. prosinca 2024. – Grupa Kojoti u zagrebačkoj će Tvornici 
 kulture 28. ožujka 2025. odsvirati koncert posvećen obilježavanju 30 go
 dina od objave njihovog debitantskog istoimenog albuma\, jednog od najzna
 čanijih domaćih rock izdanja proteklih desetljeća.\n\n\n\nKojoti – 
 „Razuzdan i lud“\n\n\n\nVinkovačko – zagrebački bend osnovan je 19
 93. i nakon par početnih promjena ustalio se u postavi Davor Viduka\, Ale
 n Marin\, Vanja Marin i Mario Anušić\, koja je dvije godine kasnije eksp
 lodirala na ovdašnjoj rock sceni. Ogroman hit „Razuzdan i lud“\, zati
 m „Sto milja daleko od nje“\, kao i ostalih devet pjesama na debiju 
 „Kojoti“ bend je snimio u legendarnom studiju kod Janka Mlinarića Tro
 olog na zagrebačkom Medveščaku\, a album u izdanju Dancing Beara odmah 
 ih je lansirao među najtraženije i najuzbudljivije bendove svoje generac
 ije.\n\n\n\nAlbumom „Kojoti“ bend je zapravo započeo moćnu trilogiju
  albuma 90-tih u kojima su se našla još dva njihova velika izdanja – 
 „Halucinacija“ (1996) i „Sex\, Disco\, Kung Fu“ (1998.) na kojima 
 su isporučili veliku većinu svojih najboljih pjesama.\n\n\n\nKojoti – 
 „Sto milja daleko od nje“\n\n\n\nS radom su privremeno prestali 2000. 
 godine\, a dugoiščekivani povratak na scenu se dogodio 2017. godine. Nak
 on sedamnaestogodišnje pauze bend je\, na opće oduševljenje i publike i
  kritike\, ponovno počeo svirati nastupom na festivalu Brijačnica. Nakon
  toga objavljuju CD box set ''Dragocjeno\, raskošno\, blistavo'' na kojem
 u su okupljeni remasteri dotadašnjih izdanja\, nakon čega je 2019. uslje
 dio hvaljeni album „Sve je pod kontrolom?“.\n\n\n\nAktualna i daleko n
 ajdugovječnija postava Davor Viduka (gitara)\, Alen Marin (vokal)\, Vanja
  Marin (bas) te Bobo Grujičić (bubnjevi) i u 2025. pripremaju novu muzik
 u koja će se možda i čuti na koncertu u Tvornici.\n\n\n\nNaravno\, svir
 ka 28. ožujka\, uz naklon velikom debiju\, sadržavat će apsolutno sve n
 ajveće hitove benda – od nastupnog „Razuzdan i lud“\, preko „Sto 
 milja daleko od nje“\, „Hodala je pola metra iznad zemlje“\, „Halu
 cinacija“\, „Trese\, lupa\, udara“\, „Zajaši zmaja“\, pa sve do
  recentnih radova kao što su „Evolucija ide u pogrešnom smjeru“ i 
 „Nismo djeca“:\n\n\n\nUlaznice po cijeni od 15 eura dostupne su na bla
 gajni Tvornice kulture\, na svim prodajnim mjestima CoreEventa ili online 
 na platformi CoreEvent.\nhttps://photorokaj.com/kojoti-predstavljaju-singl
 -razuzdani-blues-ususret-velikom-slavljenickom-koncertu-u-tvornici-kulture
 /\n
ATTACH;FMTTYPE=image/jpeg:https://photorokaj.com/wp-content/uploads/2024/1
 2/Kojoti-photo-za-plakatiranje-i-press-scaled.jpeg
LOCATION:TVORNICA KULTURE\, Ulica Pavla Šubića 2\, Zagreb\, Hrvatska\, 10
 000\, Hrvatska
X-APPLE-STRUCTURED-LOCATION;VALUE=URI;X-ADDRESS=Ulica Pavla Šubića 2\, Za
 greb\, Hrvatska\, 10000\, Hrvatska;X-APPLE-RADIUS=100;X-TITLE=TVORNICA KUL
 TURE:geo:0,0
END:VEVENT
END:VCALENDAR