BEGIN:VCALENDAR
VERSION:2.0
PRODID:-//wp-events-plugin.com//7.2.3.1//EN
BEGIN:VEVENT
UID:1160@photorokaj.com
DTSTART;TZID=Europe/Zagreb:20260506T200000
DTEND;TZID=Europe/Zagreb:20260506T230000
DTSTAMP:20260403T062834Z
URL:https://photorokaj.com/events/kyle-eastwood-premijerno-stize-u-zagreb-
 koncert-u-kinu-sc-posvecen-glazbi-iz-filmova-njegova-oca/
SUMMARY:Kyle Eastwood premijerno stiže u Zagreb – koncert u Kinu SC posv
 ećen glazbi iz filmova njegova oca!
DESCRIPTION:\nhttps://photorokaj.com/uoci-jazz-spektakla-u-kinu-sc-12-zanim
 ljivosti-koje-vjerojatno-niste-znali-o-kyleu-eastwoodu/\nKyle Eastwood\, c
 ijenjeni američki jazz glazbenik i skladatelj\, 6. svibnja 2026. stiže u
  Kino SC na svoj prvi zagrebački nastup. Nakon što je u Hrvatskoj prvi p
 ut nastupio prije 16 godina\, Eastwood će se zagrebačkoj publici predsta
 viti programom Eastwood by Eastwood – intimnom koncertnom večeri u kojo
 j jazz susreće filmsku glazbu. Ulaznice u pretprodaji za sjedeći koncert
  dostupne su u cijenovnim kategorijama od 39\, 43 i 47 eura putem Hangtime
  ticketinga i u Dirty Old Shopu. Na dan koncerta sve će ulaznice biti za 
 pet eura skuplje.\n\n\n\nKyle Eastwood tijekom karijere objavio je više o
 d deset albuma i izgradio prepoznatljiv autorski identitet na modernoj jaz
 z sceni. Iako se u mlađim godinama sporadično pojavljivao na filmu\, jo
 š kao tinejdžer donio je čvrstu odluku da se u potpunosti posveti jazzu
 . Kao kontrabasist i električni basist ostao je vjeran tradicionalnom i m
 elodičnom jazz izrazu\, koji često obogaćuje lirskim i suptilno filmski
 m elementima.\n\n\n\nVažan dio njegove karijere vezan je uz filmsku glazb
 u – sudjelovao je u skladanju i izvođenju glazbe za filmove svog oca Cl
 inta Eastwooda\, uključujući Mystic River\, Million Dollar Baby i Letter
 s from Iwo Jima\, pritom paralelno razvijajući vlastiti put kao bandleade
 r. Sam Eastwood često ističe kako mu je film druga velika strast\, zbog 
 čega se njegov glazbeni rukopis prirodno naslanja na filmski narativ i at
 mosferu.\n\n\n\nU sklopu programa Eastwood by Eastwood Kyle Eastwood sa sv
 ojim kvintetom izvodi glazbu iz filmova Clinta Eastwooda\, prilagođenu kl
 upskom jazz formatu\, za razliku od simfonijskog projekta Eastwood Symphon
 ic. Publika će imati priliku čuti teme iz filmova kao što su The Eiger 
 Sanction (John Williams)\, Ruthless i The Bridges of Madison County (Lenni
 e Niehaus)\, Gran Torino i Letters from Iwo Jima (Kyle Eastwood / Michael 
 Stevens)\, Dirty Harry i Magnum Force (Lalo Schifrin)\, kao i nezaboravne 
 partiture Ennija Morriconea iz filmova The Good\, the Bad and the Ugly i A
  Fistful of Dollars.\n\n\n\nPremijerni zagrebački nastup Kylea Eastwooda 
 donosi rijetku priliku da se filmska povijest i suvremeni jazz susretnu u
 živo – u izvedbi glazbenika koji ovu glazbu ne interpretira samo kao na
 slijeđe\, već kao osobnu umjetničku priču. Osigurajte svoje ulaznice n
 a vrijeme pa se vidimo 6. svibnja u Kinu SC!\n\n\n\nFacebook: https://www.
 facebook.com/officialkyleeastwood/ Instagram: https://www.instagram.com/ky
 leeastwood/ YouTube: https://www.youtube.com/@kyleeastwood7893 Spotify: ht
 tps://open.spotify.com/artist/2QUGNfaOw1iDPrXbECsd4I\n\n\n\nFb event: http
 s://www.facebook.com/events/2231635723986387\n\n\n\n\n
ATTACH;FMTTYPE=image/jpeg:https://photorokaj.com/wp-content/uploads/2025/1
 2/Vizual-2-1.png
LOCATION:Kino Sc\, Savska cesta 25\, Zagreb\, Hrvatska\, 10000\, Hrvatska
X-APPLE-STRUCTURED-LOCATION;VALUE=URI;X-ADDRESS=Savska cesta 25\, Zagreb\, 
 Hrvatska\, 10000\, Hrvatska;X-APPLE-RADIUS=100;X-TITLE=Kino Sc:geo:0,0
END:VEVENT
BEGIN:VTIMEZONE
TZID:Europe/Zagreb
X-LIC-LOCATION:Europe/Zagreb
BEGIN:DAYLIGHT
DTSTART:20260329T030000
TZOFFSETFROM:+0100
TZOFFSETTO:+0200
TZNAME:CEST
END:DAYLIGHT
END:VTIMEZONE
END:VCALENDAR