BEGIN:VCALENDAR
VERSION:2.0
PRODID:-//wp-events-plugin.com//7.2.3.1//EN
BEGIN:VEVENT
UID:1276@photorokaj.com
DTSTART;TZID=Europe/Zagreb:20261016T200000
DTEND;TZID=Europe/Zagreb:20261016T230000
DTSTAMP:20260216T193912Z
URL:https://photorokaj.com/events/laibach-singlom-allgorhythm-najavljuje-n
 ovi-album-kojeg-predstavljaju-i-u-zagrebu/
SUMMARY:Laibach singlom “Allgorhythm” najavljuje novi album kojeg preds
 tavljaju i u Zagrebu
DESCRIPTION:\n\nBoogaloo\, Zagreb // petak\, 16. listopada 2026.\n\n \n\nZa
 greb\, 11. veljače 2026. – Grupa Laibach singlom “Allgorhythm” naja
 vljuje objavu novog albuma “MUSICK”\, a pratit će ga i europska turne
 ja u sklopu koje dolaze u zagrebački klub Boogaloo u petak 16. listopada 
 2026.\n\n \n\nNovi album “MUSICK” prvo je studijsko dugometražno izda
 nje s autorskim materijalom nakon albuma “Spectre” iz 2014. godine. Al
 bum će 1. svibnja 2026. biti objavljen za britansku izdavačku kuću Mute
  na vinilu\, CD-u i u digitalnom obliku. Tim albumom Laibach istodobno sla
 vi i razigrano kritizira suvremeno razdoblje iskrivljene stvarnosti i umje
 tne inteligencije\, nudeći pritom kolekciju nesumnjivo zarazne pop-glazbe
  koja se prepušta hiperintenzivnoj postmodernosti.\n\n \n\nLaibach - “A
 llgorhythm”\n\n \n\n&nbsp\;\n\n \n\nNaslov albuma “MUSICK” krije klj
 uč te dvojnosti. Govori o prezasićenosti\, o zasićenju glazbom u vremen
 u kada je ima toliko da se njome jedva još možemo istinski baviti. Svako
 ga se dana na internet učita više od 100 000 novih pjesama\, a sve veći
  broj njih nastaje uz pomoć umjetne inteligencije – sve je više takozv
 anog digitalnog otpada. Kao i kod mnogih aspekata suvremenog života\, ve
 ć samo slušanje glazbe danas nas tjera da preispitujemo stvarnost. “MU
 SICK” to bolesno stanje izražava kroz izmičuće zvukove i reference\, 
 ali govori i o drugoj vrsti bolesti: patološkoj odanosti glazbi – “op
 sesiji\, svojevrsnoj drogi” – koja Laibach pokreće i u ovom razdoblju
  prezasićenosti.\n\n \n\nPrvi uvid u album donosi singl “Allgorhythm”
 \, na kojem sudjeluje ganska pjevačica\, “afrička lavica” Wiyaala. P
 jesmu je koproducirao Richard X (poznat po suradnji sa Sugababes\, Goldfra
 pp\, New Order\, M.I.A. i Kelis)\, a prati ju dinamičan videospot s Laiba
 chovim karizmatičnim frontmenom i Wiyaalom\, osmišljen tako da vaš algo
 ritam fokusira u najboljem mogućem smjeru. Ovaj inicijalni uvid donosi sm
 ioni kolaž elektroničkih pop klišeja\, refrena i beatova. I sadržajem 
 i formom vješto izjednačuje manipulativnu prirodu algoritama s prirodom 
 same glazbe – oboje su čarolije pod čijim se utjecajem nalazimo. Laiba
 ch je pjesmu “Allgorhythm”stvarao i s mišlju na potencijalno sudjelov
 anje na izboru za Pjesmu Eurovizije\, prije nego što se Slovenija krajem 
 prošle godine povukla iz natjecanja.\n\n \n\nGrupa je pri stvaranju album
 a u svom ljubljanskom studiju odabrala izrazito maksimalistički pristup. 
 Okružili su se svim mogućim glazbenim pomagalima\, od analognih sintesaj
 zera do igračaka i računala prepunih zvučnih aplikacija\, te pozvali su
 radnike iz Slovenije i inozemstva\, među njima dugogodišnju suradnicu Do
 nnu Marinu Mårtensson\, kao i Mancu Trampuš (Koala Voice)\, spomenutu Wi
 yaalu (The Yaga Yagas)\, balkansku pop divu Senidah\, Gregora Strasbergara
  (MRFY) i elektropop producenta Richarda X-a. Uronili su u širok spektar 
 suvremene glazbene produkcije\, od K-popa i J-popa do eurodancea devedeset
 ih. „Međutim\, naš glavni utjecaj i referentna točka ostao je sam Lai
 bach\,“ poručuju članovi grupe\, „u svim svojim nijansama\, varijaci
 jama i povijesnim preobrazbama.“ “MUSICK” je stoga izrazito pop-albu
 m\, ali istodobno i izrazito Laibach.\n\n \n\nKoncerti i izdanja Laibacha 
 redovito su hvaljeni\, pa Morning Star iz UK-a za nedavni nastup kaže da 
 “Laibach je izveo najbolji nastup koji sam ikada vidio u bilo kojoj umje
 tničkoj disciplini”.  Louder Than War dodaje da “Laibach nikada nisu
  zvučali relevantnije nego kada sviraju soundtrack za ovo apsurdno vrijem
 e”. The Wire piše “Alamut je strašan\, zastrašujući\, a istodobno 
 iznimno relevantan\; izraz moći koji je zbog trenutaka miline i ljepote t
 im više uznemirujući”\, dok The Guardian za  “The Sound of Music”
  da je “…potresno\, duhovito i poticajno za razmišljanje”.\n\n \n\n
 Laibach nikada nisu vjerovali u originalnost. Još od osnutka u Sloveniji 
 osamdesetih godina prošlog stoljeća grupa koristi pastiš\, satiru i apr
 oprijaciju u razmatranju proturječja društva. Predstavlja se kao uniform
 irani i izvorno anonimni kolektiv\, a njihova multidisciplinarna praksa ob
 uhvaća glazbu\, performans\, vizualnu umjetnost\, instalacije i manifestn
 e izjave. Glazbeni opus proteže se od neobičnih interpretacija zapadnih 
 pop-hitova i nastupa u Sjevernoj Koreji do simfonijske adaptacije romana 
 “Alamut” Vladimira Bartola te kazališnih glazbenih zapisa (Also Sprac
 h Zarathustra\, Wir Sind Das Volk). Već više od četiri desetljeća Laib
 ach ne samo da dovode u pitanje\, nego i aktivno razgrađuju pojam takozva
 nog individualnog umjetničkog genija.\n\n \n\nUlaznice za zagrebački kon
 cert promocije novog albuma su u pretprodaji od petka 13. veljače od 10:0
 0 sati. Prve ulaznice dostupne su po cijeni od 26 eura u sustavu Core Even
 t\, te u Dirty Old Shopu i Rockmarku.\n\n
ATTACH;FMTTYPE=image/jpeg:https://photorokaj.com/wp-content/uploads/2026/0
 2/Laibach_title_original-scaled.jpg
LOCATION:Boogaloo\, Ulica grada Vukovara 68\, Zagreb\, Hrvatska\, 10000\, H
 rvatska
X-APPLE-STRUCTURED-LOCATION;VALUE=URI;X-ADDRESS=Ulica grada Vukovara 68\, Z
 agreb\, Hrvatska\, 10000\, Hrvatska;X-APPLE-RADIUS=100;X-TITLE=Boogaloo:ge
 o:0,0
END:VEVENT
BEGIN:VTIMEZONE
TZID:Europe/Zagreb
X-LIC-LOCATION:Europe/Zagreb
BEGIN:DAYLIGHT
DTSTART:20260329T030000
TZOFFSETFROM:+0100
TZOFFSETTO:+0200
TZNAME:CEST
END:DAYLIGHT
END:VTIMEZONE
END:VCALENDAR