BEGIN:VCALENDAR
VERSION:2.0
PRODID:-//wp-events-plugin.com//7.2.3.1//EN
BEGIN:VEVENT
UID:1147@photorokaj.com
DTSTART;TZID=Europe/Zagreb:20260526T200000
DTEND;TZID=Europe/Zagreb:20260526T230000
DTSTAMP:20251209T150944Z
URL:https://photorokaj.com/events/laurie-anderson-u-svibnju-dolazi-u-lisin
 ski/
SUMMARY:Laurie Anderson u svibnju dolazi u Lisinski!
DESCRIPTION:\n\nPOVRATAK ZVIJEZDE AMERIČKE GLAZBENO-SCENSKE AVANGARDE\n\n 
 \n\nNakon 35 godina\, u Zagreb se vraća jedna od najutjecajnijih svjetski
 h interdisciplinarnih umjetnica\, koja će 26. svibnja 2026. izvesti progr
 am Republic of Love uz njujorški jazz-sastav Sexmob.\n\n \n\nLaurie Ander
 son je spisateljica\, redateljica\, vizualna umjetnica\, skladateljica i p
 jevačica koja je već desetljećima na samom vrhu eksperimentalne glazbe 
 i performansa. Svjetsku prepoznatljivost stekla je početkom osamdesetih g
 odina hitom O Superman\, a njezini su nastupi od tada sinonim za inovativn
 ost u kojoj se kombinira govor\, glazba\, multimedija i napredna tehnologi
 ja.\n\n \n\nNjezini multimedijski scenski projekti\, poput United States\,
  Empty Places\, Delusion i The End of the Moon stekli su kultni status\, d
 ok su njezini filmovi i instalacije prikazivani na najvažnijim svjetskim 
 festivalima i u muzejima\, od Venecije i Toronta do Smithsonianova muzeja 
 Hirshhorn. Laurie je bila prva rezidencijalna umjetnica NASA-e\, dobitnica
  je brojnih međunarodnih nagrada\, uključujući nagrade Grammy\, Medalje
  Stephen Hawking i Nagrade za životna postignuća Američke diskografske 
 akademije.\n\n \n\nSurađivala je s glazbenicima i umjetnicima kao što su
  Brian Eno\, Philip Glass\, Jean-Michel Jarre\, Robert Wilson\, William S.
  Burroughs i Peter Gabriel\, a njezina su djela izvedena na najvećim svje
 tskim pozornicama\, galerijama i festivalima. Njezin životni partner bio 
 je glazbena legenda Lou Reed\, s kojim je radila na brojnim projektima sve
  do njegove smrti 2013. godine.\n\n \n\nU novije je vrijeme nagrađivana z
 a projekte virtualne stvarnosti u suradnji s Hsin-Chien Huangom te nastavl
 ja pionirski rad na spoju umjetnosti i umjetne inteligencije.\n\n \n\nU Li
 sinski stiže kao jedna od najvažnijih umjetnica našega doba – autoric
 a koja već više od četrdeset godina pomiče granice glazbe\, performans
 a i tehnologije te neprestano iznova (re)definira umjetnost.\n\n \n\nNa po
 zornici Dvorane Lisinski 26. svibnja pridružit će joj se dugogodišnji s
 uradnici u proširenom sastavu\, njujorški jazz-sastav Sexmob\, koji čin
 e Steven Bernstein na trubi\, Briggan Krauss na alt-saksofonu\, gitaru i d
 rvene puhaće instrumente svira Doug Weiselman\, bas Tony Scherr\, bubnjev
 e i perkusije Kenny Wollesen\, a violinistice Mazz Swift i Christina Court
 in ujedno su i prateći vokali.\n\n \n\nIzvest će diskurzivni performans 
 Republic of Love o stanju umjetnosti i svijeta u kriznim vremenima. To je 
 Laurien poziv da sanjamo o budućnosti koja nije utemeljena na brzini\, u
 činkovitosti ili akumulaciji\, nego na novim načinima postojanja i suži
 vota.\n\n \n\nUlaznice su u prodaji od četvrtka\, 4. prosinca na blagajna
 ma Dvorane Lisinski i online na www.lisinski.hr.\n\n
ATTACH;FMTTYPE=image/jpeg:https://photorokaj.com/wp-content/uploads/2025/1
 2/image003.jpg
LOCATION:KONCERTNA DVORANA VATROSLAVA LISINSKOG\, Trg Stjepana Radića 4\, 
 ZAGREB\, 10000\, Hrvatska
X-APPLE-STRUCTURED-LOCATION;VALUE=URI;X-ADDRESS=Trg Stjepana Radića 4\, ZA
 GREB\, 10000\, Hrvatska;X-APPLE-RADIUS=100;X-TITLE=KONCERTNA DVORANA VATRO
 SLAVA LISINSKOG:geo:0,0
END:VEVENT
BEGIN:VTIMEZONE
TZID:Europe/Zagreb
X-LIC-LOCATION:Europe/Zagreb
BEGIN:DAYLIGHT
DTSTART:20260329T030000
TZOFFSETFROM:+0100
TZOFFSETTO:+0200
TZNAME:CEST
END:DAYLIGHT
END:VTIMEZONE
END:VCALENDAR