BEGIN:VCALENDAR
VERSION:2.0
PRODID:-//wp-events-plugin.com//7.2.3.1//EN
BEGIN:VEVENT
UID:1151@photorokaj.com
DTSTART;TZID=Europe/Zagreb:20260423T200000
DTEND;TZID=Europe/Zagreb:20260423T230000
DTSTAMP:20251209T154906Z
URL:https://photorokaj.com/events/leap/
SUMMARY:LEAP
DESCRIPTION:\n\n23.travnja 2026.\n\n \n\nBoogaloo\n\n \n\nBritanska rock se
 nzacija LEAP dolazi u Zagreb!\n\n \n\nU srijedu\, 23.travnja 2026.\, u kul
 tnom klubu Boogaloou\, svjedočit ćemo energičnom i opravdano hvaljenom 
 live nastupu benda čiji debitantski album Entropy (2025) već podiže pra
 šinu na europskoj sceni.\n\n \n\n“Exit Sings”\n\n \n\nhttps://youtu.b
 e/j-3HHFaWgro?si=SRiC2jxHkSY36YGD\n \n\nSpajajući sirovi rock\, post-grun
 ge groove i emotivne refrene\, LEAP nam donosi pjesme poput „Sinking Fee
 ling“\, „Play Dead“\, „Exit Signs“\, „Waste Your Love“ i „
 Do Or Die“ - pjesme koje osciliraju između bijesa\, tuge\, nade i oslob
 ađanja.\n\n \n\nNakon što su rasprodali brojne koncerte diljem Europe i 
 okupili internacionalnu bazu fanova\, LEAP su spremni Zagrebu pokazati za
 što ih se navodi kao jednog od najuzbudljivijih rock izvoznih aduta Ujedi
 njenog Kraljevstva.\n\n \n\n“Over and Out”\n\n \n\nhttps://youtu.be/0Z
 wYHdiiSSE?si=PE6m95j1AnPSnoK6\n \n\nUlaznice će biti dostupne putem Event
 im i Entrio sustava\, od petka\, 12.prosinca u 10:00h\, po cijeni od 24\,9
 0 eura.\n\n \n\nEventim : https://www.eventim.hr/artist/leap/\n\n
ATTACH;FMTTYPE=image/jpeg:https://photorokaj.com/wp-content/uploads/2025/1
 2/LEAP26-AW-041225-ZAGREB-scaled.jpg
LOCATION:Boogaloo\, Ulica grada Vukovara 68\, Zagreb\, Hrvatska\, 10000\, H
 rvatska
X-APPLE-STRUCTURED-LOCATION;VALUE=URI;X-ADDRESS=Ulica grada Vukovara 68\, Z
 agreb\, Hrvatska\, 10000\, Hrvatska;X-APPLE-RADIUS=100;X-TITLE=Boogaloo:ge
 o:0,0
END:VEVENT
BEGIN:VTIMEZONE
TZID:Europe/Zagreb
X-LIC-LOCATION:Europe/Zagreb
BEGIN:DAYLIGHT
DTSTART:20260329T030000
TZOFFSETFROM:+0100
TZOFFSETTO:+0200
TZNAME:CEST
END:DAYLIGHT
END:VTIMEZONE
END:VCALENDAR