BEGIN:VCALENDAR
VERSION:2.0
PRODID:-//wp-events-plugin.com//7.2.3.1//EN
BEGIN:VEVENT
UID:1271@photorokaj.com
DTSTART;TZID=Europe/Zagreb:20261122T200000
DTEND;TZID=Europe/Zagreb:20261122T230000
DTSTAMP:20260205T190219Z
URL:https://photorokaj.com/events/ljubav-ispricana-glazbom-sarah-brightman
 -poslala-poruku-publici-u-hrvatskoj-i-najavila-carobnu-vecer-u-zagrebu/
SUMMARY:LJUBAV ISPRIČANA GLAZBOM: SARAH BRIGHTMAN POSLALA PORUKU PUBLICI U
  HRVATSKOJ I NAJAVILA ČAROBNU VEČER U ZAGREBU
DESCRIPTION:\n\nValentinovo kao savršen trenutak da osigurate ulaznice za 
 koncert 22. studenoga  \n\n\n\n\n\nNa Valentinovo slavimo ljubav\, a upra
 vo tu emociju Sarah Brightman donosi publici u Arenu Zagreb 22. studenoga\
 , u sklopu koncerta koji je savršena prilika za poklon - doživljaj koji 
 se pamti cijeli život. Večer ispunjena strašću\, vrhunskom produkcijom
  i glasom koji ne poznaje granice podsjetnik je da su najveće ljubavne pr
 iče često ispričane kroz glazbu. U jedinstvenoj video poruci upućenoj 
 publici u Hrvatskoj\, Sarah Brightman izrazila je radost zbog dolaska u Za
 greb te poručila kako jedva čeka s publikom podijeliti čarobnu večer u
  sklopu turneje A Winter Symphony.\n\n\n\n\n\nDok publiku osvaja emocijama
  na pozornici\, najdublje i najvažnije ljubavne priče u karijeri Sarah B
 rightman ispričane su upravo kroz glazbu. Ljubavna priča Sarah Brightman
  i Andrewa Lloyda Webbera započela je glazbom - on je za nju napisao skla
 dbe koje su obilježile povijest mjuzikla i dirnule milijune srca diljem s
 vijeta. Phantom of the Opera\, All I Ask of You\, Don’t Cry for Me Argen
 tina\, Unexpected Song\, Love Changes Everything i mnoge druge nastale su 
 kao osobna pisma ljubavi\, a danas su bezvremenski klasici.\n\n\n\n\n\nAnd
 rew Lloyd Webber upoznao je Sarah Brightman kada je imala samo 19 godina\,
  a već tada ga je\, kako je sam isticao\, impresionirao nevjerojatan rasp
 on njezina glasa. Godinama kasnije opisao ju je kao umjetnicu čiji je gla
 s jedinstven po kvaliteti i savršenom osjećaju za intonaciju\, dodajući
  kako su mnoge njezine interpretacije njegovih skladbi ostale nedodirljive
 .\n\n\n\n\n\nBezvremenska snaga njezina glasa i interpretacija jednako sna
 žno odjekuje i kod današnje publike. Njezin dolazak u Zagreb izazvao je 
 iznimnu pažnju: „Veseli nas velik interes i brojni upiti publike. Sarah
  Brightman još jednom potvrđuje status jedne od najvećih glazbenih zvij
 ezda\, a Valentinovo nas podsjeća da se ljubav slavi svakoga dana te da n
 as 22. studenoga u Areni očekuje posebna glazbena večer“\, izjavio je 
 Alen Ključe ispred Star produkcije.\n\n\n\n\n\nS obzirom na velik interes
 \, turneja u organizaciji Star produkcije prvotno je najavljena u šest gr
 adova\, Ljubljani\, Budimpešti\, Zagrebu\, Beogradu\, Pragu i Bratislavi\
 , a naknadno je proširena dodatnim datumima u Njemačkoj\, u Leipzigu\, M
 ünchenu\, Berlinu i Düsseldorfu\, gdje će Sarah Brightman nastupiti uz 
 pratnju orkestra\, zbora i posebnih gostiju.\n\n\n\n\n\nIznenadite voljenu
  osobu ulaznicama i poklonite joj nezaboravno glazbeno iskustvo jer glazba
  uvijek pronalazi put do srca. Sve informacije o ulaznicama dostupne su na
  link .\n\n\n\n\n\nVideo pozdrav: https://www.youtube.com/watch?v=FKCqzpXp
 KjM\n\n\n\n\n\nhttps://www.youtube.com/watch?v=FKCqzpXpKjM
ATTACH;FMTTYPE=image/jpeg:https://photorokaj.com/wp-content/uploads/2026/0
 2/SB_HR_1920x1080.jpg
LOCATION:Arena Zagreb\, Lanište bb\, Zagreb\, Hrvatska\, 10000\, Hrvatska
X-APPLE-STRUCTURED-LOCATION;VALUE=URI;X-ADDRESS=Lanište bb\, Zagreb\, Hrva
 tska\, 10000\, Hrvatska;X-APPLE-RADIUS=100;X-TITLE=Arena Zagreb:geo:0,0
END:VEVENT
BEGIN:VTIMEZONE
TZID:Europe/Zagreb
X-LIC-LOCATION:Europe/Zagreb
BEGIN:STANDARD
DTSTART:20261025T020000
TZOFFSETFROM:+0200
TZOFFSETTO:+0100
TZNAME:CET
END:STANDARD
END:VTIMEZONE
END:VCALENDAR