BEGIN:VCALENDAR
VERSION:2.0
PRODID:-//wp-events-plugin.com//7.2.3.1//EN
BEGIN:VEVENT
UID:480@photorokaj.com
DTSTART;TZID=Europe/Zagreb:20250315T220000
DTEND;TZID=Europe/Zagreb:20250315T230000
DTSTAMP:20250313T191227Z
URL:https://photorokaj.com/events/love-hangover-k-pop-party/
SUMMARY:LOVE HANGOVER! K-Pop Party
DESCRIPTION:\n\n22:00\n\n \n\n&nbsp\;\n\n \n\nČak mjesec dana nakon Valent
 inova još uvijek ćemo biti mamurni od ljubavi – u subotu\, 15. 3.\, u 
 klubu DVA OSAM na LOVE HANGOVER K-Pop partyju kojim slavimo White Day!\n\n
  \n\nSubota\, 15.3.2025.\n\n \n\nDok svi slave dan ljubavi samo u drugom m
 jesecu\, Južna Koreja kao odgovor na to u ožujku slavi White Day! Pripre
 mite se za cijelu noć najboljih i najromantičnijih K-pop hitova u klubu 
 DVA OSAM!\n\n \n\nDress code: white!\n\n \n\n 	• • • •\n\n \n\nUdr
 uga korejsko-hrvatskih susreta\, bolje znana kao Korea Croatia Events\, ud
 ruga je koja od 2018. godine promovira južnokorejsku kulturu na području
  Hrvatske. S događajima u rasponu od K-pop partija i filmskih premijera d
 o plesnih radionica i natjecanja\, te kulturnih događaja i rock koncerata
 \, misija je povezati zajednicu ljubitelja korejske kulture u Hrvatskoj.\n
 \n \n\n• https://www.instagram.com/koreacroatiaevents\n• https://www.f
 acebook.com/koreacroatiaevents\n\n \n\n 	• • • •\n\n \n\nCijena ul
 aznice:\n\n \n\n4\,00 € u pretprodaji\n6\,00 € na ulazu u klub\n\n \n\
 nOsim putem interneta\, pretprodajne ulaznice se mogu kupiti i u dućanu p
 loča PDV\, na prvom katu kluba Pločnik\, u Međimurskoj ulici 21 u Zagre
 bu.\n\n
ATTACH;FMTTYPE=image/jpeg:https://photorokaj.com/wp-content/uploads/2025/0
 3/7654bf83-2a18-4c97-8ce7-e0e1bda5f6e4_1200_1200_WIDTH.webp
LOCATION:DVA OSAM\, Jabukovac 28\, Zagreb\, Hrvatska\, 10000\, Hrvatska
X-APPLE-STRUCTURED-LOCATION;VALUE=URI;X-ADDRESS=Jabukovac 28\, Zagreb\, Hrv
 atska\, 10000\, Hrvatska;X-APPLE-RADIUS=100;X-TITLE=DVA OSAM:geo:0,0
END:VEVENT
BEGIN:VTIMEZONE
TZID:Europe/Zagreb
X-LIC-LOCATION:Europe/Zagreb
BEGIN:STANDARD
DTSTART:20241027T020000
TZOFFSETFROM:+0200
TZOFFSETTO:+0100
TZNAME:CET
END:STANDARD
END:VTIMEZONE
END:VCALENDAR