BEGIN:VCALENDAR
VERSION:2.0
PRODID:-//wp-events-plugin.com//7.2.3.1//EN
BEGIN:VEVENT
UID:1352@photorokaj.com
DTSTART;TZID=Europe/Zagreb:20260620T200000
DTEND;TZID=Europe/Zagreb:20260620T230000
DTSTAMP:20260403T064628Z
URL:https://photorokaj.com/events/maksim-mrvica-s-hvaljenom-turnejom-segme
 nti-u-lipnju-nastupa-u-srcu-pule-u-jedinstvenom-malom-rimskom-kazalistu/
SUMMARY:Maksim Mrvica s hvaljenom turnejom Segmenti u lipnju nastupa u srcu
  Pule - u jedinstvenom Malom rimskom kazalištu
DESCRIPTION:Planetarno poznati pijanist nastupa 20. lipnja u jedinstvenom a
 mbijentu pulskog Malog rimskog kazališta u sklopu ljetnog poglavlja hvalj
 enje svjetske turneje Segmenti \n\n&nbsp\;\n\nPula\, 1. travnja 2026.  -
  Maksim Mrvica\, svjetski priznati virtuoz i jedan od najuspješnijih cros
 sover pijanista današnjice\, vraća se u Pulu nakon više od deset godina
 \, gdje će u subotu\, 20. lipnja 2026. održati koncert u Malom rimskom k
 azalištu u samom srcu Pule.\n\n&nbsp\;\n\nMaksim Mrvica u Pulu dolazi u s
 klopu svjetske turneje Segmenti 2\, kojom predstavlja svoj dvanaesti studi
 jski album “Segmenti”. Turneja je već obišla niz svjetskih gradova\,
  od Londona i Pariza do Sydneya\, Pekinga\, Zagreba i Ljubljane. Novo\, lj
 etno poglavlje turneje donosi osvježen repertoar uz koji će publika imat
 i priliku čuti i njegove najpoznatije izvedbe\, uključujući Exodus\, Ga
 me of Thrones i Pirates of the Caribbean. Program spaja klasičnu glazbu\,
  svjetske hitove i filmsku glazbu\, povezujući autore poput Chopina\, Pro
 kofjeva i Čajkovskog s glazbom grupa ABBA i Queen u prepoznatljivoj inter
 pretaciji ovog karizmatičnog pijanista. \n\nRepertoar uključuje izbor i
 z novog albuma\, kao i poznate skladbe iz ranijih faza karijere. Među nji
 ma je i “Prokofiev Fantasy”\, djelo koje objedinjuje Toccatu\, teme iz
  baleta Romeo i Julija te završnicu Trećeg klavirskog koncerta Sergeja P
 rokofjeva. Maksimova izvedba skladbe “Prokofiev Fantasy” nedavno dobil
 a i videospot. \n\nPOGLEDAJTE VIDEOSPOT ZA “PROKOFIEV FANTASY” \n\nM
 aksim Mrvica jedan je od najprodavanijih crossover pijanista na svijetu\, 
 s više od 5 milijuna prodanih albuma u 57 zemalja i brojnim zlatnim i pla
 tinastim izdanjima. Glazbeno obrazovanje završio je na Franz Liszt Akadem
 iji u Budimpešti i Konzervatoriju Aleksandra Skrjabina u Parizu\, nakon o
 svojenih prvih nagrada na nacionalnom natjecanju u Hrvatskoj i Rubinsteino
 vu natjecanju u Francuskoj. \n\n\n\nSvjetski uspjeh postigao je albumom 
 “The Piano Player”\, koji je ostvario višestruke platinaste i zlatne 
 naklade. Tijekom karijere nastupao je u najprestižnijim dvoranama svijeta
 \, uključujući London\, New York\, Tokio\, Peking i Sydney\, te surađiv
 ao s vodećim diskografskim kućama. Njegov jedinstveni stil briše granic
 e između klasične\, filmske i popularne glazbe te ga čini jednim od naj
 prepoznatljivijih glazbenika svoje generacije.\n\nKoncert Maksima Mrvice u
  Malom rimskom kazalištu\, ovom jedinstvenom antičkom  ambijentu u srcu
  Pule\, glazbeno je iskustvo koje se ne propušta. \n\nUlaznice za koncer
 t bit će u prodaji od četvrtka\, 2. travnja 2026.\, od 10 ujutro\, putem
  sustava Entrio.hr i na Entrio fizičkim prodajnim mjestima. Cijene ulazni
 ca se kreću od 50 do 70 eura\, ovisno i kategoriji. \n\nOrganizator konc
 erta je Virido S.A. u suradnji s International Production.\n\n\n\n&nbsp\;\
 n\nMAKSIM MRVICA WEBSITE / FACEBOOK / INSTAGRAM / SPOTIFY / YOUTUBE\n\n&nb
 sp\;
ATTACH;FMTTYPE=image/jpeg:https://photorokaj.com/wp-content/uploads/2026/0
 4/mrvica-fb-event.png
LOCATION:Malo rimsko kazalište u Puli\, Pula\, Pula\, Hrvatska
X-APPLE-STRUCTURED-LOCATION;VALUE=URI;X-ADDRESS=Pula\, Pula\, Hrvatska;X-AP
 PLE-RADIUS=100;X-TITLE=Malo rimsko kazalište u Puli:geo:0,0
END:VEVENT
BEGIN:VTIMEZONE
TZID:Europe/Zagreb
X-LIC-LOCATION:Europe/Zagreb
BEGIN:DAYLIGHT
DTSTART:20260329T030000
TZOFFSETFROM:+0100
TZOFFSETTO:+0200
TZNAME:CEST
END:DAYLIGHT
END:VTIMEZONE
END:VCALENDAR