BEGIN:VCALENDAR
VERSION:2.0
PRODID:-//wp-events-plugin.com//7.2.3.1//EN
BEGIN:VEVENT
UID:1139@photorokaj.com
DTSTART;TZID=Europe/Zagreb:20260716T200000
DTEND;TZID=Europe/Zagreb:20260716T230000
DTSTAMP:20251205T090001Z
URL:https://photorokaj.com/events/marilyn-manson-%e2%94%82-arena-zagreb-%e
 2%94%82-16-07-2026/
SUMMARY:Marilyn Manson │ Arena Zagreb │ 16.07.2026.
DESCRIPTION:\n\nNUCOAST CONCERTS I LIVE NATION NAJAVLJUJU\n\n \n\nMarilyn M
 anson nakon više od 20 godina\nponovo u Hrvatskoj\n\n \n\nVELIKA SVJETSKA
  TURNEJA\n„ONE ASSASSINATION UNDER GOD”\nDvadeset godina nakon što su
  svojim nastupom uzdrmali pulski Amfiteatar\, rock shock sastav Marilyn Ma
 nson ponovno se vraća u Hrvatsku ne ostavljajući prostora za ravnodušno
 st. Ovaj glazbeno scenski fenomen već desetljećima istovremeno izaziva f
 ascinaciju\, a u Arenu Zagreb stiže 16. srpnja 2026. u sklopu turneje “
 One Assassination Under God”. Ulaznice su u prodaji od petka\, 5. prosin
 ca\, u sustava Eventima.\nMarilyn Manson predstavlja fenomen alternativne 
 scene i jedan od najintrigantnijih rock shock umjetničkih koncepata dana
 šnjice\, a od samih početaka 1989. funkcionira kao spoj glamura i grotes
 ke oblikovan da provocira i razotkriva. Katalog od dvanaest albuma\, uklju
 čujući aktualni “One Assassination Under God – Chapter 1” (2024.) 
 i najavljeni nastavak\, afirmirao ih je kao glazbenike koji pomiču granic
 u umjetničke slobode. Nakon što su prošle godine započeli svjetsku tur
 neju i počeli puniti europske prostore\, jasno je da povratak nije sentim
 entalna gesta\, nego precizno orkestrirano zauzimanje kreativnog prostora 
 koji nikada nije bio potpuno napušten.\nIme frontmena\, Briana Hugha Warn
 era\, kao i čitavog sastava\, nastalo je kombinirajući imena “Marilyn 
 Monroe” i “Charles Manson”. Frontmen je svoju karijeru započeo kao 
 novinar sa stavom da su za medije i seks simbol i vođa ubilačkoga kulta 
 tek samo senzacionalističke figure\, a već je taj izbor jasno pokazao da
  cilja na provokaciju i kritiku. Svoj su prvi album objavili 1994. pod\, t
 ada novom\, izdavačkom kućom Trenta Reznora (Nine Inch Nails)\, a njihov
  drugi album\, “Antichrist Superstar”\, donio im je svjetsku slavu. Da
 nas su\, osim u glazbi\, aktivni i u likovnoj te filmskoj umjetnosti.\nIak
 o bend još uvijek nije završio ovogodišnji dio turneje “One Assassina
 tion Under God”\, već su najavili nove festivalske datume i koncerte za
  iduću godinu među kojima je i Zagreb. Više informacija o rasporedu tur
 neje i datumima te prodaji ulaznica može se pronaći na službenoj strani
 ci www.marilynmanson.com. Ulaznice za zagrebački koncert u prodaji su v
 eć od ovog petka\, 5. prosinca\, a može ih se osigurati putem na svim pr
 odajnima mjestima Eventima kao i putem online sustava www.eventim.hr.\n\n
ATTACH;FMTTYPE=image/jpeg:https://photorokaj.com/wp-content/uploads/2025/1
 2/592344792_1442596074536000_7869007442379217144_n.jpg
LOCATION:Arena Zagreb\, Lanište bb\, Zagreb\, Hrvatska\, 10000\, Hrvatska
X-APPLE-STRUCTURED-LOCATION;VALUE=URI;X-ADDRESS=Lanište bb\, Zagreb\, Hrva
 tska\, 10000\, Hrvatska;X-APPLE-RADIUS=100;X-TITLE=Arena Zagreb:geo:0,0
END:VEVENT
BEGIN:VTIMEZONE
TZID:Europe/Zagreb
X-LIC-LOCATION:Europe/Zagreb
BEGIN:DAYLIGHT
DTSTART:20260329T030000
TZOFFSETFROM:+0100
TZOFFSETTO:+0200
TZNAME:CEST
END:DAYLIGHT
END:VTIMEZONE
END:VCALENDAR