BEGIN:VCALENDAR
VERSION:2.0
PRODID:-//wp-events-plugin.com//7.2.3.1//EN
BEGIN:VEVENT
UID:1265@photorokaj.com
DTSTART;TZID=Europe/Zagreb:20260628T200000
DTEND;TZID=Europe/Zagreb:20260628T230000
DTSTAMP:20260205T182409Z
URL:https://photorokaj.com/events/mastodon-se-vraca-u-zagrebzagreb-tvornic
 a-kulture-nedjelja-28-lipnja-2026/
SUMMARY:Mastodon se vraća u Zagreb!Zagreb\, Tvornica kulture // nedjelja\,
  28. lipnja 2026.
DESCRIPTION:\n\nZagreb\, 3. veljače 2026. - Metal titani Mastodon vraćaju
  se uZagreb i to u Tvornicu kulture u nedjelju 28. lipnja 2026.\n\n\n\n\n\
 nOmiljeni bend domaćih fanova žestoke glazbe više je puta do sada raspr
 odavao zagrebačke koncertne prostore\, a novi susret najavljen je za poč
 etak ljeta. Jedan od najvećih i najznačajnijih metal bendova današnjice
  u Hrvatsku dolazi u sklopu velike turneje koja ih vodi po festivalima i h
 eadlinerskim nastupima\, a divovi iz Atlante dolaze na jednu od svojih omi
 ljenih koncertnih destinacija.\n\n\n\n\n\nMastodon - “Pushing The Tides
 ”\n\n\n\n\n\nhttps://www.youtube.com/watch?v=haT5ars6RXc&amp\;ab_channel
 =Mastodon\n\n\n\n\nU više od dva desetljeća Mastodon su redefinirali met
 al glazbu. Probili su se na svjetsku scenu mješavinom mnogih žanrova met
 ala\, od progresivnog i eksperimentalnog do sludgea i stonera\, sve potkre
 pljujući eksplozivnim i moćnim live nastupima. U glazbenu povijest Masto
 don ostaje upisan s hvaljenim albumima kao što su “Leviathan”\, koji 
 je Rolling Stone uvrstio na popis 100 najboljih metal albuma svih vremena\
 , “Crack the Skye”\, “The Hunter”\, “Emperor of Sand” i “Hus
 hed and Grim”\, a izdanja redovito završavaju među najboljim albumima 
 Billboardove ljestvice. Višestruki dobitnici nominacija za Grammyja\, u k
 ategoriji najbolje metal izvedbe nagradu su i dobili za pjesmu "Sultan's C
 urse".\n\n\n\n\n\nBend svakim svojim izdanjem podiže ljestvicu u modernom
  metalu\, a njihova glazba može se čuti u serijama poput “The Game of 
 Thrones”\, programima The History Channel\, kao i festivalima poput Coac
 helle. Redovito su hvaljeni po glasovitim specijaliziranim medijima kao š
 to su Metal Hammer\, Classic Rock ili Rock Sound. Istovremeno ih BBC naziv
 a “najambicioznijim\, najneustrašivijim i najzabavnijim metal bendom ko
 ji se probio do mainstreama”\, a Rolling Stone piše da su “najvažnij
 i noviji metal bend”. Hvalospjevi dolaze i za singl “Floods of Triton
 ” koji potpisuju s Lamb of God nakon što su s njima odradili turneju po
  arenama.\n\n\n\n\n\nMastodon - “Sultan’s Curse”\n\n\n\n\n\nhttps://
 www.youtube.com/watch?v=Og39iIBeOHI&amp\;ab_channel=Mastodon\n\n\n\n\nKroz
  dva desetljeća dugu karijeru Mastodon je zacementirao poziciju jednog od
  najtraženijih bendova\, a hvaljeni su kao jedni od najmoćnijih live izv
 ođača i nastavljaju pomicati kreativne i glazbene granice.\n\n\n\n\n\nPr
 ve ulaznice su u prodaji od petka\, 6. veljače\, od 11:00 sati\, po cijen
 i od 36 eura. Bit će dostupne u sustavu CoreEvent\, kao i u Dirty Old Sho
 pu\, Rockmarku i Dallas Music Shopu u Rijeci.
ATTACH;FMTTYPE=image/jpeg:https://photorokaj.com/wp-content/uploads/2026/0
 2/Mastodon-2026-scaled.jpg
END:VEVENT
BEGIN:VTIMEZONE
TZID:Europe/Zagreb
X-LIC-LOCATION:Europe/Zagreb
BEGIN:DAYLIGHT
DTSTART:20260329T030000
TZOFFSETFROM:+0100
TZOFFSETTO:+0200
TZNAME:CEST
END:DAYLIGHT
END:VTIMEZONE
END:VCALENDAR