BEGIN:VCALENDAR
VERSION:2.0
PRODID:-//wp-events-plugin.com//7.2.3.1//EN
BEGIN:VEVENT
UID:1377@photorokaj.com
DTSTART;TZID=Europe/Zagreb:20260429T200000
DTEND;TZID=Europe/Zagreb:20260429T234500
DTSTAMP:20260423T062450Z
URL:https://photorokaj.com/events/mate-ponjevic-i-tigrovi-krecu-na-put-pro
 motivna-turneja-za-novi-album-tigrova-mast/
SUMMARY:Mate Ponjević i Tigrovi kreću na put: promotivna turneja za novi 
 album "Tigrova mast"
DESCRIPTION:\n\nZagreb\, 16. travnja 2026. - Svega godinu dana nakon što j
 e s debitantskim albumom “Sve na Orfanele” redefinirao očekivanja reg
 ionalne nezavisne scene\, zagrebački autor i producent Mate Ponjević spr
 eman je za iduće poglavlje. Njegov novi studijski album “Tigrova mast
 ”\, ne dolazi samo kao nastavak\, već kao zvučna evolucija i potvrda P
 onjevića kao ključne figure "nove struje" regionalne glazbene scene. Kak
 o bi obilježio izlazak materijala koji vješto balansira između sirovost
 i njegovih ranijih projekata i poliranog\, slojevitog pop formata\, Ponjev
 ić u pratnji svog benda Tigrovi kreće na promotivnu mini-turneju.\n\n\n\
 n\n\nSerija nastupa počinje u zagrebačkom Boogaloou u petak 29. svibnja\
 , a dan kasnije nastavlja se u zadarskoj Nigdjezemskoj. Nemo Klub u Rijeci
  slušat će Matu i Tigrove 5. lipnja\, a 26. istog mjeseca stižu na prvo
  izdanje Surf Festivala u Punat na otoku Krku.\n\n\n\n\n\nMate Ponjević 
 – “Ljetne kiše”\n\n\n\n\n\nhttps://www.youtube.com/watch?v=f6xPivVC
 DYY&amp\;list=RDf6xPivVCDYY&amp\;start_radio=1\n\n\n\n\n“Tigrova mast”
  je album koji je već sada kritičari hvale a ljudi iznova preslušavaju.
  Dok naziv albuma služi kao metafora za univerzalni lijek\, glazba unutar
  njega funkcionira kao balansiranje između autorske hermetičnosti i zara
 znih\, gotovo hipnotičkih melodija. Uživo\, Ponjević i Tigrovi obećava
 ju iskustvo koje transformira studijsku introspekciju u kolektivni\, dobro
  uigran sraz jakih instrumentalista\, vođenih dualnošću tigra - simbola
  snage koja je istovremeno divlja i precizno usmjerena.\n\n\n\n\n\nIzmeđu
  ostalog mediji ističu kako “Ponjevićevo izdanje nije zadalo katastrof
 alne udarce glavnom nam gradu\, ali glazbenoj sceni je donijelo tektonski 
 pomak od barem tri divovska koraka naprijed”\, kao i da „na ovom album
 u iznosi jasnu autorsku viziju\, a to je potaknuti slušatelje na pjesmu i
  ples te isporučiti pjesme koje će ostati u uhu i nakon što se posluša
 ju”.\n\n\n\n\n\nOvi koncerti prilika su da publika uživo osjeti "očeki
 vano neočekivano"\, zvuk koji je živ i koji se uspijeva odhrvati kategor
 ijama i smjerovima upravo u trenutku kad mislite da ste ga definirali.\n\n
 \n\n\n\nUlaznice za Boogaloo po cijeni od 10 eura mogu se kupiti u sustavu
  Core Event.\n\n\n\n\n\nAlbum "Tigorva mast" dostupan je u formi videa na 
 službenom YouTube kanalu\, a može se slušati na svim streaming platform
 ama.
ATTACH;FMTTYPE=image/jpeg:https://photorokaj.com/wp-content/uploads/2026/0
 4/IMG_6277-scaled.jpeg
LOCATION:Boogaloo\, Ulica grada Vukovara 68\, Zagreb\, Hrvatska\, 10000\, H
 rvatska
X-APPLE-STRUCTURED-LOCATION;VALUE=URI;X-ADDRESS=Ulica grada Vukovara 68\, Z
 agreb\, Hrvatska\, 10000\, Hrvatska;X-APPLE-RADIUS=100;X-TITLE=Boogaloo:ge
 o:0,0
END:VEVENT
BEGIN:VTIMEZONE
TZID:Europe/Zagreb
X-LIC-LOCATION:Europe/Zagreb
BEGIN:DAYLIGHT
DTSTART:20260329T030000
TZOFFSETFROM:+0100
TZOFFSETTO:+0200
TZNAME:CEST
END:DAYLIGHT
END:VTIMEZONE
END:VCALENDAR