BEGIN:VCALENDAR
VERSION:2.0
PRODID:-//wp-events-plugin.com//7.2.3.1//EN
BEGIN:VEVENT
UID:1353@photorokaj.com
DTSTART;TZID=Europe/Zagreb:20260507T200000
DTEND;TZID=Europe/Zagreb:20260507T230000
DTSTAMP:20260403T070218Z
URL:https://photorokaj.com/events/mavi-kan/
SUMMARY:MAVI KAN
DESCRIPTION:7.5.2026.\n\nBOOGALOO\n\nNakon višegodišnje diskografske pauz
 e\, Mavi Kan se vraća na pozornicu s novim materijalom i koncertom koji s
 e ne propušta\n\nMavi Kan se vraća pred zagrebačku publiku velikim konc
 ertom u četvrtak\, 7. svibnja 2026. u klubu Boogaloo\, gdje će s početk
 om u 21 sat predstaviti svoj novi album Future Sound of Sevdah\, koji izla
 zi u travnju ove godine\, u izdanju Dallas Recordsa.\n\nBend čiju okosnic
 u čine vrhunski glazbenici sa zagrebačkom adresom i snažnim bosanskim k
 orijenima\, od svog pojavljivanja 2007. godine i hvaljenog albuma OrnaMent
 al kontinuirano ruši granice između tradicionalnog i modernog. Njihov pr
 epoznatljiv zvuk\, često opisan kao “crno-bijeli film sa soundtrackom 2
 1. stoljeća”\, donosi jedinstvenu fuziju sevdaha\, autorskog štiha\, j
 azza\, world musica i suvremenih aranžmana.\n\nU Boogaloou će\, uz presj
 ek najznačajnijih pjesama iz dosadašnje karijere\, premijerno izvesti i 
 nove skladbe s nadolazećeg albuma\, uključujući i recentni singl „Tra
 žiš me opet“.\n\n“Tražiš me opet”\n\nPubliku na koncertu u Booga
 loou očekuje koncert koji donosi prepoznatljivu kombinaciju vrhunskog muz
 iciranja\, sugestivnih aranžmana i snažne emocije\, u kojoj posebno dola
 ze do izražaja kristalni vokal Sakin Modronje i virtuozna violina Brune U
 rlića.\n\nUz njih\, na pozornici će nastupiti i Bruna Matić na bubnjevi
 ma\, Robin Knežević na basu te Petar Ćulibrk na klaviru\, čineći uigr
 ani sastav koji garantira večer ispunjenu odličnom atmosferom i iskrenom
  energijom.\n\nUlaznice za koncert Mavi Kana u Boogaloou dostupne su u pre
 tprodaji putem sustava Entrio po cijeni od 16 eura\, a s obzirom na dugoo
 čekivani povratak benda i promociju novog materijala\, interes publike ve
 ć je u porastu.\n\nVidimo se 7. svibnja u Boogaloou.Top of Form\n\nLink n
 a ulaznice : http://entrio.hr/event/mavi-kan-31489\n\n&nbsp\;\n\n
ATTACH;FMTTYPE=image/jpeg:https://photorokaj.com/wp-content/uploads/2026/0
 4/Vizual_Mavi_kan.jpg
LOCATION:Boogaloo\, Ulica grada Vukovara 68\, Zagreb\, Hrvatska\, 10000\, H
 rvatska
X-APPLE-STRUCTURED-LOCATION;VALUE=URI;X-ADDRESS=Ulica grada Vukovara 68\, Z
 agreb\, Hrvatska\, 10000\, Hrvatska;X-APPLE-RADIUS=100;X-TITLE=Boogaloo:ge
 o:0,0
END:VEVENT
BEGIN:VTIMEZONE
TZID:Europe/Zagreb
X-LIC-LOCATION:Europe/Zagreb
BEGIN:DAYLIGHT
DTSTART:20260329T030000
TZOFFSETFROM:+0100
TZOFFSETTO:+0200
TZNAME:CEST
END:DAYLIGHT
END:VTIMEZONE
END:VCALENDAR