BEGIN:VCALENDAR
VERSION:2.0
PRODID:-//wp-events-plugin.com//7.2.3.1//EN
BEGIN:VEVENT
UID:1376@photorokaj.com
DTSTART;TZID=Europe/Zagreb:20260425T200000
DTEND;TZID=Europe/Zagreb:20260425T234500
DTSTAMP:20260423T061943Z
URL:https://photorokaj.com/events/mitsko-bice-i-iva-bobanovic-sviraju-u-mo
 cvari-u-sklopu-programa-kset50/
SUMMARY:Mitsko Biće i Iva Bobanović sviraju u Močvari u sklopu programa 
 KSET50
DESCRIPTION:Zagreb\, 16. travnja 2026. – Beogradski bend Mitsko Biće u s
 klopu programa KSET50 promovira svoj debitantski album „Došlo vreme da 
 se Biće menja“\, a na pozornici će im se kao support pridružiti talen
 tirana zagrebačka kantautorica Iva Bobanović. Koncert će se održati u 
 subotu\, 25. travnja 2026. godine u klubu Močvara.\n\n&nbsp\;\n\nZagreba
 čka kantautorica Iva Bobanović u svom glazbenom izričaju spaja intimnu 
 liriku s modernim akustičnim i chamber folk zvukom. Njezin izražaj prate
  emotivna iskrenost\, harmonijska radoznalost i snažan vokal koji lako us
 postavlja vezu s publikom. Ivine su pjesme atmosferične\, introspektivne\
 , refleksivne i melankolične\, a u njima kombinira žanrove od folka\, ja
 zza\, progresivnog i avant-popa do utjecaja klasične glazbe. Iva je kroz 
 godine razvila autentičan stil inspiriran svakodnevnim životom\, odnosim
 a i unutarnjim svijetom\, a njezini nastupi odišu toplinom i neposrednoš
 ću. U Močvari će joj se na pozornici pridružiti  gitarist Filip Mlina
 rić\, a duo će zagrijati publiku za nastup beogradskog benda Mitsko Bić
 e.\n\nMitsko Biće – „Berlin Second Hand“\n\nMitsko Biće beogradski
  je indie bend koji istražuje unutarnji rast\, ranjivost i tihe osobne re
 volucije. Njihov zvuk kombinira topli bedroom indie\, nježni rock i diskr
 etnu psihodeliju\, stvarajući atmosferu toplog i iskrenog razgovora. U pr
 oljeće prošle godine samostalno su objavili debitantski album „Došlo 
 vreme da se Biće menja“ sastavljen od devet pjesama o promjeni koje don
 ose emotivne priče o strahu\, nježnosti\, ljubavi i potrebi da budemo vi
 đeni. S albuma su zasad izdvojena dva singla koje prate videospotovi – 
 „Prijatelji“ i „Berlin Second Hand“ – a činit će konceptualni 
 triptih. „Prijatelji“ predstavljaju prvo poglavlje priče: u spotu čl
 anovi benda dolaze do tajnog znanja o gradu Svetog Povjerenja i saznaju za
  staru predaju prema kojoj na putu prema višem stupnju prosvijećenosti t
 rebaju otvoriti prodavaonicu second-hand odjeće. Spot za pjesmu „Berlin
  Second Hand“ donio je nastavak priče\, a na putu prema prosvijećenim 
 i slobodarskim idejama Mitsko Biće pada u klopku konzumerizma u koju uvla
 či i stanovnike grada Svetog Povjerenja. Svi se zajedno prepuštaju potro
 šačkom užitku\, ali ne bez posljedica.\n\nMitsko Biće – „Prijatelj
 i“\n\nMitsko Biće predstavit će album prvijenac sljedeće subote u klu
 bu Močvara i pridružiti se proslavi KSET-ovog 50. rođendana. Na pozorni
 cu će se prvo popeti Iva Bobanović u duetu s gitaristom Filipom Mlinari
 ćem i publiku uvesti u nježnu i emotivnu atmosferu.\n\nUlaznice po pretp
 rodajnoj cijeni od 10 eura dostupne su online na karte.kset.org\, a količ
 ina je ograničena. U slučaju da ulaznica ostane\, na dan koncerta košta
 t će 12 eura i bit će dostupne na ulazu.\n\n
ATTACH;FMTTYPE=image/jpeg:https://photorokaj.com/wp-content/uploads/2026/0
 4/MitskoBice-01-scaled.jpg
LOCATION:Klub Močvara\, Trnjanska struga 34\,\, Zagreb\, Hrvatska\, 10000\
 , Hrvatska
X-APPLE-STRUCTURED-LOCATION;VALUE=URI;X-ADDRESS=Trnjanska struga 34\,\, Zag
 reb\, Hrvatska\, 10000\, Hrvatska;X-APPLE-RADIUS=100;X-TITLE=Klub Močvara
 :geo:0,0
END:VEVENT
BEGIN:VTIMEZONE
TZID:Europe/Zagreb
X-LIC-LOCATION:Europe/Zagreb
BEGIN:DAYLIGHT
DTSTART:20260329T030000
TZOFFSETFROM:+0100
TZOFFSETTO:+0200
TZNAME:CEST
END:DAYLIGHT
END:VTIMEZONE
END:VCALENDAR