BEGIN:VCALENDAR
VERSION:2.0
PRODID:-//wp-events-plugin.com//7.2.3.1//EN
BEGIN:VEVENT
UID:1116@photorokaj.com
DTSTART;TZID=Europe/Zagreb:20260723T200000
DTEND;TZID=Europe/Zagreb:20260723T230000
DTSTAMP:20251224T080847Z
URL:https://photorokaj.com/events/moby-prvi-put-samostalno-nastupa-u-hrvat
 skoj-u-srpnju-u-pulskoj-areni/
SUMMARY:Moby prvi put samostalno nastupa u Hrvatskoj u srpnju u pulskoj Are
 ni!
DESCRIPTION:\nGlazbeni vizionar koji je obilježio generacije stiže u puls
 ku Arenu s potpuno novim live spektaklom\n&nbsp\;\nhttps://photorokaj.com/
 velik-interes-za-mobyjev-koncert-u-puli-prodano-vise-od-50-posto-kapacitet
 a-arene/\n\n\n\nPula\, 19. studenoga 2025. – Jedna od najutjecajnijih fi
 gura suvremene glazbe\, Moby\, stiže 23. srpnja 2026. u pulsku Arenu\, gd
 je će održati svoj prvi samostalni koncert u Hrvatskoj. Ovaj glazbeni vi
 zionar 2024. je obilježio 25. godišnjicu svog epohalnog albuma Play\, a 
 u 2026. godini kreće na novu veliku turneju s potpuno novim live spektakl
 om.\n\n\n\nPoznat kao arhitekt glazbenih emocija\, Moby je kroz tri desetl
 jeća karijere oblikovao generacije slušatelja\, spajajući brojne žanro
 ve i pretvarajući intimnu introspekciju u globalne himne. S više od 20 m
 ilijuna prodanih albuma\, hitovima poput „Porcelain“\, „Natural Blue
 s“ i „Why Does My Heart Feel So Bad?“\, glazbom za filmove i serije 
 te suradnjama s umjetnicima kao što su David Bowie\, Public Enemy\, Ozzy 
 Osbourne\, The Beastie Boys i Daft Punk\, Moby je povijesna figura elektro
 ničke scene čiji utjecaj nadilazi žanrovske granice.\n\n\n\nNakon više
  od deset godina pauze\, Moby se 2024. vratio nastupima uživo\, a njegova
  nova turneja donosi potpuno revitaliziran live koncept. Publika u Puli mo
 že očekivati spoj ambijentalnih tekstura\, ritmova ispunjenih rave energ
 ijom i soul vokala\, izvedenih sa svježim intenzitetom na pozornici Arene
 . Set lista će obuhvatiti njegove bezvremenske klasike\, dublje presjeke 
 karijere i nove aranžmane koji spajaju nostalgiju i suvremeni zvuk. Sve t
 o dolazi uz njegov prepoznatljiv aktivizam i dugogodišnju predanost zašt
 iti životinja.\n\n\n\n\n\n\n\nMobyjeva karijera započela je u njujorško
 m Harlemu\, gdje je već s devet godina svirao klasičnu glazbu i učio gl
 azbenu teoriju\, a prve ozbiljne korake napravio je u punk rock sceni New 
 Yorka početkom 1980-ih. Proboj ostvaruje singlom „Go“ (1991)\, uvršt
 enim među najbolje ploče svih vremena prema časopisu Rolling Stone. Usl
 ijedili su albumi poput Everything Is Wrong\, a prekretnica stiže 1999. s
  albumom Play\, koji kombinira blues i gospel semplove s elektronikom i do
 nosi mu globalnu slavu.\n\n\n\nU kasnijim fazama karijere Moby neustrašiv
 o istražuje nove žanrove – od punk rocka i speed metala do ambijentaln
 e i industrial electropunk glazbe. Album 18 (2002) ponovio je svjetski usp
 jeh Playa\, dok je Hotel (2005)\, snimljen bez semplova\, označio odmak o
 d njegovog ranijeg stila. Sa side-projektom Moby &amp\; The Void Pacific C
 hoir objavljuje These Systems Are Failing (2016)\, album nalik intenzitetu
  prijašnjeg Animal Rights (1996). U istoj godini izlazi i četverosatni a
 mbijentalni album Long Ambients 1: Calm. Sleep. Njegov najnoviji studijski
  album\, Always Centered at Night\, objavljen je 2024.\, kao njegov 22. st
 udijski album.\n\n\n\nOsim glazbe\, Moby se istaknuo i kao producent te re
 mikser izvođača poput Davida Bowieja\, Public Enemya\, Ozzyja Osbournea\
 , The Beastie Boysa i Daft Punka. Njegova produkcijska kuća Little Walnut
  potpisuje nagrađivane dokumentarce Moby Doc i Punk Rock Vegan Movie\, a 
 u planu je i igrani film Tecie\, najavljen za ljeto 2026. Također aktivno
  podržava organizacije za zaštitu životinja i ljudskih prava\, uključu
 jući The Humane Society\, Emily’s List i ACLU.\n\n\n\nMoby ostaje umjet
 nik koji dosljedno pomiče kreativne granice\, a njegov povratak na pozorn
 icu redovito se doživljava kao događaj posebne važnosti. Njegov prvi sa
 mostalni koncert u Hrvatskoj u pulskoj Areni bit će jedinstveno glazbeno 
 iskustvo koje se ne smije propustiti.\n\n\n\nUlaznice za prvi samostalni k
 oncert Mobyja u Hrvatskoj\,  23. srpnja u pulskoj Areni\, kreću u prodaj
 u u četvrtak\, 20. studenoga\, u 10 sati ujutro putem Eventim sustava i n
 a svim fizičkim prodajnim mjestima Eventima.\n\n\n\nViše o Mobyju:\n\n\n
 \nWebsite Facebook Instagram YouTube Spotify
ATTACH;FMTTYPE=image/jpeg:https://photorokaj.com/wp-content/uploads/2025/1
 1/Moby26_Pula_1920x1005-1.jpg
LOCATION:Arena Pula\, Flavijevska ulica\, Pula\, 52100\, Hrvatska
X-APPLE-STRUCTURED-LOCATION;VALUE=URI;X-ADDRESS=Flavijevska ulica\, Pula\, 
 52100\, Hrvatska;X-APPLE-RADIUS=100;X-TITLE=Arena Pula:geo:0,0
END:VEVENT
BEGIN:VTIMEZONE
TZID:Europe/Zagreb
X-LIC-LOCATION:Europe/Zagreb
BEGIN:DAYLIGHT
DTSTART:20260329T030000
TZOFFSETFROM:+0100
TZOFFSETTO:+0200
TZNAME:CEST
END:DAYLIGHT
END:VTIMEZONE
END:VCALENDAR