BEGIN:VCALENDAR
VERSION:2.0
PRODID:-//wp-events-plugin.com//7.2.3.1//EN
BEGIN:VEVENT
UID:468@photorokaj.com
DTSTART;TZID=Europe/Zagreb:20251023T200000
DTEND;TZID=Europe/Zagreb:20251023T230000
DTSTAMP:20250312T124010Z
URL:https://photorokaj.com/events/morcheeba-donosi-najvece-hitove-i-novi-a
 lbum-u-zagreb/
SUMMARY:Morcheeba donosi najveće hitove i novi album u Zagreb
DESCRIPTION:\n\nTvornica kulture\, Zagreb // četvrtak\, 23. listopada 2025
 .\n\n\n\n\n\nZagreb\, 12. ožujka 2025. – Morcheeba\, jedan od najpoznat
 ijih svjetskih bendova\, dolazi u zagrebačku Tvornicu kulture u četvrtak
  23. listopada 2025. Bit će to prilika čuti najveće hitove benda\, kao 
 i pjesme s novog albuma.\n\n\n\n\n\nBend koji je do sada više puta nastup
 ao na raznim lokacijama u Hrvatskoj uz rasprodane koncerte\, Morcheeba jo
 š jednom potvrđuju koliko su se kroz svoje djelovanje jako posvetili fan
 ovima s ovih prostora i miljenici su domaće publike. Bend najavljuje novi
  album u svibnju kojim će označiti trideset godina karijere\, a novi zag
 rebački susret bit će prilika čuti bend i Skye i Rossa koji donose pres
 jek opusa Morcheebe.\n\n\n\n\n\nMorcheeba - "We Live And Die"\n\n\n\n\n\nT
 ri desetljeća rada\, deset studijskih albuma\, više od 10 milijuna proda
 nih albuma\, nebrojene svjetske turneje\, solo albumi\, kao i glazba za fi
 lmove učinili su Morcheebu poznatim među brojnim generacijama\, dok ih g
 lazbena industrija i kritika neprestano hvali.\n\n\n\n\n\nMorcheeba - "Und
 ress Me Now"\n\n\n\n\n\nMorcheeba je u glazbenoj povijesti upisana kao jed
 an od najprepoznatljivijih bendova. Ono što je počelo 1995. godine u Lon
 donu s probojem trip-hopa i debitantskim EP-om “Trigger Hippie”\, ozna
 čio je put prema međunarodnom uspjehu. Debi album “Who Can You Trust?
 ”\, jedan od kritički najcjenjenijih “Big Calm” ili nasljednici pop
 ut  “Fragments of Freedom” ili “Charango” izrodili su brojne glob
 alne hitove poput “Rome Wasn’t Built in a Day”\, “The Sea”\, “
 Trigger Hippie”\,  "Undress Me Now" ili “Part Of The Process”. Do s
 ada su objavili ukupno deset albuma od kojih je posljednji “Blackest Blu
 e”\, a za proljeće najavljuju 11. album “Escape The Chaos” koji pov
 ezuje odvažnost\, organsku i elektroniču glazbu te prepoznatljiv vokal S
 kye.\n\n\n\n\n\nMorcheeba - “Rome Wasn’t Built in a Day”\n\n\n\n\n\n
 Spajajući elemente trip-hopa\, alternativnog rocka\, R&amp\;B-a i downtem
 pa\, Morcheeba je svojom glazbenom pričom kroz žanrove od 90-ih naovamo 
 postao jedan od najpoznatijih svjetskih bendova\, a kroz impresivnu karije
 ru zavrijedili su horde fanova po cijelom svijetu. Još jedan poziv na mag
 ičan susret s Morcheebom je ove jeseni u zagrebačkoj Tvornici kulture.\n
 \n\n\n\n\nEarly bird ulaznice su u pretprodaji od petka\, 14. ožujka od 1
 0:00 sati\, po cijeni od 29 eura. Ulaznice se mogu pronaći u sustavu Core
  Event\, kao i Dirty Old Shopu i Rockmarku.\n\n\n\n\n
ATTACH;FMTTYPE=image/jpeg:https://photorokaj.com/wp-content/uploads/2025/0
 3/RA402156-scaled.jpg
LOCATION:TVORNICA KULTURE\, Ulica Pavla Šubića 2\, Zagreb\, Hrvatska\, 10
 000\, Hrvatska
X-APPLE-STRUCTURED-LOCATION;VALUE=URI;X-ADDRESS=Ulica Pavla Šubića 2\, Za
 greb\, Hrvatska\, 10000\, Hrvatska;X-APPLE-RADIUS=100;X-TITLE=TVORNICA KUL
 TURE:geo:0,0
END:VEVENT
BEGIN:VTIMEZONE
TZID:Europe/Zagreb
X-LIC-LOCATION:Europe/Zagreb
BEGIN:DAYLIGHT
DTSTART:20250330T030000
TZOFFSETFROM:+0100
TZOFFSETTO:+0200
TZNAME:CEST
END:DAYLIGHT
END:VTIMEZONE
END:VCALENDAR