BEGIN:VCALENDAR
VERSION:2.0
PRODID:-//wp-events-plugin.com//7.2.3.1//EN
BEGIN:VEVENT
UID:1290@photorokaj.com
DTSTART;TZID=Europe/Zagreb:20260522T200000
DTEND;TZID=Europe/Zagreb:20260522T230000
DTSTAMP:20260221T151203Z
URL:https://photorokaj.com/events/nevladina-organizacija-priprema-poseban-
 koncert-samo-jednu-ljubav-imam-u-cast-vladi-divljanu/
SUMMARY:Nevladina organizacija priprema poseban koncert „Samo jednu ljuba
 v imam“ u čast Vladi Divljanu
DESCRIPTION:Nevladina organizacija odaje počast neponovljivom Vladi Divlja
 nu koncertom u Tvornici kulture. Poseban koncert naslovljen „Samo jednu 
 ljubav imam“ održat će se u petak\, 22. svibnja 2026. godine\, uz najl
 jepše Vladine pjesme\, brojna iznenađenja i goste.\n\nhttps://www.youtub
 e.com/watch?v=bOPAHib3108&amp\;list=RDbOPAHib3108&amp\;start_radio=1\n\nVl
 adina Nevladina organizacija održat će sad već tradicionalni koncert ko
 jim obilježava Vladin rođendan s publikom diljem regije: nakon beogradsk
 og koncerta u MTS dvorani\, Nevladina organizacija vraća se u zagrebačku
  Tvornicu kulture. Uz brojne goste na pozornici podsjetit će na talent\, 
 glas i glazbu koji su razoružavali generacije\, okupljali rasute i spajal
 i meridijane te dokazati da to i dalje čine. Vlada Divljan nije više me
 đu nama\, ali je njegovo stvaralaštvo dokazalo da je glazba veća od ži
 vota. Vladini dugogodišnji prijatelji i suradnici Zdenko Kolar\, Saša Š
 andorov\, Boris Bunjac\, Marko Milivojević\, Damjan Dašić i Marko Ćali
 ć izvest će bezvremenske hitove iz svih perioda njegove karijere – od 
 „Maljčika“ i „Plastike“ preko „Maršala“ ili „Nebeske Teme
 “ sve do „Vodim te na more“.\n\nhttps://www.youtube.com/watch?v=fsfK
 hW_Ys88&amp\;list=RDfsfKhW_Ys88&amp\;start_radio=1\n\nPriredbe Nevladine o
 rganizacije nisu samo iskustvo\, već uspomena\, koja se nosi dalje kroz v
 rijeme i ostavlja trag – baš kao i umjetnik u čiju se čast odvijaju. 
 Baš kao i Vlada Divljan\, ističe bend. „Samo jednu ljubav imam“ moto
  je beogradskog i zagrebačkog koncerta koji će se održati u svibnju\, a
  „jedna ljubav“ simbolizira ono što nastaje između publike i pjesama
  Vlade Divljana. Vlada je bio pjevač\, kompozitor i gitarist\, a 1980. go
 dine pokrenuo je Idole\, jedan od najvažnijih novovalnih sastava na ovim 
 prostorima koji su svojim zvukom pomicali granice jugoslavenske glazbe. Na
 kon toga djelovao je samostalno\, komponirao je glazbu za filmove\, televi
 ziju i kazalište\, djelovao je s grupama Old Stars\, Nevladina organizaci
 ja i Ljetno kino i ostavio neizbrisiv trag na regionalnoj glazbenoj sceni.
  Koncerti Nevladine organizacije dokaz su da njegova glazba još uvijek os
 vaja sve generacije i s njima nastavlja živjeti.\n\nhttps://www.youtube.c
 om/watch?v=WqKGvrsNx5Y&amp\;list=RDWqKGvrsNx5Y&amp\;start_radio=1\n\nUlazn
 ice po cijeni od 20 eura dostupne su na www.tvornicakulture.com\, na blaga
 jni Tvornice kulture\, svim prodajnim mjestima CoreEventa ili online na pl
 atformi CoreEvent. Na dan koncerta cijena ulaznice iznosit će 23 eura.
ATTACH;FMTTYPE=image/jpeg:https://photorokaj.com/wp-content/uploads/2026/0
 2/NVO-VD-BG-3-foto-Nemanja-Djordjevic-scaled.jpg
LOCATION:Tvornica Kulture\, \, 
X-APPLE-STRUCTURED-LOCATION;VALUE=URI;X-ADDRESS=\, ;X-APPLE-RADIUS=100;X-TI
 TLE=Tvornica Kulture:geo:0,0
END:VEVENT
BEGIN:VTIMEZONE
TZID:Europe/Zagreb
X-LIC-LOCATION:Europe/Zagreb
BEGIN:DAYLIGHT
DTSTART:20260329T030000
TZOFFSETFROM:+0100
TZOFFSETTO:+0200
TZNAME:CEST
END:DAYLIGHT
END:VTIMEZONE
END:VCALENDAR