BEGIN:VCALENDAR
VERSION:2.0
PRODID:-//wp-events-plugin.com//7.2.3.1//EN
BEGIN:VEVENT
UID:1161@photorokaj.com
DTSTART;TZID=Europe/Zagreb:20260804T200000
DTEND;TZID=Europe/Zagreb:20260804T230000
DTSTAMP:20260129T144512Z
URL:https://photorokaj.com/events/nick-cave-the-bad-seeds-u-kolovozu-nastu
 paju-u-pulskoj-areni-2/
SUMMARY:NICK CAVE & THE BAD SEEDS U KOLOVOZU NASTUPAJU U PULSKOJ ARENI
DESCRIPTION:\nPo prvi put\, Nick Cave &amp\; The Bad Seeds\, miljenici doma
 će publike\, stižu u veličanstvenu pulsku Arenu - i to u samom srcu lje
 ta!\n\n\n\nZagreb\, 6. listopada 2025. - Nick Cave &amp\; The Bad Seeds\, 
 bend koji je u Hrvatskoj stekao kultni status\, u srijedu\, 5. kolovoza 20
 26.\, prvi put će kročiti na pozornicu pulske Arene.\n\n\n\nOvaj koncert
  dio je monumentalne europske ljetne turneje kojom se Nick Cave &amp\; The
  Bad Seeds vraćaju na velike pozornice i festivale diljem kontinenta. Nak
 on spektakularno rasprodanih nastupa na Wild God turneji\, bend se vraća 
 u ljeto 2026. s repertoarom koji obuhvaća pjesme iz svih razdoblja njihov
 e karijere\, uključujući i one s hvaljenog albuma Wild God koje smo posl
 jednji put imali priliku čuti uživo u Hrvatskoj 2024. godine.\n\n\n\nNic
 k Cave &amp\; The Bad Seeds\, autorica fotografije Megan Cullen\n\n\n\nNic
 k Cave uživa kultni status u Hrvatskoj\, gdje je svaka njegova prethodna 
 koncertna najava izazvala ogroman interes i rasprodane dvorane. Nastup u j
 edinstvenom antičkom amfiteatru u Puli bit će posebno emotivan trenutak\
 , prvo Caveovo obraćanje publici unutar zidina starijih od dva tisućlje
 ća\, u prostoru koji nosi energiju povijesti i vječnosti. Poznati po svo
 jim uzbudljivim i nezaboravnim nastupima\, The Bad Seeds se širom svijeta
  smatraju jednim od najuzbudljivijih live bendova\, koji ni u petom desetl
 jeću svog djelovanja ne pokazuju znakove stagnacije i umora. Oni i dalje 
 pomiču svoje granice i granice publike\, i nastupaju jednako intenzivno k
 ao i na početku karijere. Nick Cave &amp\; The Bad Seeds vraćaju se u Eu
 ropu u ljeto 2026. s monumentalnom serijom nastupa na otvorenom i festival
 ima\, počevši 10. lipnja u dvorcu Malahide u Irskoj\, a turneja će obuh
 vatiti Njemačku\, Dansku\, Češku\, Austriju\, Grčku\, Italiju\, Belgij
 u\, Portugal\, Francusku\, Ujedinjeno Kraljevstvo\, Hrvatsku\, Srbiju\, Ru
 munjsku\, Norvešku i Litvu. Turneja će se završiti 28. kolovoza na fest
 ivalu Rock en Seine u Francuskoj\, a u međuvremenu će biti objavljeni do
 datni datumi. Epska sezona nastupa uživo uključuje i ekskluzivni koncert
  u Preston Parku u Brightonu\, koji je već rasprodan\, u petak 31. srpnja
 . Ovaj nastup nije samo još jedan datum na turneji\, to je povratak kući
 . Veza Nicka Cavea s Brightonom je dugotrajna i jedinstvena\, što čini k
 oncert u Preston Parku 2026. ključnim trenutkom u povijesti tog grada i b
 enda. Na pozornicu monumentalne pulske Arene 5. kolovoza s Nickom Caveom s
 e penje njegova vjerna The Bad Seeds ekipa: Warren Ellis\, Colin Greenwood
 \, Jim Sclavunos\, George Vjestica\, Larry Mullins i Carly Paradis.\n\n\n\
 n\n\n\n\nPretprodaja ulaznica kreće u srijedu\, 8. listopada\, u 10 sati 
 ujutro i to za sve pretplatnike Eventim newslettera. Nakon toga\, generaln
 a prodaja ulaznica putem Eventim online sistema i fizičkih prodajnih mjes
 ta kreće u petak\, 10. listopada u 10 sati ujutro.\n\n\n\nMediji o koncer
 tima Nicka Cavea &amp\; The Bad Seeds:\n\n\n\n“Ovaj iznimno dirljiv konc
 ert obuhvaća svaki kutak ljudskog iskustva\, otkrivajući Cavea u trenutk
 u kada je vrijeme produbilo snagu njegove glazbe i njegovu povezanost s pu
 blikom.” The Guardian\n\n\n\n"Jedinstveno snažan nastup” The Telegrap
 h\n\n\n\n"Ovo je bio koncert koji je imao sve.” The Sun "Proslava izvanr
 ednog uspona Cavea u kasnijoj fazi karijere do statusa glavnog izvođača 
 u arenama.” The Times "Prepoznatljiva mješavina tmine\, iskupljenja\, g
 racije i besprijekornog stila\, sve utkano u pjesmu i prisutnost. Bilo je 
 to izvanredno." Clash\n\n\n\n\n\n\n\nFacebook\n\n\n\nInstagram\n\n\n\nYouT
 ube\n\n\n\nSpotify\n&nbsp\;\nhttps://photorokaj.com/nick-cave-the-bad-seed
 s-zapoceli-su-novu-fazu-hvaljene-svjetske-turneje-u-sklopu-koje-stizu-ovo-
 ljeto-u-pulu/\nhttps://photorokaj.com/nick-cave-the-bad-seeds-objavili-alb
 um-live-god-s-kojim-stizu-u-pulsku-arenu/\n&nbsp\;\nhttps://photorokaj.com
 /nick-cave-the-bad-seeds-prodali-vise-od-pola-kapaciteta-arene-u-pretproda
 ji-danas-krece-generalna-prodaja-ulaznica/
ATTACH;FMTTYPE=image/jpeg:https://photorokaj.com/wp-content/uploads/2025/1
 2/image-8.png
LOCATION:Arena Pula\, Flavijevska ulica\, Pula\, 52100\, Hrvatska
X-APPLE-STRUCTURED-LOCATION;VALUE=URI;X-ADDRESS=Flavijevska ulica\, Pula\, 
 52100\, Hrvatska;X-APPLE-RADIUS=100;X-TITLE=Arena Pula:geo:0,0
END:VEVENT
BEGIN:VTIMEZONE
TZID:Europe/Zagreb
X-LIC-LOCATION:Europe/Zagreb
BEGIN:DAYLIGHT
DTSTART:20260329T030000
TZOFFSETFROM:+0100
TZOFFSETTO:+0200
TZNAME:CEST
END:DAYLIGHT
END:VTIMEZONE
END:VCALENDAR