BEGIN:VCALENDAR
VERSION:2.0
PRODID:-//wp-events-plugin.com//7.2.3.1//EN
BEGIN:VEVENT
UID:1259@photorokaj.com
DTSTART;TZID=Europe/Zagreb:20260430T200000
DTEND;TZID=Europe/Zagreb:20260430T230000
DTSTAMP:20260221T151613Z
URL:https://photorokaj.com/events/nika-se-s-novim-pjesmama-vraca-u-vintage
 -industrial-bar/
SUMMARY:Nika se s novim pjesmama vraća u Vintage Industrial Bar!
DESCRIPTION:\nLuka Brajković\n\n\n\nVintage Induistrial Bar\, Zagreb // Č
 etvrtak\, 30. travnja 2026.\n\n\n\nZagreb\, 30. siječnja 2026. – Nika T
 urković vraća se sa svojim bendom u zagrebački Vintage Industrial Bar u
  četvrtak 30. travnja 2026.\n\n\n\nNika Turković - “Glupan”\n\n\n\n\
 nhttps://www.youtube.com/watch?v=oa2uPqZ4n60\n\n\n\n\nNakon koncertne prom
 ocije u punom Boogaloou prošlog studenog Nika ponovo stiže u omiljeni kl
 ub u Savskoj kojeg je već rasprodala u proljeće 2025. godine. I dok se t
 ada pripremala za skori izlazak svog drugog studijskog albuma „Brze suze
 “ ovaj put će publiku u Vintageu počastiti s pjesmama koje će se upra
 vo u Savskoj čuti prvi put uživo!\n\n\n\nNa neki način koncertom u Vint
 ageu Nika ulazi u novu fazu obilježenu nasljednikom „Brzih suza“. Pub
 lika će na novom zagrebačkom konertu dakako proći i sve Nikine pjesme o
 bjavljene na oba izdanja među kojima su „Gledaj me“\, „Dok nas nema
 “\, „Tvoja“\, „Mogu i sama“\, „Boje“\, „Glupan“\, „U m
 raku“\, „Rođendan“ i mnoge druge. Također\, u Vintageu će se moć
 i kupiti i potpuno nova linija Nikinog mercha.\n\n\n\nNika Turković – 
 „Dovoljna“\n\n\n\n\nhttps://www.youtube.com/watch?v=g1JR4Vsb7Ek&amp\;l
 ist=RDg1JR4Vsb7Ek&amp\;start_radio=1\n\n\n\n\nNika Turković se kroz svega
  dva albuma – „11“ iz 2023. i „Brze suze“ iz 2025. upisala među
  naše najuspješnije glazbene autorice čije pjesme su samo na Spotifyju 
 i You Tubeu preslušane više od 10 milijuna puta\, a IMPALA ju je nominir
 ala za popis „100 Artists To Watch“ u 2025.\n\n\n\nUlaznice po cijeni 
 od 17 eura u prodaju kreću u ponedjeljak\, 2. veljače u 10:00 u sustavu 
 Entrio\, dok će hard copy ulaznice biti dostupne u Grifu i Dirty Old Shop
 u.
ATTACH;FMTTYPE=image/jpeg:https://photorokaj.com/wp-content/uploads/2026/0
 2/Nika-Turkovic-03-photo-Luka-Brajkovic-scaled.jpg
LOCATION:Vintage Industrial Bar\, Savska cesta 160\, Zagreb\, Croatia\, Zag
 reb\, Hrvatska\, 10000\, Hrvatska
X-APPLE-STRUCTURED-LOCATION;VALUE=URI;X-ADDRESS=Savska cesta 160\, Zagreb\,
  Croatia\, Zagreb\, Hrvatska\, 10000\, Hrvatska;X-APPLE-RADIUS=100;X-TITLE
 =Vintage Industrial Bar:geo:0,0
END:VEVENT
BEGIN:VTIMEZONE
TZID:Europe/Zagreb
X-LIC-LOCATION:Europe/Zagreb
BEGIN:DAYLIGHT
DTSTART:20260329T030000
TZOFFSETFROM:+0100
TZOFFSETTO:+0200
TZNAME:CEST
END:DAYLIGHT
END:VTIMEZONE
END:VCALENDAR