BEGIN:VCALENDAR
VERSION:2.0
PRODID:-//wp-events-plugin.com//7.2.3.1//EN
BEGIN:VEVENT
UID:1280@photorokaj.com
DTSTART;TZID=Europe/Zagreb:20260308T190000
DTEND;TZID=Europe/Zagreb:20260308T230000
DTSTAMP:20260221T130203Z
URL:https://photorokaj.com/events/njih-tri-u-saxu-na-dan-zena-meri-jaman-a
 nita-valo-jelena-radan-na-when-tomorrow-comes-koncertu/
SUMMARY:Njih tri u Saxu na Dan žena! - Meri Jaman\, Anita Valo & Jelena Ra
 dan na „When Tomorrow Comes“ koncertu
DESCRIPTION:\n\nZagreb\, 17. veljače 2026. – Meri Jaman\, Anita Valo &am
 p\; Jelena Radan svojim zajedničkim koncertom „When Tomorrow Comes“ u
  zagrebačkom klubu Sax 8. ožujka obilježavaju ljubav prema glazbi.\n\n 
 \n\n„Rasprodale smo Sax 2018. i 2019. svaki put negdje oko ovog dana u o
 žujku kada se podsjećamo na nešto što već znamo – vrijedne smo poš
 tovanja\, vrijedne smo ljubavi\, vrijedne smo podrške\, vrijedne smo prav
 a na pauzu\, ne oduzimajući nikome njegovo pravo na isto“ – zajednič
 ki su izjavile Meri\, Anita i Jelena.\n\n \n\nMeritas feat Massimo – „
 Odjednom ti“\n\n \n\nhttps://www.youtube.com/watch?v=lzeN7XXsOds&amp\;li
 st=RDlzeN7XXsOds&amp\;start_radio=1\n \n\nAnita i Meri začetnice su benda
  Meritas i njihova vrijednost kao glazbenica je odavno prepoznata. Svoj pu
 t su obilježile pjesmama koje ostaju\, a pristupom dokazale smjelost i in
 tegritet dajući značajan doprinos hrvatskoj glazbi. Albumi „Skači\, p
 leši\, viči!“\, „Igra“ koja je doživjela i LP izdanje nedavno\, t
 e pjesme „Odjednom ti“ s Massimom\, „Budim se“\, „Umjesto isprik
 e“\, „Pričaj mi“\, „Mislim o tebi“ i puno drugih\, obavezni su 
 dio pop glazbe ovih prostora.\n\n \n\n„Oduvijek radimo što želimo\, bi
 ramo suradnike s kojima želimo raditi\, nitko nas ne tjera na ništa\, ni
 kome se ne moramo dokazivati\, samo sebi samima. Jedini imperativ je dobra
  energija\, a to nas tri imamo otpočetka međusobno“ – izjavila je An
 ita Valo.\n\n \n\nS Jelenom su pronašle glazbenu i koncertnu nišu u kojo
 j stvaraju s jednakim žarom i novim uzbuđenjem koji su iznjedrili Jeleni
 n hvaljeni album „Voyage“\, odlične singlove „Salut“\, „Malena
 “\, kao i  za ovogodišnji favorit Zagrebačkog festival „Danas te vo
 lim“. Osim što su prijateljice\, surađuju na autorsko-izvođačkoj raz
 ini\, a ova koncertna ih posebno veseli i nasmije kad pričaju o njoj. Osm
 islile su koncert na kakav bi zapravo i same išle i ta energija prelazi n
 a ljude kad ih slušaju.\n\n \n\nJelena Radan – „Salut“\n\n \n\nhttp
 s://www.youtube.com/watch?v=QqYQ5YRx5lE&amp\;list=RDQqYQ5YRx5lE&amp\;start
 _radio=1\n \n\nNjihov zanimljiv koncept dva izvođača\, tri žene različ
 itih osobnosti i glazbene izražajnosti\, tako dobro djeluje kad su zajedn
 o na pozornici. Posebno kad se radi o klupskom prostoru poput Saxa kojeg s
 u već nekoliko puta rasprodavale i u kojem se sve vrati na vrlo jednostav
 ke postavke – zajedno s publikom koja ti je na dohvat ruke proživljava
 š glazbu koja ti znači i na kojoj si odrasla – bilo da se radi o Annie
  Lennox i Eurythmics \,prema kojima je program davno dobio naziv\, ili k.d
  lang\, Brendi Carlisle\, ali i Depeche mode\, Neil Young...\n\n \n\nDan o
 državanja koncerta pada na nedjelju\, pa su sukladno tome i prilagodile v
 rijeme koncerta: „Početak koncerta je u 19:30. Sviđa nam se obilježit
 i bilo koji dan u dobroj atmosferi\, a posebno kad se radi o nekom posebni
 jem danu...“ izjavila je Meri\, dok je Jelena dodala „iako nam ne treb
 a simbolika da provedemo izvrsnu glazbenu večer u društvu dragih nam lju
 di\, publike koja nas prati ili će nas slušati po prvi put.“\n\n \n\nU
 laznice po cijeni od 20 eura mogu se kupiti u sustavu Core Event ili na bl
 agajni Saxa.\n\n \n\n&nbsp\;\n\n
ATTACH;FMTTYPE=image/jpeg:https://photorokaj.com/wp-content/uploads/2026/0
 2/Jelena-Radan-Meri-Jaman-Anita-Valo-SAX-Zagreb.jpg
LOCATION:SAX! - KLUB HRVATSKIH GLAZBENIKA\, Palmotićeva 22/2\, Zagreb\, Hr
 vatska\, 10000\, Hrvatska
X-APPLE-STRUCTURED-LOCATION;VALUE=URI;X-ADDRESS=Palmotićeva 22/2\, Zagreb\
 , Hrvatska\, 10000\, Hrvatska;X-APPLE-RADIUS=100;X-TITLE=SAX! - KLUB HRVAT
 SKIH GLAZBENIKA:geo:0,0
END:VEVENT
BEGIN:VTIMEZONE
TZID:Europe/Zagreb
X-LIC-LOCATION:Europe/Zagreb
BEGIN:STANDARD
DTSTART:20251026T020000
TZOFFSETFROM:+0200
TZOFFSETTO:+0100
TZNAME:CET
END:STANDARD
END:VTIMEZONE
END:VCALENDAR