BEGIN:VCALENDAR
VERSION:2.0
PRODID:-//wp-events-plugin.com//7.2.3.1//EN
BEGIN:VEVENT
UID:102@photorokaj.com
DTSTART:20241213T180000Z
DTEND:20241213T210000Z
DTSTAMP:20241129T154038Z
URL:https://photorokaj.com/events/old-flame-thin-lizzy-tribute/
SUMMARY:Old Flame\, Thin Lizzy tribute!
DESCRIPTION:Događaj koji organiziraju Route 66 – Zagreb i Old Flame: 
 A Thin Lizzy Tribute\n\nRoute 66 – Zagreb\n\nJavno  · Svi na Faceboo
 ku ili izvan njega\n\nProšlo je već godinu dana od njihovog prvog giga 
 – i to u vašem i našem Routeu 66! Dečki iz Old Flamea\, Thin Lizzy tr
 ibutea\, vraćaju se na inicijalno “mjesto zločina”. 13. prosinca ods
 virat će poseban Thin Lizzy set i iskušati se u pokojoj ekskluzivi koju 
 nisu odsvirali na dosadašnjim gigovima. Luka\, Pavo\, Mateo i Miha are ba
 ck in town i čekaju vas na stageu Routea od 21:00!\n
ATTACH;FMTTYPE=image/jpeg:https://photorokaj.com/wp-content/uploads/2024/1
 1/467266402_1104960751638718_1398534358482169409_n.jpg
LOCATION:RUTE 66\, Paromlinska cesta 47\, Zagreb\, Hrvatska\, 10000\, Hrvat
 ska
X-APPLE-STRUCTURED-LOCATION;VALUE=URI;X-ADDRESS=Paromlinska cesta 47\, Zagr
 eb\, Hrvatska\, 10000\, Hrvatska;X-APPLE-RADIUS=100;X-TITLE=RUTE 66:geo:0,
 0
END:VEVENT
END:VCALENDAR