BEGIN:VCALENDAR
VERSION:2.0
PRODID:-//wp-events-plugin.com//7.2.3.1//EN
BEGIN:VEVENT
UID:440@photorokaj.com
DTSTART;TZID=Europe/Zagreb:20250702T200000
DTEND;TZID=Europe/Zagreb:20250702T220000
DTSTAMP:20250625T053201Z
URL:https://photorokaj.com/events/power-metal-velikani-dragonforce-premije
 rno-u-hrvatskoj/
SUMMARY:Power metal velikani DragonForce premijerno u Hrvatskoj!
DESCRIPTION:Pripremite se za nezaboravnu večer epskog power metala jer Dra
 gonForce prvi put dolazi u Hrvatsku! Ovaj legendarni britanski bend poznat
  po munjevito brzom sviranju i fantastičnim melodijama\, nastupit će 2. 
 srpnja 2025. u Tvornici kulture. U sklopu europske “Warp Speed Warriors
 ” turneje ovo će im biti jedini nastup u regiji. Early bird ulaznice po
  cijeni od 33 eura mogu se kupiti preko Hangtime ticketinga od ponedjeljka
 \, 3. ožujka. Pretprodajna cijena im je 37 eura\, a na dan će ako ih ost
 ane koštati 40 eura. Ulaznice će uskoro biti dostupne i u Dirty Old Shop
 u.\n\n&nbsp\;\n\n\nhttps://photorokaj.com/power-metal-velikani-dragonforce
 -premijerno-u-hrvatskoj/\n\n\nhttps://photorokaj.com/dragonforce-izbacio-n
 ovi-spot-ususret-premijernom-nastupu-u-tvornici/
ATTACH;FMTTYPE=image/jpeg:https://photorokaj.com/wp-content/uploads/2025/0
 3/480706456_1182735210528238_8085485459666587998_n.jpg
LOCATION:TVORNICA KULTURE\, Ulica Pavla Šubića 2\, Zagreb\, Hrvatska\, 10
 000\, Hrvatska
X-APPLE-STRUCTURED-LOCATION;VALUE=URI;X-ADDRESS=Ulica Pavla Šubića 2\, Za
 greb\, Hrvatska\, 10000\, Hrvatska;X-APPLE-RADIUS=100;X-TITLE=TVORNICA KUL
 TURE:geo:0,0
END:VEVENT
BEGIN:VTIMEZONE
TZID:Europe/Zagreb
X-LIC-LOCATION:Europe/Zagreb
BEGIN:DAYLIGHT
DTSTART:20250330T030000
TZOFFSETFROM:+0100
TZOFFSETTO:+0200
TZNAME:CEST
END:DAYLIGHT
END:VTIMEZONE
END:VCALENDAR