BEGIN:VCALENDAR
VERSION:2.0
PRODID:-//wp-events-plugin.com//7.2.3.1//EN
BEGIN:VEVENT
UID:1364@photorokaj.com
DTSTART;TZID=Europe/Zagreb:20260723T200000
DTEND;TZID=Europe/Zagreb:20260726T235500
DTSTAMP:20260404T141606Z
URL:https://photorokaj.com/events/punk-metal-holidays-martinska-punk-meets
 -zestoka-festa/
SUMMARY:Punk & Metal Holidays: Martinska Punk meets Žestoka Fešta
DESCRIPTION:Kada punkeri i metalci udruže snage znate da je ozbiljna stvar
  na repertoaru\, tako će biti ovog ljeta na trodnevnom glazbenom događan
 ju - Martinska Punk meets Žestoka fešta! Festival će se održati od 23.
  do 25. srpnja 2026.\, u godini u kojoj Punk slavi prvih 50 godina postoja
 nja\, na već dobro poznatoj lokaciji Martinska nasuprot Šibenika. I ove 
 godine nastavljamo njegovati dugu tradiciju punk koncerata i festivala na 
 Martinskoj\, a od prošle godine Martinska Punk dobila je i mlađeg metal/
 hardcore pandana - Žestoku feštu.\nFestival ponovno donosi beskompromisn
 i punk zvuk od sada pojačan i teškim metalom\, rezultat je tri dana punk
  i metal svirki u jedinstvenom događanju Martinska Punk meets Žestoka fe
 šta!\nU tri dana pozornicom na Martinskoj protutnjat će petnaestak bendo
 va\, presjek domaće i svjetske scene. U četvrtak i petak 23. i 24. 7. na
 glasak će biti na punku\, a subota 25. 7. na metalu.\nNajpovoljnije 'Blin
 d ulaznice' dostupne su na linku za najbrže\, prvi headlinere otkrivamo 7
 . travnja: https://stereoticket.com/event.../69caa6975d5ad98585e29150/
ATTACH;FMTTYPE=image/jpeg:https://photorokaj.com/wp-content/uploads/2026/0
 4/658141543_1437317944859608_6371785305544435620_n.jpg
LOCATION:Martinska\, Martinska\, Šibenik\, Hrvatska
X-APPLE-STRUCTURED-LOCATION;VALUE=URI;X-ADDRESS=Martinska\, Šibenik\, Hrva
 tska;X-APPLE-RADIUS=100;X-TITLE=Martinska:geo:0,0
END:VEVENT
BEGIN:VTIMEZONE
TZID:Europe/Zagreb
X-LIC-LOCATION:Europe/Zagreb
BEGIN:DAYLIGHT
DTSTART:20260329T030000
TZOFFSETFROM:+0100
TZOFFSETTO:+0200
TZNAME:CEST
END:DAYLIGHT
END:VTIMEZONE
END:VCALENDAR