BEGIN:VCALENDAR
VERSION:2.0
PRODID:-//wp-events-plugin.com//7.2.3.1//EN
BEGIN:VEVENT
UID:1281@photorokaj.com
DTSTART;TZID=Europe/Zagreb:20260815T200000
DTEND;TZID=Europe/Zagreb:20260815T230000
DTSTAMP:20260221T130640Z
URL:https://photorokaj.com/events/regionalna-turneja-silente-ovog-ljeta-vo
 di-u-pulu/
SUMMARY:Regionalna turneja Silente ovog ljeta vodi u Pulu
DESCRIPTION:\n\nPula\, Malo rimsko kazalište // subota 15. kolovoza 2026.\
 n\n\n\n \n\nZagreb\, 17. veljače 2026. – Silente u sklopu velike region
 alne turneje dolaze ovoga ljeta i u Pulu\, u spektakularno Malo rimsko kaz
 alište\, u subotu 15. kolovoza 2026.\n\n \n\nNakon rasprodanih koncerata 
 u Rijeci i Novoj Gradiški prošlog vikenda\, Silente turneju nastavljaju 
 početkom ožujka koncertima u Beogradu i Skopju. Popis nastupa dovodi ih 
 u Pulu\, a na upravo najavljen koncert u predivnom Malom rimskom kazališt
 u bend dolazi na samom vrhuncu ljetne sezone.\n\n \n\nRegionalna turneja d
 ogađa se u trenu kada je Silente objavio novi singl “Ništa drugo”\, 
 šestu pjesmu s nadolazećeg albuma. Pjesma je na popisu top 10 trending p
 jesama na YouTubeu\, a u samo četiri dana od objave prateći video spot j
 e skupio gotovo 60 tisuća pregleda.\n\n \n\nSilente - “Ništa drugo”\
 n\n \n\nhttps://www.youtube.com/watch?v=KXb9Bn0aPbw\n \n\n“Ništa drugo
 ” pridružuje se popisu pjesama sa skorašnjeg albuma. Uz “Sve sto tre
 ba znat o ženi”\, “Sve da ima neki način”\, kao i “Voli me dok 
 đavo spava”\, singl “Onaj isti” je ponovo na listi najslušanijih p
 jesama u zemlji\, a prethodni “Bog kakvog trebam” već četiri mjeseca
  drži poziciju među top 40 najslušanijih pjesama na nacionalnim radijim
 a. Nova pjesma nastavlja se i na ponovni uzlet klasika “Terca na tišinu
 ” koji je gotovo 13 godina nakon objave već više od tri mjeseca u vrhu
  hrvatske Billboard ljestvice singlova.\n\n \n\nTrenutno objavljeni datumi
  regionalne turneje Silente vode u Beograd 6. ožujka\, a dan nakon su u S
 kopju\, dok su 26. ožujka u Sarajevu. Veliki zagrebački koncerti u Booga
 loou na rasporedu su 9. travnja\, dok je datum 10. travnja već mjesecima 
 unaprijed rasprodan. 11. i 12. travnja su u Zaboku\, a 18. travnja u Mosta
 ru. Nakon toga su u Sloveniji i to 23. travnja u Ljubljani\, a 24. u Marib
 oru dok svirke nastavljaju 20. lipnja u Primoštenu\, a popisu je dodan i 
 datum 15. kolovoza u Puli.\n\n \n\nUlaznice upravo dodani pulski koncert u
  prodaju kreću u četvrtak\, 19. veljače\, u 10:00 sati kroz sustav Core
  Eventa po early bird cijeni od 25 eura.\n\n
ATTACH;FMTTYPE=image/jpeg:https://photorokaj.com/wp-content/uploads/2026/0
 2/WW09078_luster1x1_2500px.jpg
LOCATION:Malo rimsko kazalište u Puli\, Pula\, Pula\, Hrvatska
X-APPLE-STRUCTURED-LOCATION;VALUE=URI;X-ADDRESS=Pula\, Pula\, Hrvatska;X-AP
 PLE-RADIUS=100;X-TITLE=Malo rimsko kazalište u Puli:geo:0,0
END:VEVENT
BEGIN:VTIMEZONE
TZID:Europe/Zagreb
X-LIC-LOCATION:Europe/Zagreb
BEGIN:DAYLIGHT
DTSTART:20260329T030000
TZOFFSETFROM:+0100
TZOFFSETTO:+0200
TZNAME:CEST
END:DAYLIGHT
END:VTIMEZONE
END:VCALENDAR