BEGIN:VCALENDAR
VERSION:2.0
PRODID:-//wp-events-plugin.com//7.2.3.1//EN
BEGIN:VEVENT
UID:1292@photorokaj.com
DTSTART;TZID=Europe/Zagreb:20260619T190000
DTEND;TZID=Europe/Zagreb:20260619T230000
DTSTAMP:20260221T190734Z
URL:https://photorokaj.com/events/ricky-martin-se-vraca-u-pulu-nakon-gotov
 o-30-godina/
SUMMARY:Ricky Martin se vraća u Pulu nakon gotovo 30 godina!
DESCRIPTION:Gotovo trideset godina nakon prvog susreta s hrvatskom publik
 om\, Ricky Martin ponovno stiže u Pulu 19. lipnja 2026. Globalna latin
 o pop ikona\, čiji su hitovi obilježili čitave generacije i redefiniral
 i ovaj žanr na svjetskoj sceni\, vraća se na mjesto gdje je još devedes
 etih pokazao zašto pripada samom vrhu svjetske glazbene industrije. Njego
 v povratak u pulsku Arenu neće biti samo koncert\, nego i susret publik
 e koja je odrasla uz njegove pjesme kao i one koja će ga tek otkriti.\n\n
 Riječ je o jednom od najutjecajnijih izvođača suvremene latino pop glaz
 be\, čija je karijera obilježila nekoliko desetljeća globalne scene. Od
  ranih devedesetih do danas\, Martin je izgradio impresivnu glazbenu ostav
 štinu koja uključuje brojne svjetske hitove i nastupe na najvećim svjet
 skim pozornicama. Njegova sposobnost da poveže latino ritmove s mainstre
 am pop zvukom donijela mu je međunarodni uspjeh i status izvođača koji
  kontinuirano privlači publiku različitih generacija. Poznat po energič
 nim i produkcijski raskošnim nastupima\, Ricky Martin i danas slovi kao j
 edan od najuvjerljivijih live izvođača svoje generacija.\n\nhttps://ww
 w.youtube.com/watch?v=p47fEXGabaY\n\nOvaj puertorikanski glazbenik imao je
  ključnu ulogu u tzv. “latinskoj eksploziji” koja je krajem devedeset
 ih promijenila lice globalne pop industrije. Upravo je 1999. njegova nezab
 oravna izvedba pjesme “La Copa de la Vida” na dodjeli Grammy nagrada
  označila prekretnicu u prihvaćanju latino zvuka u anglosaksonskom main
 streamu\, otvarajući vrata budućim generacijama izvođača. Taj se utjec
 aj potvrdio i ove godine\, kada je Martin nastupio u sklopu programa Supe
 r Bowl\, dodatno naglašavajući kontinuitet latino prisutnosti na najveć
 im svjetskim pozornicama. Objavio je niz iznimno uspješnih albuma\, među
  kojima se posebno ističu “Ricky Martin”\, “Sound Loaded” i “A
  Quien Quiera Escuchar”\, koji su mu donijeli višestruke platinaste nak
 lade i brojne glazbene nagrade. Njegove pjesme\, uključujući svjetske us
 pješnice “Livin’ la Vida Loca”\, “She Bangs” i “La Copa d
 e la Vida”\, postale su nezaobilazan dio pop kanona i koncertnih repert
 oara diljem svijeta. Martin je tijekom godina nastupao na najznačajnijim 
 svjetskim pozornicama i festivalima\, a njegov povratak u Pulu\, gotovo tr
 ideset godina nakon prvog nastupa u ovom gradu\, dodatno naglašava kontin
 uitet karijere izvođača koji i danas privlači publiku različitih gener
 acija.\n\nViše informacija o rasporedu turneje i datumima te prodaji ulaz
 nica može se pronaći na službenoj stranici www.rickymartinmusic.com t
 e na društvenim mrežama Instagram\, Facebooki X. Ulaznice za pulski k
 oncert u prodaji su već od srijede\, 25. veljače.
ATTACH;FMTTYPE=image/jpeg:https://photorokaj.com/wp-content/uploads/2026/0
 2/ricky-m.jpg
END:VEVENT
BEGIN:VTIMEZONE
TZID:Europe/Zagreb
X-LIC-LOCATION:Europe/Zagreb
BEGIN:DAYLIGHT
DTSTART:20260329T030000
TZOFFSETFROM:+0100
TZOFFSETTO:+0200
TZNAME:CEST
END:DAYLIGHT
END:VTIMEZONE
END:VCALENDAR