BEGIN:VCALENDAR
VERSION:2.0
PRODID:-//wp-events-plugin.com//7.2.3.1//EN
BEGIN:VEVENT
UID:1282@photorokaj.com
DTSTART;TZID=Europe/Zagreb:20260622T200000
DTEND;TZID=Europe/Zagreb:20260622T230000
DTSTAMP:20260221T132935Z
URL:https://photorokaj.com/events/robert-plant-uz-bend-saving-grace-i-trec
 i-put-na-tvrdavi-sv-mihovila/
SUMMARY:Robert Plant\, uz bend Saving Grace\, i treći put na Tvrđavi
  sv. Mihovila!
DESCRIPTION:\n\nNakon dva rekordno brzo rasprodana koncerta na Tvrđavi sv.
  Mihovila\, najavljen je i treći koncert Roberta Planta s bendom Saving G
 race i Suzi Dian! Legenda rocka na šibenskoj open air pozornici treći pu
 t nastupa 22. lipnja.\n\n \n\nRobert Plant postaje tako jedini izvođač k
 oji će na sv. Mihovilu imati tri uzastopna koncerta\, a Šibenik je jedin
 i grad njegove europske turneje “All That Glitters” u kojem će svirat
 i triput zaredom.\n\n \n\nPlant je jedan od najvećih i najutjecajnijih vo
 kala i frontmana u povijesti rocka. Na Tvrđavu sv. Mihovila donosi svoj i
 zvanserijski solo projekt\, uz pratnju Saving Grace i vokalistice Suzi Dia
 n. Izvodeći pjesme iz svoje uspješne samostalne karijere i nekoliko Led 
 Zeppelin klasika\, Plant će u intimnoj atmosferi Mihovila proći kroz svo
 ju prebogatu glazbenu karijeru.\n\n \n\nULAZNICE\n\n \n\nCijena ulaznice i
 znosi 78 eura. Prvih 150 ulaznica s 10 posto popusta dostupno je od četvr
 tka\, 19. veljače od 10 sati isključivo korisnicima Mastercard kartica u
  sustavu Eventim.\n\n \n\nSvi ostali ulaznice mogu kupiti od petka\,
  20. veljače od 10 sati u sustavu Eventim te na blagajni Kuće umje
 tnosti Arsen u Šibeniku. Članovi Kluba prijatelja šibenskih tvrđava os
 tvaruju popust od 15 posto na ulaznice kupljene u sustavu Eventim i na
  blagajni Kuće umjetnosti Arsen.\n\n
ATTACH;FMTTYPE=image/jpeg:https://photorokaj.com/wp-content/uploads/2026/0
 2/6db3aeb8-491d-c461-e172-23dc65832519-scaled.jpg
LOCATION:Tvrđava sv. Mihovila\, Zagrađe 21\, Šibenik\, Hrvatska\, 22000\
 , Hrvatska
X-APPLE-STRUCTURED-LOCATION;VALUE=URI;X-ADDRESS=Zagrađe 21\, Šibenik\, Hr
 vatska\, 22000\, Hrvatska;X-APPLE-RADIUS=100;X-TITLE=Tvrđava sv. Mihovila
 :geo:0,0
END:VEVENT
BEGIN:VTIMEZONE
TZID:Europe/Zagreb
X-LIC-LOCATION:Europe/Zagreb
BEGIN:DAYLIGHT
DTSTART:20260329T030000
TZOFFSETFROM:+0100
TZOFFSETTO:+0200
TZNAME:CEST
END:DAYLIGHT
END:VTIMEZONE
END:VCALENDAR