BEGIN:VCALENDAR
VERSION:2.0
PRODID:-//wp-events-plugin.com//7.2.3.1//EN
BEGIN:VEVENT
UID:1220@photorokaj.com
DTSTART;TZID=Europe/Zagreb:20260723T190000
DTEND;TZID=Europe/Zagreb:20260725T020000
DTSTAMP:20260403T062626Z
URL:https://photorokaj.com/events/rocklive-festival-15/
SUMMARY:ROCKLIVE FESTIVAL #15
DESCRIPTION:\nKampus / Koprivnica\n\n\n\n23. - 25. srpanj 2026.\nhttps://ph
 otorokaj.com/rocklive-festival-15-2/\n\n\n\nJubilarno 15. izdanje koprivni
 čkog RockLive Festivala najavljeno je danas objavom datuma\, prvih izvođ
 ača i početkom prodaje ulaznica!\n\n\n\nNa poznatoj lokaciji koprivničk
 og Kampusa od 23. do 25. srpnja na jednom će se mjestu ponovno okupiti 
 ponajbolji predstavnici različitih glazbenih žanrova regije.\n\n\n\nOve 
 godine pod neslužbenom krilaticom „best off” RockLive će\, kao rijed
 ak glazbeni festival ovog tipa u kontinentalnoj Hrvatskoj\, usred ljeta po
 nuditi neke od izvođača koji su u ovih 15 godina publici ostali najviše
  u sjećanju.\n\n\n\nPopis izvođača predvodi Mile Kekin\, koji uz pratn
 ju benda dolazi predstaviti nove autorske i svima dobro poznate\, nešto s
 tarije\, hitove Hladnog piva.\n\n\n\n\n\n\n\nTu je i vruća roba posljednj
 ih 365 dana\, zagrebački IDEM\, koji je prošlu godinu zaključio\, a u 
 novu ušao s čak dva novogodišnja nastupa u istoj večeri. Praćen odli
 čnim bendom u svom povratničkom RockLive nastupu garantira ludi provod u
  Koprivnici.\n\n\n\n\n\n\n\nSvima dobro poznati Mortal Kombat u Koprivni
 ci su već kao kod kuće\, a njihovi nastupi na festivalu i prostoru FUNK 
 obilježeni su brojnom publikom koja nastupe ovih metalaca nikako ne propu
 šta.\n\n\n\n\n\n\n\nZa kraj prvog popisa izvođača\, tu je Debeli Precj
 ednik\, bend kojeg publici ne treba posebno predstavljati\, jer riječ je 
 o jednom od najdugovječnijih i najpopularnijih domaćih punk bendova.\n\n
 \n\n\n\n\n\nOd danas je u prodaji i ograničen broj early bird ulaznica 
 koje vrijede za sva tri dana festivala\, a koje po cijeni od 35 eura mo
 žete kupiti na svim Entrio prodajnim mjestima i na Entrio.hr.\n\n\n\nOv
 e će ulaznice biti dostupne najkasnije do 15. veljače ili dok se ne rasp
 rodaju\, a nakon čega se festivalska cijena ulaznice podiže na 45 eura.\
 n\n\n\nDirektan link za festivalske ulaznice:\n\n\n\nRockLive 15 - ULAZNIC
 E\n\n\n\nVidimo se u Koprivnici\, na RockLive Festivalu #15!
ATTACH;FMTTYPE=image/jpeg:https://photorokaj.com/wp-content/uploads/2026/0
 1/615119604_1480098170343814_7708578168517040215_n.jpg
END:VEVENT
BEGIN:VTIMEZONE
TZID:Europe/Zagreb
X-LIC-LOCATION:Europe/Zagreb
BEGIN:DAYLIGHT
DTSTART:20260329T030000
TZOFFSETFROM:+0100
TZOFFSETTO:+0200
TZNAME:CEST
END:DAYLIGHT
END:VTIMEZONE
END:VCALENDAR