BEGIN:VCALENDAR
VERSION:2.0
PRODID:-//wp-events-plugin.com//7.2.3.1//EN
BEGIN:VEVENT
UID:1231@photorokaj.com
DTSTART;TZID=Europe/Zagreb:20260711T200000
DTEND;TZID=Europe/Zagreb:20260711T230000
DTSTAMP:20260123T065321Z
URL:https://photorokaj.com/events/rundek-ekipa-u-centru-zagreba/
SUMMARY:Rundek & Ekipa u centru Zagreba!
DESCRIPTION:\nŠRC Šalata – Zagreb // Subota 11. 07. 2026.\n\n\n\nZagreb
 \, 22. siječnja 2026. - Na 41. obljetnicu albuma „Bolero“\, u subotu 
 11. srpnja Rundek i Ekipa pojačani Damirom Pricom Caprijem i Zoranom Zaje
 com Zexom\, originalnim članovima Haustora\, dolaze na Zelenu Šalatu na 
 veliki open air koncert u srcu grada.\n\n\n\nHaustor – “Šejn”\n\n\n
 \n\nhttps://www.youtube.com/watch?v=PqrArGgzJTg&amp\;list=RDPqrArGgzJTg&am
 p\;start_radio=1\n\n\n\n\n„Na\, centru Zagreba najbližem\, zelenom oto
 čiću Medvedničkog arhipelaga - Šalati\, sviramo u čast čudesnoj razn
 olikosti života na Zemlji. Rundeku &amp\; Ekipi će se pridružiti Capri 
 (saksofon\, klavir) i Zexa (električna gitara). Nas smo trojica bili HAUS
 TOR na albumima „Bolero“ i „Tajni grad“ pa će biti pjesama s tih 
 albuma\, u originalnoj postavi\, uz\, dakako\, podršku Ekipe. Koncert na
  "Zelenoj Šalati" posvetili bumo svijetu bez šnicla - oslobađanju živo
 tinja u industrijskom uzgoju i zatvaranju svih klaonica\, uključujući i 
 ratove!“ – izjavio je Darko Rundek najavivši sljedeći susret sa zagr
 ebačkom publikom.\n\n\n\n„Bolero“\, treći studijski album grupe Haus
 tor objavljen je 1985. godine i spada među apsolutno najveća rock izdanj
 a ovih prostora\, a Haustorovu je diskografiju zaključio “Tajni grad”
 \, tri godine kasnije. Osnovu benda tada je činio trojac Rundek – Capri
  – Zexa\, onaj koji će izaći i na pozornicu Šalate. Legendarni truba
 č Igor Pavlica i tada je svirao s bendom\, a danas je stalni član uigran
 e Ekipe uz Anu Kovačić\, Silvija Bočića\, Miru Manojlovića i Roka Crn
 ića. Na tim su albumima objavljeni su klasici benda kao što su „Ena“
 \, „Šal od svile“\, „Šejn“\, „Sejmeni“\, „Bi mogo da mogu
 “\, „Ula ulala“\, „Uzalud pitaš“ Ove fantastične Haustor momen
 te\, zajedno s radovima iz svih faza njegovog djelovanja\, Darko Rundek do
 nosi na (hokejaški) stadion idealan za san ljetne noći!\n\n\n\nHaustor 
 – „Ena“\n\n\n\n\nhttps://www.youtube.com/watch?v=FmUiX2ml838&amp\;li
 st=RDFmUiX2ml838&amp\;start_radio=1\n\n\n\n\nProteklu godinu Rundek je u Z
 agrebu održao nezaboravne\, rasprodane koncerte u kinu SC i Tvornici kult
 ure\, a predstavljen je i dokumentarac „Treći svijet“ autora Arsena O
 removića.\n\n\n\nUlaznice u prodaju kreću u petak 23.1. u 10:00 kroz sus
 tav Cire Event po early bird cijeni od 27 euro koja je na snazi do 15. vel
 jače. Od 16. veljače cijena im se diže na 30 eura.\n\n\n\n&nbsp\;\n
ATTACH;FMTTYPE=image/jpeg:https://photorokaj.com/wp-content/uploads/2026/0
 1/rundek-ekipa_slata_11-07-26_laa__1640x720_FB-cover_green-scaled.jpg
END:VEVENT
BEGIN:VTIMEZONE
TZID:Europe/Zagreb
X-LIC-LOCATION:Europe/Zagreb
BEGIN:DAYLIGHT
DTSTART:20260329T030000
TZOFFSETFROM:+0100
TZOFFSETTO:+0200
TZNAME:CEST
END:DAYLIGHT
END:VTIMEZONE
END:VCALENDAR